BEGIN:VCALENDAR
VERSION:2.0
PRODID:-//katago-ev.de - ECPv6.15.0.1//NONSGML v1.0//EN
CALSCALE:GREGORIAN
METHOD:PUBLISH
X-WR-CALNAME:katago-ev.de
X-ORIGINAL-URL:https://katago-ev.de
X-WR-CALDESC:Veranstaltungen für katago-ev.de
REFRESH-INTERVAL;VALUE=DURATION:PT1H
X-Robots-Tag:noindex
X-PUBLISHED-TTL:PT1H
BEGIN:VTIMEZONE
TZID:Europe/Berlin
BEGIN:DAYLIGHT
TZOFFSETFROM:+0100
TZOFFSETTO:+0200
TZNAME:CEST
DTSTART:20260329T010000
END:DAYLIGHT
BEGIN:STANDARD
TZOFFSETFROM:+0200
TZOFFSETTO:+0100
TZNAME:CET
DTSTART:20261025T010000
END:STANDARD
END:VTIMEZONE
BEGIN:VEVENT
DTSTART;TZID=Europe/Berlin:20260425T083000
DTEND;TZID=Europe/Berlin:20260425T170000
DTSTAMP:20260425T045515
CREATED:20260405T114025Z
LAST-MODIFIED:20260405T114132Z
UID:10012087-1777105800-1777136400@katago-ev.de
SUMMARY:Bushido Franconia Rising XI
DESCRIPTION:Bitte meldet Euch hier an: \nhttps://www.longshanks.org/event/31624/ \nDies ist ein öffentliches Event zum dem auch Spieler kommen können die keine Mitglieder des Vereins sind. \nBitte beachtet\, dass es nur Mitgliedern gestattet wird eigene Getränke mitzubringen.\nAlle Anderen bedienen sich bitte an den von uns angebotenen Getränken. \nSolltet ihr noch kein Mitglied sein\, aber Interesse an unseren Events oder einer Mitgliedschaft haben\, könnt ihr gerne einen ausgefüllten Mitgliedsantrag zum entsprechenden Event mitbringen und ab da einen kostenlosen Probemonat bei uns starten. Mitgliedsanträge gibt es hier.
URL:https://katago-ev.de/event/bushido-franconia-rising-xi
LOCATION:Vereinsheim 1 (Hegelstraße 1a)\, Hegelstraße 1a\, Bamberg\, Bayern\, 96052\, Germany
CATEGORIES:Öffentliches Event,Tabletop
ATTACH;FMTTYPE=image/png:https://katago-ev.de/wp-content/uploads/2022/08/Bushido-Banner.png
END:VEVENT
BEGIN:VEVENT
DTSTART;TZID=Europe/Berlin:20260425T100000
DTEND;TZID=Europe/Berlin:20260425T150000
DTSTAMP:20260425T045515
CREATED:20260326T074801Z
LAST-MODIFIED:20260326T121324Z
UID:10012065-1777111200-1777129200@katago-ev.de
SUMMARY:Hüttendraft Nr.3 - Cubes
DESCRIPTION:Willkommen zu Draft Nr. 3 an unserem Hüttenwochenende. Es handelt sich um eine geschlossene Veranstaltung. Teilnahme ist nur nach vorheriger Absprache möglich. Für Rückfragen und die genaue Korrdination tretet bitte unserer Whatsappgruppe bei. (Ansprechperson: C.Schneider) \nWo?  \nVilla Sonnenschein\, Hauptstraße 3\, Rauhenebrach \nWann? \nSa 25.4. um ca. 14 Uhr \nFormat? \nEs werden zwei Cubes angeboten. Welche genau werden wir noch abstimmen! \nFolgende stehen zur Auswahl: \nUrzs Saga\, Mercadian Masques\, Invasion\, Odyssey\, Lorwyn\, Unstable\, Vintage Cube \n 
URL:https://katago-ev.de/event/huettendraft-nr-3-cubes
LOCATION:Hütte
END:VEVENT
BEGIN:VEVENT
DTSTART;TZID=Europe/Berlin:20260425T120000
DTEND;TZID=Europe/Berlin:20260425T190000
DTSTAMP:20260425T045515
CREATED:20260112T183158Z
LAST-MODIFIED:20260112T183159Z
UID:10010980-1777118400-1777143600@katago-ev.de
SUMMARY:Age of Sigmar Stammtisch
DESCRIPTION:Willkommen zum Warhammer Age of Sigmar Stammtisch bei uns im KaTaGO e.V. \nZweimal im Monat sind alle Spieler und Interessierten herzlich eingeladen an unseren öffentlichen Age of Sigmar-Abenden teilzunehmen.\nWir bringen euch gerne das Spiel näher\, testen Armee-Listen und tauschen uns über Strategien aus.\nAlso kommt gerne vorbei\, schaut euch um oder spielt einfach mit! \nDer Spieleabend ist ein öffentliches Event und sowohl für Mitglieder als auch für Nichtmitglieder offen.\nEr kann auch als erste Anlaufstelle dienen um sich den Verein anzuschauen und Infos zum Verein einzuholen. ageofsigmar@katago-ev.de \nBitte beachtet\, dass es nur Mitgliedern gestattet wird eigene Getränke mitzubringen.\nAlle Anderen bedienen sich bitte an den von uns angebotenen Getränken. \nSolltet ihr noch kein Mitglied sein\, aber Interesse an unseren Events oder einer Mitgliedschaft haben\, könnt ihr gerne einen ausgefüllten Mitgliedsantrag zum entsprechenden Event mitbringen und ab da einen kostenlosen Probemonat (Kalendermonat) bei uns starten. Mitgliedsanträge gibt es hier. \nFragen an: ageofsigmar@katago-ev.de 
URL:https://katago-ev.de/event/age-of-sigmar-stammtisch-5-2
LOCATION:Vereinsheim 2 (Hegelstraße 11a)\, Hegelstraße 11a\, Bamberg\, Bayern\, 96052\, Germany
CATEGORIES:Age of Sigmar,Fantasy,Tabletop
ATTACH;FMTTYPE=image/jpeg:https://katago-ev.de/wp-content/uploads/2023/01/20230109_164454-e1682339313687.jpg
END:VEVENT
BEGIN:VEVENT
DTSTART;TZID=Europe/Berlin:20260425T130000
DTEND;TZID=Europe/Berlin:20260425T190000
DTSTAMP:20260425T045515
CREATED:20260125T194046Z
LAST-MODIFIED:20260125T194046Z
UID:10011406-1777122000-1777143600@katago-ev.de
SUMMARY:40K Stammtisch
DESCRIPTION:Herzlich willkommen zum 40K spielen. Bei der Gelegenheit besprechen wir bezüglich einer Liga oder weiterer Stammtische. \nDies ist ein öffentliches Event\, zum dem auch Spieler kommen können\, die keine Mitglieder des Vereins sind. \nBitte beachtet\, dass es nur Mitgliedern gestattet wird eigene Getränke mitzubringen.\nAlle Anderen bedienen sich bitte an den von uns angebotenen Getränken. (2€ pro Getränk) \nSolltet ihr noch kein Mitglied sein\, aber Interesse an unseren Events oder einer Mitgliedschaft haben\, könnt ihr gerne einen ausgefüllten Mitgliedsantrag zum entsprechenden Event mitbringen und ab da einen kostenlosen Probemonat bei uns starten. Mitgliedsanträge gibt es hier.
URL:https://katago-ev.de/event/40k-stammtisch-4
LOCATION:Vereinsheim 1 (Hegelstraße 1a)\, Hegelstraße 1a\, Bamberg\, Bayern\, 96052\, Germany
CATEGORIES:Tabletop,Warhammer 40k
ATTACH;FMTTYPE=image/jpeg:https://katago-ev.de/wp-content/uploads/2022/10/Warhammer-40K-Logo2-scaled.jpg
END:VEVENT
BEGIN:VEVENT
DTSTART;TZID=Europe/Berlin:20260425T140000
DTEND;TZID=Europe/Berlin:20260425T150000
DTSTAMP:20260425T045515
CREATED:20260326T075348Z
LAST-MODIFIED:20260326T115303Z
UID:10012066-1777125600-1777129200@katago-ev.de
SUMMARY:Hüttendraft Nr.4 - Club Championship Lorwyn Eclipsed
DESCRIPTION:Willkommen zu Draft Nr. 4 an unserem Hüttenwochenende. Es handelt sich um eine geschlossene Veranstaltung. Teilnahme ist nur nach vorheriger Absprache möglich. Für Rückfragen und die genaue Korrdination tretet bitte unserer Whatsappgruppe bei. (Ansprechperson: C.Schneider) \nWo?  \nVilla Sonnenschein\, Hauptstraße 3\, Rauhenebrach \nWann? \nSa 25.4. um ca. 14 Uhr \nFormat? \nLorwyn Eclipsed Draft mit zusätzlichem Preispool \n 
URL:https://katago-ev.de/event/huettendraft-nr-3-club-championship-lorwyn-eclipsed
LOCATION:Hütte
END:VEVENT
BEGIN:VEVENT
DTSTART;TZID=Europe/Berlin:20260425T190000
DTEND;TZID=Europe/Berlin:20260425T230000
DTSTAMP:20260425T045515
CREATED:20260302T074842Z
LAST-MODIFIED:20260302T074842Z
UID:10011795-1777143600-1777158000@katago-ev.de
SUMMARY:Dungeons and Dragons: HOARD OF THE DRAGON QUEEN-Kampagne
DESCRIPTION:Geschlossenes Event
URL:https://katago-ev.de/event/dungeons-and-dragons-hoard-of-the-dragon-queen-kampagne/2026-04-25
LOCATION:Vereinsheim 1 – Keller (Hegelstraße 1a)\, Hegelstraße 1a\, Bamberg\, Bayern\, 96052\, Germany
CATEGORIES:Dungeons & Dragons,Fantasy,Geschlossenes Event,Kampagne,Rollenspiel
ATTACH;FMTTYPE=image/jpeg:https://katago-ev.de/wp-content/uploads/2026/03/Screenshot_20260302_084157_com_android_chrome_ChromeTabbedActivity_edit_129143647407349.jpg
END:VEVENT
BEGIN:VEVENT
DTSTART;TZID=Europe/Berlin:20260425T200000
DTEND;TZID=Europe/Berlin:20260425T233000
DTSTAMP:20260425T045515
CREATED:20260326T075939Z
LAST-MODIFIED:20260326T075939Z
UID:10012067-1777147200-1777159800@katago-ev.de
SUMMARY:Hüttendraft Nr.5 - Chaos Draft
DESCRIPTION:Willkommen zu Draft Nr. 5 an unserem Hüttenwochenende. Es handelt sich um eine geschlossene Veranstaltung. Teilnahme ist nur nach vorheriger Absprache möglich. Für Rückfragen und die genaue Korrdination tretet bitte unserer Whatsappgruppe bei. (Ansprechperson: C.Schneider) \nWo?  \nVilla Sonnenschein\, Hauptstraße 3\, Rauhenebrach \nWann? \nSa 25.4. um ca. 20 Uhr \nFormat? \nChaos Draft (pay what you pick) \n  \n 
URL:https://katago-ev.de/event/huettendraft-nr-5-chaos-draft
LOCATION:Hütte
END:VEVENT
END:VCALENDAR