BEGIN:VCALENDAR
VERSION:2.0
PRODID:-//katago-ev.de - ECPv6.15.0.1//NONSGML v1.0//EN
CALSCALE:GREGORIAN
METHOD:PUBLISH
X-ORIGINAL-URL:https://katago-ev.de
X-WR-CALDESC:Veranstaltungen für katago-ev.de
REFRESH-INTERVAL;VALUE=DURATION:PT1H
X-Robots-Tag:noindex
X-PUBLISHED-TTL:PT1H
BEGIN:VTIMEZONE
TZID:Europe/Berlin
BEGIN:DAYLIGHT
TZOFFSETFROM:+0100
TZOFFSETTO:+0200
TZNAME:CEST
DTSTART:20240331T010000
END:DAYLIGHT
BEGIN:STANDARD
TZOFFSETFROM:+0200
TZOFFSETTO:+0100
TZNAME:CET
DTSTART:20241027T010000
END:STANDARD
END:VTIMEZONE
BEGIN:VEVENT
DTSTART;TZID=Europe/Berlin:20240401T110000
DTEND;TZID=Europe/Berlin:20240401T170000
DTSTAMP:20260425T034601
CREATED:20240220T123849Z
LAST-MODIFIED:20240303T105653Z
UID:10005150-1711969200-1711990800@katago-ev.de
SUMMARY:Ostermontag Legacy Event
DESCRIPTION:Für das Event dürft ihr Proxies spielen\, wenn diese in Farbe\, guter Qualität\, Normalgröße und einem MTG-Artwork gedruckt sind\, um das Spielgeschehen möglichst wenig zu beeinflussen. \nUm besser abschätzen zu können\, wie viele von euch kommen und Preise organisieren zu können würden wir euch bitten euch hier für das Event anzumelden. \nEventdetails: \nAnmeldung:      10.30 Uhr\nStart Runde 1:   11.00 Uhr \nTurnier: Schweizer System \nTeilnahmegebühr: 10€ \nPreise: Kartenpreise (100% Preisausschüttung) \n  \nBitte beachtet\, dass es nur Mitgliedern gestattet wird eigene Getränke mitzubringen.\nAlle Anderen bedienen sich bitte an den von uns angebotenen Getränken. (2€ pro Getränk im Kühlschrank) \nSolltet ihr noch kein Mitglied sein\, aber Interesse an unseren Events oder einer Mitgliedschaft haben\, könnt ihr gerne einen ausgefüllten Mitgliedsantrag zum entsprechenden Event mitbringen und ab da einen kostenlosen Probemonat bei uns starten. Mitgliedsanträge gibt es hier.
URL:https://katago-ev.de/event/oster-legacy-event
LOCATION:Vereinsheim 1 – Hauptraum (Hegelstraße 1a)\, Hegelstraße 1a\, Bamberg\, Bayern\, 96052\, Germany
ATTACH;FMTTYPE=image/png:https://katago-ev.de/wp-content/uploads/2022/09/Legacy.png
END:VEVENT
BEGIN:VEVENT
DTSTART;TZID=Europe/Berlin:20240420T090000
DTEND;TZID=Europe/Berlin:20240420T150000
DTSTAMP:20260425T034601
CREATED:20240306T133319Z
LAST-MODIFIED:20240415T212637Z
UID:10005199-1713603600-1713625200@katago-ev.de
SUMMARY:Yu-Gi-Oh! Sneak "LEGACY OF DESTRUCTION"
DESCRIPTION:Es wird wieder Zeit für ein Duell!\nDie Fabis laden ein also kommt vorbei und lasst uns zusammen die neuen Karten testen. \nDie Plätze sind auf 40 limitiert also anmelden!! \nDies ist ein öffentliches Event zu dem auch Spieler kommen können die kein Mitglied des Vereins sind.\nBitte beachtet\, dass es nur Mitgliedern gestattet wird eigene Getränke mitzubringen.\nAlle anderen bedienen sich bitte an den von uns angebotenen Getränken. \nEventdetails: \nAnmeldung: 09:00 – 09:45 Uhr \nStart der 1. Runde: 10:00 \nFormat: Sneak \nStartgeld: 20€ p.P \nPreise: 1. Platz-> Matte + Promokarte \n2. Platz-> Promokarte \nWir freuen uns auf euch!
URL:https://katago-ev.de/event/yu-gi-oh-sneak-legacy-of-destruction
LOCATION:Vereinsheim 1 – Hauptraum (Hegelstraße 1a)\, Hegelstraße 1a\, Bamberg\, Bayern\, 96052\, Germany
CATEGORIES:Kartenspiele,Sneak,Yu-Gi-Oh!
END:VEVENT
END:VCALENDAR