BEGIN:VCALENDAR
VERSION:2.0
PRODID:-//katago-ev.de - ECPv6.15.0.1//NONSGML v1.0//EN
CALSCALE:GREGORIAN
METHOD:PUBLISH
X-WR-CALNAME:katago-ev.de
X-ORIGINAL-URL:https://katago-ev.de
X-WR-CALDESC:Veranstaltungen für katago-ev.de
REFRESH-INTERVAL;VALUE=DURATION:PT1H
X-Robots-Tag:noindex
X-PUBLISHED-TTL:PT1H
BEGIN:VTIMEZONE
TZID:Europe/Berlin
BEGIN:DAYLIGHT
TZOFFSETFROM:+0100
TZOFFSETTO:+0200
TZNAME:CEST
DTSTART:20240331T010000
END:DAYLIGHT
BEGIN:STANDARD
TZOFFSETFROM:+0200
TZOFFSETTO:+0100
TZNAME:CET
DTSTART:20241027T010000
END:STANDARD
END:VTIMEZONE
BEGIN:VEVENT
DTSTART;TZID=Europe/Berlin:20241010T190000
DTEND;TZID=Europe/Berlin:20241010T220000
DTSTAMP:20260422T005840
CREATED:20240921T100351Z
LAST-MODIFIED:20240921T104505Z
UID:10007350-1728586800-1728597600@katago-ev.de
SUMMARY:Kill Team Edition 3 Start Event
DESCRIPTION:*Kill Team Edition 3 Start Event“ \nDies ist ein öffentliches Event\, zum dem auch Spieler kommen können\, die keine Mitglieder des Vereins sind. \nAm 5. Oktober kommt die neue Edition von Kill Team raus\, welche jetzt gegenüber der 2. Edition stehen einige sehr sinnvollen Verbesserungen mit sich bringt. Dabei wurde nur an bestimmten Stellen geschraubt\, sodass sich Veteranen direkt heimisch fühlen und der Einstieg für Neulinge noch besser gelingen wird. \nWenn ihr noch keine Figuren oder Gelände habt\, haben wir auch einige Teams und Gelände da\, sodass ihr trotzdem spielen könnt. Kommt gerne vorbei\, auch wenn ihr euch das ganze erstmal nur anschauen wollt. Ich selber halten es für eines der besten Systeme\, um ins Tabletop Hobby einzusteigen. \nJe nach Andrang soll sich aus diesem ersten Event ein regelmäßiger Kill Team Stammtisch entwickeln. Auch wenn ihr keine Zeit habt\, aber Grundsätzlich Interesse habt\, meldet euch gerne unter 40k@katago-ev.de
URL:https://katago-ev.de/event/kill-team-edition-3-start-event
LOCATION:Vereinsheim 1 – Hauptraum (Hegelstraße 1a)\, Hegelstraße 1a\, Bamberg\, Bayern\, 96052\, Germany
CATEGORIES:Kill Team
ATTACH;FMTTYPE=image/jpeg:https://katago-ev.de/wp-content/uploads/2024/09/Kill-Team-Logo.jpg
END:VEVENT
END:VCALENDAR