BEGIN:VCALENDAR
VERSION:2.0
PRODID:-//katago-ev.de - ECPv6.15.0.1//NONSGML v1.0//EN
CALSCALE:GREGORIAN
METHOD:PUBLISH
X-ORIGINAL-URL:https://katago-ev.de
X-WR-CALDESC:Veranstaltungen für katago-ev.de
REFRESH-INTERVAL;VALUE=DURATION:PT1H
X-Robots-Tag:noindex
X-PUBLISHED-TTL:PT1H
BEGIN:VTIMEZONE
TZID:Europe/Berlin
BEGIN:DAYLIGHT
TZOFFSETFROM:+0100
TZOFFSETTO:+0200
TZNAME:CEST
DTSTART:20220327T010000
END:DAYLIGHT
BEGIN:STANDARD
TZOFFSETFROM:+0200
TZOFFSETTO:+0100
TZNAME:CET
DTSTART:20221030T010000
END:STANDARD
BEGIN:DAYLIGHT
TZOFFSETFROM:+0100
TZOFFSETTO:+0200
TZNAME:CEST
DTSTART:20230326T010000
END:DAYLIGHT
BEGIN:STANDARD
TZOFFSETFROM:+0200
TZOFFSETTO:+0100
TZNAME:CET
DTSTART:20231029T010000
END:STANDARD
BEGIN:DAYLIGHT
TZOFFSETFROM:+0100
TZOFFSETTO:+0200
TZNAME:CEST
DTSTART:20240331T010000
END:DAYLIGHT
BEGIN:STANDARD
TZOFFSETFROM:+0200
TZOFFSETTO:+0100
TZNAME:CET
DTSTART:20241027T010000
END:STANDARD
END:VTIMEZONE
BEGIN:VEVENT
DTSTART;TZID=Europe/Berlin:20241016T190000
DTEND;TZID=Europe/Berlin:20241016T223000
DTSTAMP:20260422T040513
CREATED:20240216T225538Z
LAST-MODIFIED:20240216T225538Z
UID:10005037-1729105200-1729117800@katago-ev.de
SUMMARY:Open Night: Brettspiele Abend
DESCRIPTION:Herzlich willkommen zu unseren Open Night Events im KaTaGO e.V. \nDies ist ein offener Spiele Abend an dem wir in unser kleines KaTaGO-Vereinsheim einladen um mit euch Gesellschaftsspiele zu spielen.\nEs geht vor allem um Kommunikation in der Gruppe und gemeinsam Zeit zu verbringen. Ob Strategie\, Worker Placement\, kooperative\, klassische Spiele alles ist gerne gesehen. Wenn ihr ein Lieblingsspiel habt\, bringt dieses gerne mit.\nZiel des Abends ist nicht als Gewinner dazustehen\, sondern eine entspannte Zeit zusammen zu verbringen. \nEs sind alle eingeladen an dem Abend teilzunehmen. \nDies ist ein öffentliches Event und sowohl für Mitglieder als auch für Nichtmitglieder offen. Er kann auch als erste Anlaufstelle dienen um sich den Verein anzuschauen und erste Infos zum Verein einzuholen.\nEine Anmeldung ist nicht zwingend notwendig oder verbindlich\, hilft uns jedoch sehr bei der Planung. Außerdem können wir euch so informieren falls eine Veranstaltung doch mal ausfällt. \nBitte beachtet\, dass es nur Mitgliedern gestattet wird eigene Getränke mitzubringen.\nAlle Anderen bedienen sich bitte an den von uns angebotenen Getränken. (2€ pro Getränk im Kühlschrank) Eine Auswahl an Snacks haben wir für euch auch da. \nSolltet ihr noch kein Mitglied sein\, aber Interesse an unseren Events oder einer Mitgliedschaft haben. Könnt ihr gerne einen Mitgliedsantrag online ausfüllen\, mit einem kostenlosem Probemonat startet ihr bei uns. Mitgliedsanträge gibt es hier
URL:https://katago-ev.de/event/open-night-brettspiele-abend/2024-10-16
LOCATION:Vereinsheim 1 – Hauptraum (Hegelstraße 1a)\, Hegelstraße 1a\, Bamberg\, Bayern\, 96052\, Germany
CATEGORIES:Brettspiele,Gesellschaftsspiele,KaTaGO Spieleabend,Open Night
ATTACH;FMTTYPE=image/webp:https://katago-ev.de/wp-content/uploads/2024/02/board-games-kr-2x1-tease-200616.webp
ORGANIZER;CN="Vorstand":MAILTO:Vorstand@mtgo-ev.de
END:VEVENT
BEGIN:VEVENT
DTSTART;TZID=Europe/Berlin:20240918T190000
DTEND;TZID=Europe/Berlin:20240918T223000
DTSTAMP:20260422T040513
CREATED:20240216T225538Z
LAST-MODIFIED:20240216T225538Z
UID:10005036-1726686000-1726698600@katago-ev.de
SUMMARY:Open Night: Brettspiele Abend
DESCRIPTION:Herzlich willkommen zu unseren Open Night Events im KaTaGO e.V. \nDies ist ein offener Spiele Abend an dem wir in unser kleines KaTaGO-Vereinsheim einladen um mit euch Gesellschaftsspiele zu spielen.\nEs geht vor allem um Kommunikation in der Gruppe und gemeinsam Zeit zu verbringen. Ob Strategie\, Worker Placement\, kooperative\, klassische Spiele alles ist gerne gesehen. Wenn ihr ein Lieblingsspiel habt\, bringt dieses gerne mit.\nZiel des Abends ist nicht als Gewinner dazustehen\, sondern eine entspannte Zeit zusammen zu verbringen. \nEs sind alle eingeladen an dem Abend teilzunehmen. \nDies ist ein öffentliches Event und sowohl für Mitglieder als auch für Nichtmitglieder offen. Er kann auch als erste Anlaufstelle dienen um sich den Verein anzuschauen und erste Infos zum Verein einzuholen.\nEine Anmeldung ist nicht zwingend notwendig oder verbindlich\, hilft uns jedoch sehr bei der Planung. Außerdem können wir euch so informieren falls eine Veranstaltung doch mal ausfällt. \nBitte beachtet\, dass es nur Mitgliedern gestattet wird eigene Getränke mitzubringen.\nAlle Anderen bedienen sich bitte an den von uns angebotenen Getränken. (2€ pro Getränk im Kühlschrank) Eine Auswahl an Snacks haben wir für euch auch da. \nSolltet ihr noch kein Mitglied sein\, aber Interesse an unseren Events oder einer Mitgliedschaft haben. Könnt ihr gerne einen Mitgliedsantrag online ausfüllen\, mit einem kostenlosem Probemonat startet ihr bei uns. Mitgliedsanträge gibt es hier
URL:https://katago-ev.de/event/open-night-brettspiele-abend/2024-09-18
LOCATION:Vereinsheim 1 – Hauptraum (Hegelstraße 1a)\, Hegelstraße 1a\, Bamberg\, Bayern\, 96052\, Germany
CATEGORIES:Brettspiele,Gesellschaftsspiele,KaTaGO Spieleabend,Open Night
ATTACH;FMTTYPE=image/webp:https://katago-ev.de/wp-content/uploads/2024/02/board-games-kr-2x1-tease-200616.webp
ORGANIZER;CN="Vorstand":MAILTO:Vorstand@mtgo-ev.de
END:VEVENT
BEGIN:VEVENT
DTSTART;TZID=Europe/Berlin:20240821T190000
DTEND;TZID=Europe/Berlin:20240821T223000
DTSTAMP:20260422T040513
CREATED:20240216T225538Z
LAST-MODIFIED:20240216T225538Z
UID:10005035-1724266800-1724279400@katago-ev.de
SUMMARY:Open Night: Brettspiele Abend
DESCRIPTION:Herzlich willkommen zu unseren Open Night Events im KaTaGO e.V. \nDies ist ein offener Spiele Abend an dem wir in unser kleines KaTaGO-Vereinsheim einladen um mit euch Gesellschaftsspiele zu spielen.\nEs geht vor allem um Kommunikation in der Gruppe und gemeinsam Zeit zu verbringen. Ob Strategie\, Worker Placement\, kooperative\, klassische Spiele alles ist gerne gesehen. Wenn ihr ein Lieblingsspiel habt\, bringt dieses gerne mit.\nZiel des Abends ist nicht als Gewinner dazustehen\, sondern eine entspannte Zeit zusammen zu verbringen. \nEs sind alle eingeladen an dem Abend teilzunehmen. \nDies ist ein öffentliches Event und sowohl für Mitglieder als auch für Nichtmitglieder offen. Er kann auch als erste Anlaufstelle dienen um sich den Verein anzuschauen und erste Infos zum Verein einzuholen.\nEine Anmeldung ist nicht zwingend notwendig oder verbindlich\, hilft uns jedoch sehr bei der Planung. Außerdem können wir euch so informieren falls eine Veranstaltung doch mal ausfällt. \nBitte beachtet\, dass es nur Mitgliedern gestattet wird eigene Getränke mitzubringen.\nAlle Anderen bedienen sich bitte an den von uns angebotenen Getränken. (2€ pro Getränk im Kühlschrank) Eine Auswahl an Snacks haben wir für euch auch da. \nSolltet ihr noch kein Mitglied sein\, aber Interesse an unseren Events oder einer Mitgliedschaft haben. Könnt ihr gerne einen Mitgliedsantrag online ausfüllen\, mit einem kostenlosem Probemonat startet ihr bei uns. Mitgliedsanträge gibt es hier
URL:https://katago-ev.de/event/open-night-brettspiele-abend/2024-08-21
LOCATION:Vereinsheim 1 – Hauptraum (Hegelstraße 1a)\, Hegelstraße 1a\, Bamberg\, Bayern\, 96052\, Germany
CATEGORIES:Brettspiele,Gesellschaftsspiele,KaTaGO Spieleabend,Open Night
ATTACH;FMTTYPE=image/webp:https://katago-ev.de/wp-content/uploads/2024/02/board-games-kr-2x1-tease-200616.webp
ORGANIZER;CN="Vorstand":MAILTO:Vorstand@mtgo-ev.de
END:VEVENT
BEGIN:VEVENT
DTSTART;TZID=Europe/Berlin:20240717T190000
DTEND;TZID=Europe/Berlin:20240717T223000
DTSTAMP:20260422T040513
CREATED:20240216T225538Z
LAST-MODIFIED:20240216T225538Z
UID:10005034-1721242800-1721255400@katago-ev.de
SUMMARY:Open Night: Brettspiele Abend
DESCRIPTION:Herzlich willkommen zu unseren Open Night Events im KaTaGO e.V. \nDies ist ein offener Spiele Abend an dem wir in unser kleines KaTaGO-Vereinsheim einladen um mit euch Gesellschaftsspiele zu spielen.\nEs geht vor allem um Kommunikation in der Gruppe und gemeinsam Zeit zu verbringen. Ob Strategie\, Worker Placement\, kooperative\, klassische Spiele alles ist gerne gesehen. Wenn ihr ein Lieblingsspiel habt\, bringt dieses gerne mit.\nZiel des Abends ist nicht als Gewinner dazustehen\, sondern eine entspannte Zeit zusammen zu verbringen. \nEs sind alle eingeladen an dem Abend teilzunehmen. \nDies ist ein öffentliches Event und sowohl für Mitglieder als auch für Nichtmitglieder offen. Er kann auch als erste Anlaufstelle dienen um sich den Verein anzuschauen und erste Infos zum Verein einzuholen.\nEine Anmeldung ist nicht zwingend notwendig oder verbindlich\, hilft uns jedoch sehr bei der Planung. Außerdem können wir euch so informieren falls eine Veranstaltung doch mal ausfällt. \nBitte beachtet\, dass es nur Mitgliedern gestattet wird eigene Getränke mitzubringen.\nAlle Anderen bedienen sich bitte an den von uns angebotenen Getränken. (2€ pro Getränk im Kühlschrank) Eine Auswahl an Snacks haben wir für euch auch da. \nSolltet ihr noch kein Mitglied sein\, aber Interesse an unseren Events oder einer Mitgliedschaft haben. Könnt ihr gerne einen Mitgliedsantrag online ausfüllen\, mit einem kostenlosem Probemonat startet ihr bei uns. Mitgliedsanträge gibt es hier
URL:https://katago-ev.de/event/open-night-brettspiele-abend/2024-07-17
LOCATION:Vereinsheim 1 – Hauptraum (Hegelstraße 1a)\, Hegelstraße 1a\, Bamberg\, Bayern\, 96052\, Germany
CATEGORIES:Brettspiele,Gesellschaftsspiele,KaTaGO Spieleabend,Open Night
ATTACH;FMTTYPE=image/webp:https://katago-ev.de/wp-content/uploads/2024/02/board-games-kr-2x1-tease-200616.webp
ORGANIZER;CN="Vorstand":MAILTO:Vorstand@mtgo-ev.de
END:VEVENT
BEGIN:VEVENT
DTSTART;TZID=Europe/Berlin:20240619T190000
DTEND;TZID=Europe/Berlin:20240619T223000
DTSTAMP:20260422T040513
CREATED:20240216T225538Z
LAST-MODIFIED:20240216T225538Z
UID:10005033-1718823600-1718836200@katago-ev.de
SUMMARY:Open Night: Brettspiele Abend
DESCRIPTION:Herzlich willkommen zu unseren Open Night Events im KaTaGO e.V. \nDies ist ein offener Spiele Abend an dem wir in unser kleines KaTaGO-Vereinsheim einladen um mit euch Gesellschaftsspiele zu spielen.\nEs geht vor allem um Kommunikation in der Gruppe und gemeinsam Zeit zu verbringen. Ob Strategie\, Worker Placement\, kooperative\, klassische Spiele alles ist gerne gesehen. Wenn ihr ein Lieblingsspiel habt\, bringt dieses gerne mit.\nZiel des Abends ist nicht als Gewinner dazustehen\, sondern eine entspannte Zeit zusammen zu verbringen. \nEs sind alle eingeladen an dem Abend teilzunehmen. \nDies ist ein öffentliches Event und sowohl für Mitglieder als auch für Nichtmitglieder offen. Er kann auch als erste Anlaufstelle dienen um sich den Verein anzuschauen und erste Infos zum Verein einzuholen.\nEine Anmeldung ist nicht zwingend notwendig oder verbindlich\, hilft uns jedoch sehr bei der Planung. Außerdem können wir euch so informieren falls eine Veranstaltung doch mal ausfällt. \nBitte beachtet\, dass es nur Mitgliedern gestattet wird eigene Getränke mitzubringen.\nAlle Anderen bedienen sich bitte an den von uns angebotenen Getränken. (2€ pro Getränk im Kühlschrank) Eine Auswahl an Snacks haben wir für euch auch da. \nSolltet ihr noch kein Mitglied sein\, aber Interesse an unseren Events oder einer Mitgliedschaft haben. Könnt ihr gerne einen Mitgliedsantrag online ausfüllen\, mit einem kostenlosem Probemonat startet ihr bei uns. Mitgliedsanträge gibt es hier
URL:https://katago-ev.de/event/open-night-brettspiele-abend/2024-06-19
LOCATION:Vereinsheim 1 – Hauptraum (Hegelstraße 1a)\, Hegelstraße 1a\, Bamberg\, Bayern\, 96052\, Germany
CATEGORIES:Brettspiele,Gesellschaftsspiele,KaTaGO Spieleabend,Open Night
ATTACH;FMTTYPE=image/webp:https://katago-ev.de/wp-content/uploads/2024/02/board-games-kr-2x1-tease-200616.webp
ORGANIZER;CN="Vorstand":MAILTO:Vorstand@mtgo-ev.de
END:VEVENT
BEGIN:VEVENT
DTSTART;TZID=Europe/Berlin:20240515T190000
DTEND;TZID=Europe/Berlin:20240515T223000
DTSTAMP:20260422T040513
CREATED:20240216T225538Z
LAST-MODIFIED:20240216T225538Z
UID:10005032-1715799600-1715812200@katago-ev.de
SUMMARY:Open Night: Brettspiele Abend
DESCRIPTION:Herzlich willkommen zu unseren Open Night Events im KaTaGO e.V. \nDies ist ein offener Spiele Abend an dem wir in unser kleines KaTaGO-Vereinsheim einladen um mit euch Gesellschaftsspiele zu spielen.\nEs geht vor allem um Kommunikation in der Gruppe und gemeinsam Zeit zu verbringen. Ob Strategie\, Worker Placement\, kooperative\, klassische Spiele alles ist gerne gesehen. Wenn ihr ein Lieblingsspiel habt\, bringt dieses gerne mit.\nZiel des Abends ist nicht als Gewinner dazustehen\, sondern eine entspannte Zeit zusammen zu verbringen. \nEs sind alle eingeladen an dem Abend teilzunehmen. \nDies ist ein öffentliches Event und sowohl für Mitglieder als auch für Nichtmitglieder offen. Er kann auch als erste Anlaufstelle dienen um sich den Verein anzuschauen und erste Infos zum Verein einzuholen.\nEine Anmeldung ist nicht zwingend notwendig oder verbindlich\, hilft uns jedoch sehr bei der Planung. Außerdem können wir euch so informieren falls eine Veranstaltung doch mal ausfällt. \nBitte beachtet\, dass es nur Mitgliedern gestattet wird eigene Getränke mitzubringen.\nAlle Anderen bedienen sich bitte an den von uns angebotenen Getränken. (2€ pro Getränk im Kühlschrank) Eine Auswahl an Snacks haben wir für euch auch da. \nSolltet ihr noch kein Mitglied sein\, aber Interesse an unseren Events oder einer Mitgliedschaft haben. Könnt ihr gerne einen Mitgliedsantrag online ausfüllen\, mit einem kostenlosem Probemonat startet ihr bei uns. Mitgliedsanträge gibt es hier
URL:https://katago-ev.de/event/open-night-brettspiele-abend/2024-05-15
LOCATION:Vereinsheim 1 – Hauptraum (Hegelstraße 1a)\, Hegelstraße 1a\, Bamberg\, Bayern\, 96052\, Germany
CATEGORIES:Brettspiele,Gesellschaftsspiele,KaTaGO Spieleabend,Open Night
ATTACH;FMTTYPE=image/webp:https://katago-ev.de/wp-content/uploads/2024/02/board-games-kr-2x1-tease-200616.webp
ORGANIZER;CN="Vorstand":MAILTO:Vorstand@mtgo-ev.de
END:VEVENT
BEGIN:VEVENT
DTSTART;TZID=Europe/Berlin:20240417T190000
DTEND;TZID=Europe/Berlin:20240417T223000
DTSTAMP:20260422T040513
CREATED:20240216T225538Z
LAST-MODIFIED:20240216T225538Z
UID:10005031-1713380400-1713393000@katago-ev.de
SUMMARY:Open Night: Brettspiele Abend
DESCRIPTION:Herzlich willkommen zu unseren Open Night Events im KaTaGO e.V. \nDies ist ein offener Spiele Abend an dem wir in unser kleines KaTaGO-Vereinsheim einladen um mit euch Gesellschaftsspiele zu spielen.\nEs geht vor allem um Kommunikation in der Gruppe und gemeinsam Zeit zu verbringen. Ob Strategie\, Worker Placement\, kooperative\, klassische Spiele alles ist gerne gesehen. Wenn ihr ein Lieblingsspiel habt\, bringt dieses gerne mit.\nZiel des Abends ist nicht als Gewinner dazustehen\, sondern eine entspannte Zeit zusammen zu verbringen. \nEs sind alle eingeladen an dem Abend teilzunehmen. \nDies ist ein öffentliches Event und sowohl für Mitglieder als auch für Nichtmitglieder offen. Er kann auch als erste Anlaufstelle dienen um sich den Verein anzuschauen und erste Infos zum Verein einzuholen.\nEine Anmeldung ist nicht zwingend notwendig oder verbindlich\, hilft uns jedoch sehr bei der Planung. Außerdem können wir euch so informieren falls eine Veranstaltung doch mal ausfällt. \nBitte beachtet\, dass es nur Mitgliedern gestattet wird eigene Getränke mitzubringen.\nAlle Anderen bedienen sich bitte an den von uns angebotenen Getränken. (2€ pro Getränk im Kühlschrank) Eine Auswahl an Snacks haben wir für euch auch da. \nSolltet ihr noch kein Mitglied sein\, aber Interesse an unseren Events oder einer Mitgliedschaft haben. Könnt ihr gerne einen Mitgliedsantrag online ausfüllen\, mit einem kostenlosem Probemonat startet ihr bei uns. Mitgliedsanträge gibt es hier
URL:https://katago-ev.de/event/open-night-brettspiele-abend/2024-04-17
LOCATION:Vereinsheim 1 – Hauptraum (Hegelstraße 1a)\, Hegelstraße 1a\, Bamberg\, Bayern\, 96052\, Germany
CATEGORIES:Brettspiele,Gesellschaftsspiele,KaTaGO Spieleabend,Open Night
ATTACH;FMTTYPE=image/webp:https://katago-ev.de/wp-content/uploads/2024/02/board-games-kr-2x1-tease-200616.webp
ORGANIZER;CN="Vorstand":MAILTO:Vorstand@mtgo-ev.de
END:VEVENT
BEGIN:VEVENT
DTSTART;TZID=Europe/Berlin:20240320T190000
DTEND;TZID=Europe/Berlin:20240320T223000
DTSTAMP:20260422T040513
CREATED:20240216T225538Z
LAST-MODIFIED:20240216T225538Z
UID:10005149-1710961200-1710973800@katago-ev.de
SUMMARY:Open Night: Brettspiele Abend
DESCRIPTION:Herzlich willkommen zu unseren Open Night Events im KaTaGO e.V. \nDies ist ein offener Spiele Abend an dem wir in unser kleines KaTaGO-Vereinsheim einladen um mit euch Gesellschaftsspiele zu spielen.\nEs geht vor allem um Kommunikation in der Gruppe und gemeinsam Zeit zu verbringen. Ob Strategie\, Worker Placement\, kooperative\, klassische Spiele alles ist gerne gesehen. Wenn ihr ein Lieblingsspiel habt\, bringt dieses gerne mit.\nZiel des Abends ist nicht als Gewinner dazustehen\, sondern eine entspannte Zeit zusammen zu verbringen. \nEs sind alle eingeladen an dem Abend teilzunehmen. \nDies ist ein öffentliches Event und sowohl für Mitglieder als auch für Nichtmitglieder offen. Er kann auch als erste Anlaufstelle dienen um sich den Verein anzuschauen und erste Infos zum Verein einzuholen.\nEine Anmeldung ist nicht zwingend notwendig oder verbindlich\, hilft uns jedoch sehr bei der Planung. Außerdem können wir euch so informieren falls eine Veranstaltung doch mal ausfällt. \nBitte beachtet\, dass es nur Mitgliedern gestattet wird eigene Getränke mitzubringen.\nAlle Anderen bedienen sich bitte an den von uns angebotenen Getränken. (2€ pro Getränk im Kühlschrank) Eine Auswahl an Snacks haben wir für euch auch da. \nSolltet ihr noch kein Mitglied sein\, aber Interesse an unseren Events oder einer Mitgliedschaft haben. Könnt ihr gerne einen Mitgliedsantrag online ausfüllen\, mit einem kostenlosem Probemonat startet ihr bei uns. Mitgliedsanträge gibt es hier
URL:https://katago-ev.de/event/open-night-brettspiele-abend/2024-03-20
LOCATION:Vereinsheim 1 – Hauptraum (Hegelstraße 1a)\, Hegelstraße 1a\, Bamberg\, Bayern\, 96052\, Germany
CATEGORIES:Brettspiele,Gesellschaftsspiele,KaTaGO Spieleabend,Open Night
ATTACH;FMTTYPE=image/webp:https://katago-ev.de/wp-content/uploads/2024/02/board-games-kr-2x1-tease-200616.webp
ORGANIZER;CN="Vorstand":MAILTO:Vorstand@mtgo-ev.de
END:VEVENT
BEGIN:VEVENT
DTSTART;TZID=Europe/Berlin:20240221T190000
DTEND;TZID=Europe/Berlin:20240221T223000
DTSTAMP:20260422T040513
CREATED:20240216T225538Z
LAST-MODIFIED:20240216T225538Z
UID:10005030-1708542000-1708554600@katago-ev.de
SUMMARY:Open Night: Brettspiele Abend
DESCRIPTION:Herzlich willkommen zu unseren Open Night Events im KaTaGO e.V. \nDies ist ein offener Spiele Abend an dem wir in unser kleines KaTaGO-Vereinsheim einladen um mit euch Gesellschaftsspiele zu spielen.\nEs geht vor allem um Kommunikation in der Gruppe und gemeinsam Zeit zu verbringen. Ob Strategie\, Worker Placement\, kooperative\, klassische Spiele alles ist gerne gesehen. Wenn ihr ein Lieblingsspiel habt\, bringt dieses gerne mit.\nZiel des Abends ist nicht als Gewinner dazustehen\, sondern eine entspannte Zeit zusammen zu verbringen. \nEs sind alle eingeladen an dem Abend teilzunehmen. \nDies ist ein öffentliches Event und sowohl für Mitglieder als auch für Nichtmitglieder offen. Er kann auch als erste Anlaufstelle dienen um sich den Verein anzuschauen und erste Infos zum Verein einzuholen.\nEine Anmeldung ist nicht zwingend notwendig oder verbindlich\, hilft uns jedoch sehr bei der Planung. Außerdem können wir euch so informieren falls eine Veranstaltung doch mal ausfällt. \nBitte beachtet\, dass es nur Mitgliedern gestattet wird eigene Getränke mitzubringen.\nAlle Anderen bedienen sich bitte an den von uns angebotenen Getränken. (2€ pro Getränk im Kühlschrank) Eine Auswahl an Snacks haben wir für euch auch da. \nSolltet ihr noch kein Mitglied sein\, aber Interesse an unseren Events oder einer Mitgliedschaft haben. Könnt ihr gerne einen Mitgliedsantrag online ausfüllen\, mit einem kostenlosem Probemonat startet ihr bei uns. Mitgliedsanträge gibt es hier
URL:https://katago-ev.de/event/open-night-brettspiele-abend/2024-02-21
LOCATION:Vereinsheim 1 – Hauptraum (Hegelstraße 1a)\, Hegelstraße 1a\, Bamberg\, Bayern\, 96052\, Germany
CATEGORIES:Brettspiele,Gesellschaftsspiele,KaTaGO Spieleabend,Open Night
ATTACH;FMTTYPE=image/webp:https://katago-ev.de/wp-content/uploads/2024/02/board-games-kr-2x1-tease-200616.webp
ORGANIZER;CN="Vorstand":MAILTO:Vorstand@mtgo-ev.de
END:VEVENT
BEGIN:VEVENT
DTSTART;TZID=Europe/Berlin:20230118T170000
DTEND;TZID=Europe/Berlin:20230118T203000
DTSTAMP:20260422T040513
CREATED:20230113T162754Z
LAST-MODIFIED:20230113T162756Z
UID:10003582-1674061200-1674073800@katago-ev.de
SUMMARY:Monopoly
DESCRIPTION:Geschlossenes Event
URL:https://katago-ev.de/event/monopoly
LOCATION:Vereinsheim 1 (Hegelstraße 1a)\, Hegelstraße 1a\, Bamberg\, Bayern\, 96052\, Germany
CATEGORIES:Brettspiel,Brettspiele,Gesellschaftsspiele
ATTACH;FMTTYPE=image/jpeg:https://katago-ev.de/wp-content/uploads/2023/01/20230113_172626.jpg
END:VEVENT
BEGIN:VEVENT
DTSTART;TZID=Europe/Berlin:20221126T140000
DTEND;TZID=Europe/Berlin:20221126T190000
DTSTAMP:20260422T040513
CREATED:20221122T101616Z
LAST-MODIFIED:20221122T101618Z
UID:10003103-1669471200-1669489200@katago-ev.de
SUMMARY:RISK 2210 AD
DESCRIPTION:Dies ist ein geschlossenes Event nur für Mitglieder
URL:https://katago-ev.de/event/risk-2210-ad
LOCATION:Vereinsheim 1 – Keller (Hegelstraße 1a)\, Hegelstraße 1a\, Bamberg\, Bayern\, 96052\, Germany
CATEGORIES:Brettspiel,Brettspiele,Gesellschaftsspiele
ATTACH;FMTTYPE=image/jpeg:https://katago-ev.de/wp-content/uploads/2022/11/20221122_111354.jpg
END:VEVENT
BEGIN:VEVENT
DTSTART;TZID=Europe/Berlin:20221108T170000
DTEND;TZID=Europe/Berlin:20221108T190000
DTSTAMP:20260422T040513
CREATED:20221108T105158Z
LAST-MODIFIED:20221108T105158Z
UID:10003074-1667926800-1667934000@katago-ev.de
SUMMARY:Risiko
DESCRIPTION:Die Spieler sind schon gefunden\, doch könnt ihr trotzdem gerne vorbeikommen um das Vereinsheim zu nutzen.
URL:https://katago-ev.de/event/risiko
LOCATION:Vereinsheim 1 (Hegelstraße 1a)\, Hegelstraße 1a\, Bamberg\, Bayern\, 96052\, Germany
CATEGORIES:Brettspiel,Brettspiele,Gesellschaftsspiele
ATTACH;FMTTYPE=image/jpeg:https://katago-ev.de/wp-content/uploads/2022/10/Risiko.jpg
END:VEVENT
END:VCALENDAR