BEGIN:VCALENDAR
VERSION:2.0
PRODID:-//katago-ev.de - ECPv6.15.0.1//NONSGML v1.0//EN
CALSCALE:GREGORIAN
METHOD:PUBLISH
X-WR-CALNAME:katago-ev.de
X-ORIGINAL-URL:https://katago-ev.de
X-WR-CALDESC:Veranstaltungen für katago-ev.de
REFRESH-INTERVAL;VALUE=DURATION:PT1H
X-Robots-Tag:noindex
X-PUBLISHED-TTL:PT1H
BEGIN:VTIMEZONE
TZID:Europe/Berlin
BEGIN:DAYLIGHT
TZOFFSETFROM:+0100
TZOFFSETTO:+0200
TZNAME:CEST
DTSTART:20260329T010000
END:DAYLIGHT
BEGIN:STANDARD
TZOFFSETFROM:+0200
TZOFFSETTO:+0100
TZNAME:CET
DTSTART:20261025T010000
END:STANDARD
END:VTIMEZONE
BEGIN:VEVENT
DTSTART;TZID=Europe/Berlin:20260318T180000
DTEND;TZID=Europe/Berlin:20260318T220000
DTSTAMP:20260420T060253
CREATED:20260315T202342Z
LAST-MODIFIED:20260315T202343Z
UID:10005054-1773856800-1773871200@katago-ev.de
SUMMARY:Open Night: Brettspiele Abend
DESCRIPTION:Herzlich willkommen zu unseren Open Night Events im KaTaGO e.V.\nDies ist ein offener Spiele Abend an dem wir in unser kleines KaTaGO-Vereinsheim einladen um mit euch Gesellschaftsspiele zu spielen.\nEs geht vor allem um Kommunikation in der Gruppe und gemeinsam Zeit zu verbringen. Ob Strategie\, Worker Placement\, kooperative\, klassische Spiele alles ist gerne gesehen. Wenn ihr ein Lieblingsspiel habt\, bringt dieses gerne mit.\nZiel des Abends ist nicht als Gewinner dazustehen\, sondern eine entspannte Zeit zusammen zu verbringen. \nEs sind alle eingeladen an dem Abend teilzunehmen. \nDies ist ein öffentliches Event und sowohl für Mitglieder als auch für Nichtmitglieder offen. Er kann auch als erste Anlaufstelle dienen um sich den Verein anzuschauen und erste Infos zum Verein einzuholen.\nEine Anmeldung ist nicht zwingend notwendig oder verbindlich\, hilft uns jedoch sehr bei der Planung. Außerdem können wir euch so informieren falls eine Veranstaltung doch mal ausfällt. \nBitte beachtet\, dass es nur Mitgliedern gestattet wird eigene Getränke mitzubringen.\nAlle Anderen bedienen sich bitte an den von uns angebotenen Getränken. (2€ pro Getränk im Kühlschrank) Eine Auswahl an Snacks haben wir für euch auch da. \nSolltet ihr noch kein Mitglied sein\, aber Interesse an unseren Events oder einer Mitgliedschaft haben. Könnt ihr gerne einen Mitgliedsantrag online ausfüllen\, mit einem kostenlosem Probemonat startet ihr bei uns. Mitgliedsanträge gibt es hier
URL:https://katago-ev.de/event/open-night-brettspiele-abend-2/2026-03-18
LOCATION:Vereinsheim 1 – Hauptraum (Hegelstraße 1a)\, Hegelstraße 1a\, Bamberg\, Bayern\, 96052\, Germany
CATEGORIES:Brettspiele,Gesellschaftsspiele,KaTaGO Spieleabend,Open Night
ATTACH;FMTTYPE=image/webp:https://katago-ev.de/wp-content/uploads/2024/02/board-games-kr-2x1-tease-200616.webp
ORGANIZER;CN="Vorstand":MAILTO:Vorstand@mtgo-ev.de
END:VEVENT
BEGIN:VEVENT
DTSTART;TZID=Europe/Berlin:20260318T193000
DTEND;TZID=Europe/Berlin:20260318T230000
DTSTAMP:20260420T060253
CREATED:20260225T170156Z
LAST-MODIFIED:20260225T170157Z
UID:10011753-1773862200-1773874800@katago-ev.de
SUMMARY:FEED THE KRAKEN: Sea of Shadows EXPANSION// PLAYTEST-Event
DESCRIPTION:ES FINDET WIEDER EIN PLAYTEST ZUR ERWEITERUNG VON „FEED THE KRAKEN“ BEI UNS STATT. \nWER DARAN TEILNIMMT BITTE ANMELDEN\, DIE ANMELDUNG IST AUF 11 TEILNEHMER BESCHRENKT!!!  \nWir freuen uns auf einen geselligen Spieleabend mit euch! 
URL:https://katago-ev.de/event/feed-the-kraken-sea-of-shadows-expansion-playtest-event
LOCATION:Vereinsheim 1 (Hegelstraße 1a)\, Hegelstraße 1a\, Bamberg\, Bayern\, 96052\, Germany
CATEGORIES:Brettspiel,Feed the Kraken,Gesellschaftsspiele,Öffentliches Event,Playtest,Social-Deduction-Spiele
ATTACH;FMTTYPE=image/jpeg:https://katago-ev.de/wp-content/uploads/2025/11/Screenshot_20260204_115514_com_android_chrome_ChromeTabbedActivity_edit_706831821186144.jpg
END:VEVENT
END:VCALENDAR