BEGIN:VCALENDAR
VERSION:2.0
PRODID:-//katago-ev.de - ECPv6.15.0.1//NONSGML v1.0//EN
CALSCALE:GREGORIAN
METHOD:PUBLISH
X-ORIGINAL-URL:https://katago-ev.de
X-WR-CALDESC:Veranstaltungen für katago-ev.de
REFRESH-INTERVAL;VALUE=DURATION:PT1H
X-Robots-Tag:noindex
X-PUBLISHED-TTL:PT1H
BEGIN:VTIMEZONE
TZID:Europe/Berlin
BEGIN:DAYLIGHT
TZOFFSETFROM:+0100
TZOFFSETTO:+0200
TZNAME:CEST
DTSTART:20250330T010000
END:DAYLIGHT
BEGIN:STANDARD
TZOFFSETFROM:+0200
TZOFFSETTO:+0100
TZNAME:CET
DTSTART:20251026T010000
END:STANDARD
END:VTIMEZONE
BEGIN:VEVENT
DTSTART;TZID=Europe/Berlin:20250803T140000
DTEND;TZID=Europe/Berlin:20250803T200000
DTSTAMP:20260420T192846
CREATED:20250707T114505Z
LAST-MODIFIED:20250707T114506Z
UID:10009436-1754229600-1754251200@katago-ev.de
SUMMARY:Dungeons&Dragons DRAGONLANCE: Im Schatten der Drachenkönigin
DESCRIPTION:In einer vom Krieg verwüsteten Welt können die Taten von neuen Helden weltverändernde Folgen haben. \nVerteidigt das Volk von Solamnia gegen einen scheinbar unüberwindlichen Feind\, während Krynn sich auf den Krieg vorbereitet. \n\nFragen an: dnd@katago-ev.de
URL:https://katago-ev.de/event/dungeonsdragons-dragonlance-im-schatten-der-drachenkoenigin-5
LOCATION:Vereinsheim 2 (Hegelstraße 11a)\, Hegelstraße 11a\, Bamberg\, Bayern\, 96052\, Germany
CATEGORIES:Dragonlance,Dungeons & Dragons,Rollenspiel
ATTACH;FMTTYPE=image/jpeg:https://katago-ev.de/wp-content/uploads/2024/06/20240617_182553.jpg
END:VEVENT
BEGIN:VEVENT
DTSTART;TZID=Europe/Berlin:20250815T130000
DTEND;TZID=Europe/Berlin:20250815T170000
DTSTAMP:20260420T192846
CREATED:20250814T124508Z
LAST-MODIFIED:20250814T124508Z
UID:10009641-1755262800-1755277200@katago-ev.de
SUMMARY:Dungeons & Dragons Spielrunde
DESCRIPTION:Ein paar mutige Abenteuer \nTreffen sich um hinaus in die Welt \nvon D&D zu ziehen.
URL:https://katago-ev.de/event/dungeons-dragons-spielrunde
LOCATION:Vereinsheim 1 (Hegelstraße 1a)\, Hegelstraße 1a\, Bamberg\, Bayern\, 96052\, Germany
CATEGORIES:Dungeons & Dragons,Fantasy,Rollenspiel
ATTACH;FMTTYPE=image/jpeg:https://katago-ev.de/wp-content/uploads/2025/01/20250120_123337.jpg
END:VEVENT
BEGIN:VEVENT
DTSTART;TZID=Europe/Berlin:20250817T140000
DTEND;TZID=Europe/Berlin:20250817T190000
DTSTAMP:20260420T192846
CREATED:20241108T143551Z
LAST-MODIFIED:20241108T143551Z
UID:10007803-1755439200-1755457200@katago-ev.de
SUMMARY:Dungeons&Dragons DRAGONLANCE: Im Schatten der Drachenkönigin
DESCRIPTION:In einer vom Krieg verwüsteten Welt können die Taten von neuen Helden weltverändernde Folgen haben.  \nVerteidigt das Volk von Solamnia gegen einen scheinbar unüberwindlichen Feind\, während Krynn sich auf den Krieg vorbereitet. \n  \nFragen an: dnd@katago-ev.de
URL:https://katago-ev.de/event/dungeonsdragons-dragonlance-im-schatten-der-drachenkoenigin-3/2025-08-17
LOCATION:Vereinsheim 2 (Hegelstraße 11a)\, Hegelstraße 11a\, Bamberg\, Bayern\, 96052\, Germany
CATEGORIES:Dragonlance,Dungeons & Dragons,Fantasy,Rollenspiel
ATTACH;FMTTYPE=image/jpeg:https://katago-ev.de/wp-content/uploads/2024/06/20240617_182553.jpg
END:VEVENT
BEGIN:VEVENT
DTSTART;TZID=Europe/Berlin:20250831T150000
DTEND;TZID=Europe/Berlin:20250831T210000
DTSTAMP:20260420T192846
CREATED:20250721T112829Z
LAST-MODIFIED:20250721T112829Z
UID:10009614-1756652400-1756674000@katago-ev.de
SUMMARY:Dungeons and Dragons Einstiegsabenteuer
DESCRIPTION:Wir veranstalten eine Runde für Anfänger der neuen Edition und führen euch durch ein Abenteuer \nInfo: dnd@katago-ev.de 
URL:https://katago-ev.de/event/dungeons-and-dragons-einstiegsabenteuer-3
LOCATION:Vereinsheim 2 (Hegelstraße 11a)\, Hegelstraße 11a\, Bamberg\, Bayern\, 96052\, Germany
CATEGORIES:Dungeons & Dragons,Fantasy,Rollenspiel
ATTACH;FMTTYPE=image/jpeg:https://katago-ev.de/wp-content/uploads/2025/01/20250120_123337.jpg
END:VEVENT
END:VCALENDAR