BEGIN:VCALENDAR
VERSION:2.0
PRODID:-//katago-ev.de - ECPv6.15.0.1//NONSGML v1.0//EN
CALSCALE:GREGORIAN
METHOD:PUBLISH
X-ORIGINAL-URL:https://katago-ev.de
X-WR-CALDESC:Veranstaltungen für katago-ev.de
REFRESH-INTERVAL;VALUE=DURATION:PT1H
X-Robots-Tag:noindex
X-PUBLISHED-TTL:PT1H
BEGIN:VTIMEZONE
TZID:Europe/Berlin
BEGIN:DAYLIGHT
TZOFFSETFROM:+0100
TZOFFSETTO:+0200
TZNAME:CEST
DTSTART:20270328T010000
END:DAYLIGHT
BEGIN:STANDARD
TZOFFSETFROM:+0200
TZOFFSETTO:+0100
TZNAME:CET
DTSTART:20271031T010000
END:STANDARD
END:VTIMEZONE
BEGIN:VEVENT
DTSTART;TZID=Europe/Berlin:20270203T180000
DTEND;TZID=Europe/Berlin:20270203T220000
DTSTAMP:20260422T032138
CREATED:20260302T074039Z
LAST-MODIFIED:20260302T074040Z
UID:10009326-1801677600-1801692000@katago-ev.de
SUMMARY:Dungeons and Dragons 3.5 - "HAMMERFAST" Kampagne
DESCRIPTION:Geschlossene Veranstaltung \nPen and Paper
URL:https://katago-ev.de/event/eclipse-phase-2/2027-02-03
LOCATION:Vereinsheim 1 – Keller (Hegelstraße 1a)\, Hegelstraße 1a\, Bamberg\, Bayern\, 96052\, Germany
CATEGORIES:Dungeons & Dragons,Rollenspiel
ATTACH;FMTTYPE=image/jpeg:https://katago-ev.de/wp-content/uploads/2023/06/141-1413446_dungeons-dragons-dungeons-dragons-logo.jpg
END:VEVENT
BEGIN:VEVENT
DTSTART;TZID=Europe/Berlin:20270207T140000
DTEND;TZID=Europe/Berlin:20270207T200000
DTSTAMP:20260422T032138
CREATED:20260410T161420Z
LAST-MODIFIED:20260410T161421Z
UID:10012111-1802008800-1802030400@katago-ev.de
SUMMARY:Dungeons and Dragons: DRACHENBRÜDER-Kampagne
DESCRIPTION:Tapfere Helden schlagen sich durch wilde Abenteuer
URL:https://katago-ev.de/event/dungeons-and-dragons-kampagne-2/2027-02-07
LOCATION:Vereinsheim 2 (Hegelstraße 11a)\, Hegelstraße 11a\, Bamberg\, Bayern\, 96052\, Germany
CATEGORIES:Dungeons & Dragons,Fantasy,Rollenspiel
ATTACH;FMTTYPE=image/jpeg:https://katago-ev.de/wp-content/uploads/2023/01/20230114_100530.jpg
END:VEVENT
BEGIN:VEVENT
DTSTART;TZID=Europe/Berlin:20270213T190000
DTEND;TZID=Europe/Berlin:20270213T230000
DTSTAMP:20260422T032138
CREATED:20260302T074842Z
LAST-MODIFIED:20260302T074842Z
UID:10011816-1802545200-1802559600@katago-ev.de
SUMMARY:Dungeons and Dragons: HOARD OF THE DRAGON QUEEN-Kampagne
DESCRIPTION:Geschlossenes Event
URL:https://katago-ev.de/event/dungeons-and-dragons-hoard-of-the-dragon-queen-kampagne/2027-02-13
LOCATION:Vereinsheim 1 – Keller (Hegelstraße 1a)\, Hegelstraße 1a\, Bamberg\, Bayern\, 96052\, Germany
CATEGORIES:Dungeons & Dragons,Fantasy,Geschlossenes Event,Kampagne,Rollenspiel
ATTACH;FMTTYPE=image/jpeg:https://katago-ev.de/wp-content/uploads/2026/03/Screenshot_20260302_084157_com_android_chrome_ChromeTabbedActivity_edit_129143647407349.jpg
END:VEVENT
BEGIN:VEVENT
DTSTART;TZID=Europe/Berlin:20270214T140000
DTEND;TZID=Europe/Berlin:20270214T200000
DTSTAMP:20260422T032138
CREATED:20260217T162359Z
LAST-MODIFIED:20260217T162359Z
UID:10011564-1802613600-1802635200@katago-ev.de
SUMMARY:Dungeons and Dragons: EBERRON Kampagne
DESCRIPTION:DIE WESTLICHEN GRENZLANDE \nNiemandsland aus Staub und Geschichte \nEuer Abenteuer führt euch in die Westlichen Grenzlande\, eine karge\, raue Region entlang\nder alten Orien-Handelsroute 7. \nDieses Land wird sowohl von Breland als auch von Droaam\nbeansprucht\, doch in Wahrheit kontrolliert es niemand wirklich. \nWas wird euch hier erwarten zwischen Gesetzen\, Schmugglern und Monstern… 
URL:https://katago-ev.de/event/dungeons-and-dragons-eberron-kampagne/2027-02-14
LOCATION:Vereinsheim 2 (Hegelstraße 11a)\, Hegelstraße 11a\, Bamberg\, Bayern\, 96052\, Germany
CATEGORIES:Dungeons & Dragons,Eberron,Fantasy,Rollenspiel
ATTACH;FMTTYPE=image/jpeg:https://katago-ev.de/wp-content/uploads/2026/01/Screenshot_20260117_174359_com_android_chrome_ChromeTabbedActivity_edit_223460354813453.jpg
END:VEVENT
BEGIN:VEVENT
DTSTART;TZID=Europe/Berlin:20270217T180000
DTEND;TZID=Europe/Berlin:20270217T220000
DTSTAMP:20260422T032138
CREATED:20260302T074039Z
LAST-MODIFIED:20260302T074040Z
UID:10009327-1802887200-1802901600@katago-ev.de
SUMMARY:Dungeons and Dragons 3.5 - "HAMMERFAST" Kampagne
DESCRIPTION:Geschlossene Veranstaltung \nPen and Paper
URL:https://katago-ev.de/event/eclipse-phase-2/2027-02-17
LOCATION:Vereinsheim 1 – Keller (Hegelstraße 1a)\, Hegelstraße 1a\, Bamberg\, Bayern\, 96052\, Germany
CATEGORIES:Dungeons & Dragons,Rollenspiel
ATTACH;FMTTYPE=image/jpeg:https://katago-ev.de/wp-content/uploads/2023/06/141-1413446_dungeons-dragons-dungeons-dragons-logo.jpg
END:VEVENT
BEGIN:VEVENT
DTSTART;TZID=Europe/Berlin:20270221T140000
DTEND;TZID=Europe/Berlin:20270221T200000
DTSTAMP:20260422T032138
CREATED:20260410T161420Z
LAST-MODIFIED:20260410T161421Z
UID:10012112-1803218400-1803240000@katago-ev.de
SUMMARY:Dungeons and Dragons: DRACHENBRÜDER-Kampagne
DESCRIPTION:Tapfere Helden schlagen sich durch wilde Abenteuer
URL:https://katago-ev.de/event/dungeons-and-dragons-kampagne-2/2027-02-21
LOCATION:Vereinsheim 2 (Hegelstraße 11a)\, Hegelstraße 11a\, Bamberg\, Bayern\, 96052\, Germany
CATEGORIES:Dungeons & Dragons,Fantasy,Rollenspiel
ATTACH;FMTTYPE=image/jpeg:https://katago-ev.de/wp-content/uploads/2023/01/20230114_100530.jpg
END:VEVENT
BEGIN:VEVENT
DTSTART;TZID=Europe/Berlin:20270227T190000
DTEND;TZID=Europe/Berlin:20270227T230000
DTSTAMP:20260422T032138
CREATED:20260302T074842Z
LAST-MODIFIED:20260302T074842Z
UID:10011817-1803754800-1803769200@katago-ev.de
SUMMARY:Dungeons and Dragons: HOARD OF THE DRAGON QUEEN-Kampagne
DESCRIPTION:Geschlossenes Event
URL:https://katago-ev.de/event/dungeons-and-dragons-hoard-of-the-dragon-queen-kampagne/2027-02-27
LOCATION:Vereinsheim 1 – Keller (Hegelstraße 1a)\, Hegelstraße 1a\, Bamberg\, Bayern\, 96052\, Germany
CATEGORIES:Dungeons & Dragons,Fantasy,Geschlossenes Event,Kampagne,Rollenspiel
ATTACH;FMTTYPE=image/jpeg:https://katago-ev.de/wp-content/uploads/2026/03/Screenshot_20260302_084157_com_android_chrome_ChromeTabbedActivity_edit_129143647407349.jpg
END:VEVENT
BEGIN:VEVENT
DTSTART;TZID=Europe/Berlin:20270228T140000
DTEND;TZID=Europe/Berlin:20270228T200000
DTSTAMP:20260422T032138
CREATED:20260217T162359Z
LAST-MODIFIED:20260217T162359Z
UID:10011565-1803823200-1803844800@katago-ev.de
SUMMARY:Dungeons and Dragons: EBERRON Kampagne
DESCRIPTION:DIE WESTLICHEN GRENZLANDE \nNiemandsland aus Staub und Geschichte \nEuer Abenteuer führt euch in die Westlichen Grenzlande\, eine karge\, raue Region entlang\nder alten Orien-Handelsroute 7. \nDieses Land wird sowohl von Breland als auch von Droaam\nbeansprucht\, doch in Wahrheit kontrolliert es niemand wirklich. \nWas wird euch hier erwarten zwischen Gesetzen\, Schmugglern und Monstern… 
URL:https://katago-ev.de/event/dungeons-and-dragons-eberron-kampagne/2027-02-28
LOCATION:Vereinsheim 2 (Hegelstraße 11a)\, Hegelstraße 11a\, Bamberg\, Bayern\, 96052\, Germany
CATEGORIES:Dungeons & Dragons,Eberron,Fantasy,Rollenspiel
ATTACH;FMTTYPE=image/jpeg:https://katago-ev.de/wp-content/uploads/2026/01/Screenshot_20260117_174359_com_android_chrome_ChromeTabbedActivity_edit_223460354813453.jpg
END:VEVENT
END:VCALENDAR