BEGIN:VCALENDAR
VERSION:2.0
PRODID:-//katago-ev.de - ECPv6.15.0.1//NONSGML v1.0//EN
CALSCALE:GREGORIAN
METHOD:PUBLISH
X-ORIGINAL-URL:https://katago-ev.de
X-WR-CALDESC:Veranstaltungen für katago-ev.de
REFRESH-INTERVAL;VALUE=DURATION:PT1H
X-Robots-Tag:noindex
X-PUBLISHED-TTL:PT1H
BEGIN:VTIMEZONE
TZID:Europe/Berlin
BEGIN:DAYLIGHT
TZOFFSETFROM:+0100
TZOFFSETTO:+0200
TZNAME:CEST
DTSTART:20260329T010000
END:DAYLIGHT
BEGIN:STANDARD
TZOFFSETFROM:+0200
TZOFFSETTO:+0100
TZNAME:CET
DTSTART:20261025T010000
END:STANDARD
END:VTIMEZONE
BEGIN:VEVENT
DTSTART;TZID=Europe/Berlin:20260514T140000
DTEND;TZID=Europe/Berlin:20260514T200000
DTSTAMP:20260421T230837
CREATED:20260415T162302Z
LAST-MODIFIED:20260415T162302Z
UID:10012118-1778767200-1778788800@katago-ev.de
SUMMARY:Dungeons & Dragons ERSTIES-EVENT
DESCRIPTION:Dein Einstieg ins Abenteuer! \nDu hast schon mal von Dungeons & Dragons gehört\, aber noch nie selbst gespielt?  \nOder willst einfach mal etwas Neues ausprobieren? Dann ist unser Ersties-Event genau das Richtige für dich! \nWas erwartet dich?\n1. Was ist Dungeons & Dragons?\nWir geben dir eine kurze Einführung in die Welt von D&D\, ein kooperatives Rollenspiel\, in dem du gemeinsam mit anderen epische Geschichten erlebst\, Rätsel löst und gegen Monster kämpfst.\n2. How to Play\nKeine Sorge\, Vorkenntnisse brauchst du nicht! Wir erklären dir Schritt für Schritt die grundlegenden Regeln\, Würfelsysteme und wie das Spiel abläuft.\n3. Charaktererstellung\nErschaffe mit uns deinen ersten Helden oder Heldin! Ob mutiger Krieger\, listige Diebin oder mächtiger Zauberer\, du entscheidest\, wer du sein willst.\n4. Ein kleines Abenteuer spielen\nNatürlich bleibt es nicht bei der Theorie: Gemeinsam stürzt ihr euch in ein spannendes Kurzabenteuer und erlebt D&D hautnah! \nDas Event ist auf 12 Teilnehmer*innen begrenzt\, sichere dir also schnell deinen Platz! \nMach dich bereit für deine erste Reise in fantastische Welten\, wir freuen uns auf dich!
URL:https://katago-ev.de/event/dungeons-dragons-ersties-event
LOCATION:Vereinsheim 1 – Hauptraum (Hegelstraße 1a)\, Hegelstraße 1a\, Bamberg\, Bayern\, 96052\, Germany
CATEGORIES:Dungeons & Dragons,Fantasy,Rollenspiel
ATTACH;FMTTYPE=image/jpeg:https://katago-ev.de/wp-content/uploads/2025/01/20250120_123337.jpg
END:VEVENT
END:VCALENDAR