BEGIN:VCALENDAR
VERSION:2.0
PRODID:-//katago-ev.de - ECPv6.15.0.1//NONSGML v1.0//EN
CALSCALE:GREGORIAN
METHOD:PUBLISH
X-WR-CALNAME:katago-ev.de
X-ORIGINAL-URL:https://katago-ev.de
X-WR-CALDESC:Veranstaltungen für katago-ev.de
REFRESH-INTERVAL;VALUE=DURATION:PT1H
X-Robots-Tag:noindex
X-PUBLISHED-TTL:PT1H
BEGIN:VTIMEZONE
TZID:Europe/Berlin
BEGIN:DAYLIGHT
TZOFFSETFROM:+0100
TZOFFSETTO:+0200
TZNAME:CEST
DTSTART:20250330T010000
END:DAYLIGHT
BEGIN:STANDARD
TZOFFSETFROM:+0200
TZOFFSETTO:+0100
TZNAME:CET
DTSTART:20251026T010000
END:STANDARD
BEGIN:DAYLIGHT
TZOFFSETFROM:+0100
TZOFFSETTO:+0200
TZNAME:CEST
DTSTART:20260329T010000
END:DAYLIGHT
BEGIN:STANDARD
TZOFFSETFROM:+0200
TZOFFSETTO:+0100
TZNAME:CET
DTSTART:20261025T010000
END:STANDARD
END:VTIMEZONE
BEGIN:VEVENT
DTSTART;TZID=Europe/Berlin:20251213T170000
DTEND;TZID=Europe/Berlin:20251213T200000
DTSTAMP:20260420T181709
CREATED:20251114T152500Z
LAST-MODIFIED:20251115T163802Z
UID:10010881-1765645200-1765656000@katago-ev.de
SUMMARY:Magic Presents: Player Appreciation - Turbo Tower
DESCRIPTION:Wir halten unseren Special Event Magic Presents: Player Appreachiation – Turbo Tower als Teil des KaTaGOs Charity Wochenende. \nBei diesem Event spielen wir ganz normal Commander … mit einem Twist! Jeder Spieler beginnt das Spiel mit einem Command Tower im Spiel\, das ist mal Ramp. Und dieser Command Tower ist zusätzlich zu eurem Deck\, dieses Deck muss trotzdem 100 Karten beinhalten. Der Command Tower ist nämlich eure Teilnehmer-Promokarte\, die ihr dann nachhause nehmen dürft. Es gib keine alternativen Wincons oder Zusatzregeln\, einfach nur Commander – mit einem Bonus-Command Tower. \n„Mein Command Tower ist der Command Tower\, mit dem ich den Himmel durchbrechen werde!“ \nDieses edle Stück darf jeder\, solange Vorrat reicht\, dann mit nachhause nehmen. \nAber da wir dies als Teil unseres Charity-Wochenendes abhalten\, gibt es eine Teilnahmegebühr in Form von Dosen\, da wir die Bamberger Tafel und das Tierheim Bamberg sammeln. \nDeshalb wird für die Teilnahme zusätzlich 2 Lebensmittel Konservendosen (mindestens 400ml und 2 Monate haltbar) pro Teilnehmer mitgebracht. Ebenfalls werden auch Tierfutterkonserven\, für das Tierheim\, in der Größenordnung von mind. 300ml angenommen. \n  \nBitte denkt daran: \n\nNur Mitgliedern ist es gestattet\, eigene Getränke mitzubringen\n\nNichtmitglieder bedienen sich bitte an unserer Getränkeauswahl\nPreis je Getränk für Nichtmitglieder beträgt 2\,00 €\n\n\nParkt nicht auf der gegenüberliegenden Straßenseite\, die Anwohner bezahlen für diese\nKeine Proxis\nKeine unterschiedlichen Hüllen in einem Deck\nBitte meldet euch per Companion App mit eurem Wizards-Account an\nPromokarten sind begrenzt\nPlatz ist begrenzt
URL:https://katago-ev.de/event/magic-presents-player-appreciation-turbo-tower
LOCATION:Vereinsheim 2 (Hegelstraße 11a)\, Hegelstraße 11a\, Bamberg\, Bayern\, 96052\, Germany
CATEGORIES:Kartenspiele,Magic the Gathering
ATTACH;FMTTYPE=image/jpeg:https://katago-ev.de/wp-content/uploads/2025/11/Commandtower-e1763133724550.jpg
END:VEVENT
BEGIN:VEVENT
DTSTART;TZID=Europe/Berlin:20260613T180000
DTEND;TZID=Europe/Berlin:20260613T210000
DTSTAMP:20260420T181709
CREATED:20260225T090429Z
LAST-MODIFIED:20260225T091139Z
UID:10011752-1781373600-1781384400@katago-ev.de
SUMMARY:Magic Presents: Pride 2026
DESCRIPTION:Magic Presents: Pride kehrt für 2026 zurück! Wizards und Magic feiern den Pride Month auch dieses Jahr wieder mit einem Commander Special Event. Und wie beim letzten Jahr ist die besondere Mechanik dass alle Commander Partner haben. \nDas Bedeutet\, dass ihr euch speziell für dieses Event ein Commander Deck mit zwei Partner Commandern bauen dürft\, selbst wenn diese Legendary Creatures kein Partner haben\, dürft ihr sie als Partner Commander spielen. Das Deck hat dann die Colour Identity beider Commander. Dies betrifft aber nur Legendary Creatures. \nDie Promokarte dieses Mal ist ein Gilded Lotus mit neuem Artwork. \n“Oh my god\, Chandra and Nissa were roommates!“ \nBitte denkt daran: \n\nNur Mitgliedern ist es gestattet\, eigene Getränke mitzubringen\nNichtmitglieder bedienen sich bitte an unserer Getränkeauswahl\nPreis je Getränk für Nichtmitglieder beträgt 2\,00 €\nParkt nicht auf der gegenüberliegenden Straßenseite\, die Anwohner bezahlen für diese\nKeine Proxis\nKeine unterschiedlichen Hüllen in einem Deck\nBitte meldet euch per Companion App mit eurem Wizards-Account an\n\nDie Promokarte gibt es erst nach Bestätigung der Anmeldung über Companion\n\n\nPromokarten sind begrenzt\nPlatz ist begrenzt
URL:https://katago-ev.de/event/magic-presents-pride-2026
LOCATION:Vereinsheim 1 (Hegelstraße 1a)\, Hegelstraße 1a\, Bamberg\, Bayern\, 96052\, Germany
CATEGORIES:Kartenspiele,Magic the Gathering,Öffentliches Event
ATTACH;FMTTYPE=image/webp:https://katago-ev.de/wp-content/uploads/2026/02/CommanderPride-e1772009355666.webp
END:VEVENT
END:VCALENDAR