BEGIN:VCALENDAR
VERSION:2.0
PRODID:-//katago-ev.de - ECPv6.15.0.1//NONSGML v1.0//EN
CALSCALE:GREGORIAN
METHOD:PUBLISH
X-WR-CALNAME:katago-ev.de
X-ORIGINAL-URL:https://katago-ev.de
X-WR-CALDESC:Veranstaltungen für katago-ev.de
REFRESH-INTERVAL;VALUE=DURATION:PT1H
X-Robots-Tag:noindex
X-PUBLISHED-TTL:PT1H
BEGIN:VTIMEZONE
TZID:Europe/Berlin
BEGIN:DAYLIGHT
TZOFFSETFROM:+0100
TZOFFSETTO:+0200
TZNAME:CEST
DTSTART:20250330T010000
END:DAYLIGHT
BEGIN:STANDARD
TZOFFSETFROM:+0200
TZOFFSETTO:+0100
TZNAME:CET
DTSTART:20251026T010000
END:STANDARD
END:VTIMEZONE
BEGIN:VEVENT
DTSTART;TZID=Europe/Berlin:20250314T190000
DTEND;TZID=Europe/Berlin:20250314T233000
DTSTAMP:20260424T003139
CREATED:20240418T072209Z
LAST-MODIFIED:20260210T213627Z
UID:10005316-1741978800-1741995000@katago-ev.de
SUMMARY:Magic: The Gathering - Friday Night Magic - Draft
DESCRIPTION:Willkommen zu unserem wöchentlichen FNM Draft im KaTaGO e.V.\nDies ist ein öffentliches Event zum dem auch Spieler kommen können die keine Mitglieder des Vereins sind. \n  \nEventdetails:\nAnmeldung: 18:45 – 19:00 Uhr          (Solltet ihr euch verspäten gebt uns rechtzeitig Bescheid\, wir können auch mal warten) \nFormat: Draft \nEdition: aktuelle Sets \nStartgeld: 15€ p.P. (für 3 Booster und die Preise für die ersten Plätze) \nPreise: Boosterpreise nach Final Standings \nMax. Teilnehmer: Oft auf 16 begrenzt deswegen lieber anmelden \n  \nEs gibt Länder\, Hüllen und Spielmatten zum Ausleihen im Verein! Also ihr könnt auch unvorbereitet vorbeikommen und es Mal ausprobieren. \nDa es immer zu spontanen Änderungen kommen kann\, meldet euch bitte mit eurer E-Mail-Adresse\, damit wir euch entsprechend informieren können! \nBei Rückfragen wendet euch gerne an magic@katago-ev.de \nFragt uns auch gerne per Mail oder vor Ort nach unserer WhatsApp-Gruppe.\nÜber die Gruppe werden kurzfirstige Abstimmungen vorgenommen\, Infos und Termine kommuniziert. \nWir freuen uns auf euch! \n  \nAllgemeine Infos:\nBitte beachtet\, dass es nur Mitgliedern gestattet wird eigene Getränke mitzubringen.\nAlle Anderen bedienen sich bitte an den von uns angebotenen Getränken. \nSolltet ihr noch kein Mitglied sein\, aber Interesse an unseren Events oder einer Mitgliedschaft haben\, könnt ihr gerne einen ausgefüllten Mitgliedsantrag zum entsprechenden Event mitbringen und ab da einen kostenlosen Probemonat (Kalendermonat) bei uns starten. Mitgliedsanträge gibt es hier. \nAn alle Autofahrer\, bitte parkt nur auf unseren Parkplätzen (direkt vor den Schaufenstern) oder auf den öffentlichen Parkplätzen in der Wagenburgstraße\, dem Troppauplatz und Feldkirchenstraße mit Parkscheibe und nicht gegenüber den beiden Vereinsheimen\, da diese Anwohnerparkplätze sind.
URL:https://katago-ev.de/event/magic-the-gathering-friday-night-magic-draft-12/2025-03-14
LOCATION:Vereinsheim 1 – Hauptraum (Hegelstraße 1a)\, Hegelstraße 1a\, Bamberg\, Bayern\, 96052\, Germany
CATEGORIES:Magic the Gathering,Öffentliches Event
ATTACH;FMTTYPE=image/png:https://katago-ev.de/wp-content/uploads/2023/11/MTG-Draft-e1702377495306.png
END:VEVENT
BEGIN:VEVENT
DTSTART;TZID=Europe/Berlin:20250316T150000
DTEND;TZID=Europe/Berlin:20250316T200000
DTSTAMP:20260424T003139
CREATED:20250210T154641Z
LAST-MODIFIED:20250210T154641Z
UID:10008317-1742137200-1742155200@katago-ev.de
SUMMARY:Aetherdrift Commander Party: März
DESCRIPTION:Ein neues Standard-Set bringt mit sich nicht nur neue Karten für unser heiß geliebtes Format\, sondern auch wieder eine neue Commander Party. Dieses Mal dient der Ghirapur Grand Prix mit seiner Rennstrecke von Avischkar (ehemals Kaladesh) nach Amonketh über Muraganda als Spielplatz. Wir werden dieses Mal auch zwei veranstalten\, eine im Februar und eine im März. \nBei den Commander Partys handelt es sich um offizielle Casual Events\, also dürfen wir keine Proxis in unseren Decks haben\, aber der Spielablauf wird nicht so penibel gesehen wie bei einem Turnier. Bitte meldet euch per Companion App an\, zwecks der Spielerliste und dem Reporting an Wizards. \nEs gibt dieses Mal auch wieder eine Promokarte zur Teilnahme\, Rishkar’s Expertise in Old Border so lange der Vorrat reicht. \n \n  \nBitte achtet darauf\, nur auf unseren Parkplätzen\, oder den öffentlichen Parkplätzen zu parken\, z.B.: Troppauplatz. Die Parkplätze gegenüber unseren Vereinsheimen sind Anwohnerparkplätze und müssen freigehalten werden\, da die Anwohner für diese zahlen. \nAuch wenn es sich um ein öffentliches Event handelt\, bei dem auch Nichtmitglieder teilnehmen können\, gilt\, dass nur Mitglieder eigene Getränke mitbringen dürfen. Nichtmitglieder müssten Getränke dann vor Ort in unserem Vereinsheim erwerben. \nVeranstaltungsort für März ist Vereinsheim 1\, nicht Vereinsheim 2!
URL:https://katago-ev.de/event/aetherdrift-commander-party-maerz
LOCATION:Vereinsheim 1 – Hauptraum (Hegelstraße 1a)\, Hegelstraße 1a\, Bamberg\, Bayern\, 96052\, Germany
CATEGORIES:Fantasy,Kartenspiele,Magic the Gathering,Tabletop
ATTACH;FMTTYPE=image/jpeg:https://katago-ev.de/wp-content/uploads/2022/09/commander.jpg
END:VEVENT
END:VCALENDAR