BEGIN:VCALENDAR
VERSION:2.0
PRODID:-//katago-ev.de - ECPv6.15.0.1//NONSGML v1.0//EN
CALSCALE:GREGORIAN
METHOD:PUBLISH
X-ORIGINAL-URL:https://katago-ev.de
X-WR-CALDESC:Veranstaltungen für katago-ev.de
REFRESH-INTERVAL;VALUE=DURATION:PT1H
X-Robots-Tag:noindex
X-PUBLISHED-TTL:PT1H
BEGIN:VTIMEZONE
TZID:Europe/Berlin
BEGIN:DAYLIGHT
TZOFFSETFROM:+0100
TZOFFSETTO:+0200
TZNAME:CEST
DTSTART:20260329T010000
END:DAYLIGHT
BEGIN:STANDARD
TZOFFSETFROM:+0200
TZOFFSETTO:+0100
TZNAME:CET
DTSTART:20261025T010000
END:STANDARD
END:VTIMEZONE
BEGIN:VEVENT
DTSTART;TZID=Europe/Berlin:20260427T173000
DTEND;TZID=Europe/Berlin:20260427T220000
DTSTAMP:20260421T230219
CREATED:20250317T174426Z
LAST-MODIFIED:20260225T074813Z
UID:10011632-1777311000-1777327200@katago-ev.de
SUMMARY:MTG Commander Stammtisch Open Night
DESCRIPTION:Willkommen zum MTG Commander Stammtisch im KaTaGO e.V.\nAlle Spieler und Interessierten herzlich eingeladen an unserem öffentlichen Commander Stammtisch teilzunehmen! \nWir bringen euch gerne das Spiel näher\, testen mit euch neue Decks\, traden oder unterhalten uns über Magic the Gathering™ und Commander. Ihr könnt auch ein Deck von Jemanden ausleihen und es mal ausprobieren. \nAlso kommt gerne vorbei\, schaut euch um oder spielt mit uns! \nWir sind eine ständig wachsende\, freundliche Community und freuen uns über alle Neuzugänge! \nDer Spieleabend ist ein öffentliches Event und sowohl für Mitglieder als auch für Nichtmitglieder offen.\nEr kann auch als erste Anlaufstelle dienen um sich den Verein anzuschauen und Infos zum Verein einzuholen. \nEine Anmeldung ist nicht zwingend notwendig oder verbindlich\, hilft uns jedoch sehr bei der Planung.\nAußerdem können wir euch so informieren falls eine Veranstaltung doch mal ausfällt. \nBei Fragen wendet euch gerne an: magic@katago-ev.de \n  \nAllgemeine Infos:\nBitte beachtet\, dass es nur Mitgliedern gestattet wird eigene Getränke mitzubringen.\nAlle Anderen bedienen sich bitte an den von uns angebotenen Getränken. \nSolltet ihr noch kein Mitglied sein\, aber Interesse an unseren Events oder einer Mitgliedschaft haben\, könnt ihr gerne einen ausgefüllten Mitgliedsantrag zum entsprechenden Event mitbringen und ab da einen kostenlosen Probemonat (Kalendermonat) bei uns starten. Mitgliedsanträge gibt es hier. \nAn alle Autofahrer\, bitte parkt nur auf unseren Parkplätzen (direkt vor den Schaufenstern) oder auf den öffentlichen Parkplätzen in der Wagenburgstraße\, dem Troppauplatz und Feldkirchenstraße mit Parkscheibe und nicht gegenüber den beiden Vereinsheimen\, da diese Anwohnerparkplätze sind.
URL:https://katago-ev.de/event/open-night-mtg-commander-stammtisch-9/2026-04-27
LOCATION:Vereinsheim 1 – Hauptraum (Hegelstraße 1a)\, Hegelstraße 1a\, Bamberg\, Bayern\, 96052\, Germany
CATEGORIES:Kartenspiele,Magic the Gathering,Öffentliches Event,Open Night
ATTACH;FMTTYPE=image/jpeg:https://katago-ev.de/wp-content/uploads/2022/09/commander.jpg
END:VEVENT
BEGIN:VEVENT
DTSTART;TZID=Europe/Berlin:20260502T173000
DTEND;TZID=Europe/Berlin:20260502T220000
DTSTAMP:20260421T230219
CREATED:20251006T180800Z
LAST-MODIFIED:20260210T205116Z
UID:10010300-1777743000-1777759200@katago-ev.de
SUMMARY:MTG Commander Stammtisch Samstag
DESCRIPTION:Willkommen zum MTG Commander Stammtisch im KaTaGO e.V.\nAlle Spieler und Interessierten herzlich eingeladen an unserem öffentlichen Commander Stammtisch teilzunehmen! \nWir bringen euch gerne das Spiel näher\, testen mit euch neue Decks\, traden oder unterhalten uns über Magic the Gathering™ und Commander. Ihr könnt auch ein Deck von Jemanden ausleihen und es mal ausprobieren. \nAlso kommt gerne vorbei\, schaut euch um oder spielt mit uns! \nWir sind eine ständig wachsende\, freundliche Community und freuen uns über alle Neuzugänge! \nDer Spieleabend ist ein öffentliches Event und sowohl für Mitglieder als auch für Nichtmitglieder offen.\nEr kann auch als erste Anlaufstelle dienen um sich den Verein anzuschauen und Infos zum Verein einzuholen. \nEine Anmeldung ist nicht zwingend notwendig oder verbindlich\, hilft uns jedoch sehr bei der Planung.\nAußerdem können wir euch so informieren falls eine Veranstaltung doch mal ausfällt. \nBei Fragen wendet euch gerne an: magic@katago-ev.de \n  \nAllgemeine Infos:\nBitte beachtet\, dass es nur Mitgliedern gestattet wird eigene Getränke mitzubringen.\nAlle Anderen bedienen sich bitte an den von uns angebotenen Getränken. \nSolltet ihr noch kein Mitglied sein\, aber Interesse an unseren Events oder einer Mitgliedschaft haben\, könnt ihr gerne einen ausgefüllten Mitgliedsantrag zum entsprechenden Event mitbringen und ab da einen kostenlosen Probemonat (Kalendermonat) bei uns starten. Mitgliedsanträge gibt es hier. \nAn alle Autofahrer\, bitte parkt nur auf unseren Parkplätzen (direkt vor den Schaufenstern) oder auf den öffentlichen Parkplätzen in der Wagenburgstraße\, dem Troppauplatz und Feldkirchenstraße mit Parkscheibe und nicht gegenüber den beiden Vereinsheimen\, da diese Anwohnerparkplätze sind.
URL:https://katago-ev.de/event/katago-commander-stammtisch-samstag/2026-05-02
LOCATION:Vereinsheim 1 – Hauptraum (Hegelstraße 1a)\, Hegelstraße 1a\, Bamberg\, Bayern\, 96052\, Germany
CATEGORIES:Kartenspiele,Magic the Gathering,Öffentliches Event,Open Night
ATTACH;FMTTYPE=image/jpeg:https://katago-ev.de/wp-content/uploads/2022/09/commander.jpg
END:VEVENT
BEGIN:VEVENT
DTSTART;TZID=Europe/Berlin:20260502T173000
DTEND;TZID=Europe/Berlin:20260507T220000
DTSTAMP:20260421T230219
CREATED:20260225T091641Z
LAST-MODIFIED:20260420T162707Z
UID:10011751-1777743000-1778191200@katago-ev.de
SUMMARY:Commander Party – Secrets of Strixhaven: Juni
DESCRIPTION:Informationen folgen \n  \nBitte denkt daran: \n\nNur Mitgliedern ist es gestattet\, eigene Getränke mitzubringen\nNichtmitglieder bedienen sich bitte an unserer Getränkeauswahl\nPreis je Getränk für Nichtmitglieder beträgt 2\,00 €\nParkt nicht auf der gegenüberliegenden Straßenseite\, die Anwohner bezahlen für diese\nKeine Proxis\nKeine unterschiedlichen Hüllen in einem Deck\nBitte meldet euch per Companion App mit eurem Wizards-Account an\n\nDie Promokarte gibt es erst nach Bestätigung der Anmeldung über Companion\n\n\nPromokarten sind begrenzt\nPlatz ist begrenzt\nDie Spielhielfen am Ende zurückgeben. NICHT wegwerfen!
URL:https://katago-ev.de/event/commander-party-secrets-of-strixhaven-juni
LOCATION:Vereinsheim 2 (Hegelstraße 11a)\, Hegelstraße 11a\, Bamberg\, Bayern\, 96052\, Germany
CATEGORIES:Kartenspiele,Magic the Gathering,Öffentliches Event,Open Night
END:VEVENT
END:VCALENDAR