BEGIN:VCALENDAR
VERSION:2.0
PRODID:-//katago-ev.de - ECPv6.15.0.1//NONSGML v1.0//EN
CALSCALE:GREGORIAN
METHOD:PUBLISH
X-ORIGINAL-URL:https://katago-ev.de
X-WR-CALDESC:Veranstaltungen für katago-ev.de
REFRESH-INTERVAL;VALUE=DURATION:PT1H
X-Robots-Tag:noindex
X-PUBLISHED-TTL:PT1H
BEGIN:VTIMEZONE
TZID:Europe/Berlin
BEGIN:DAYLIGHT
TZOFFSETFROM:+0100
TZOFFSETTO:+0200
TZNAME:CEST
DTSTART:20260329T010000
END:DAYLIGHT
BEGIN:STANDARD
TZOFFSETFROM:+0200
TZOFFSETTO:+0100
TZNAME:CET
DTSTART:20261025T010000
END:STANDARD
END:VTIMEZONE
BEGIN:VEVENT
DTSTART;TZID=Europe/Berlin:20260520T180000
DTEND;TZID=Europe/Berlin:20260520T220000
DTSTAMP:20260422T034255
CREATED:20260315T202342Z
LAST-MODIFIED:20260315T202343Z
UID:10011969-1779300000-1779314400@katago-ev.de
SUMMARY:Open Night: Brettspiele Abend
DESCRIPTION:Herzlich willkommen zu unseren Open Night Events im KaTaGO e.V.\nDies ist ein offener Spiele Abend an dem wir in unser kleines KaTaGO-Vereinsheim einladen um mit euch Gesellschaftsspiele zu spielen.\nEs geht vor allem um Kommunikation in der Gruppe und gemeinsam Zeit zu verbringen. Ob Strategie\, Worker Placement\, kooperative\, klassische Spiele alles ist gerne gesehen. Wenn ihr ein Lieblingsspiel habt\, bringt dieses gerne mit.\nZiel des Abends ist nicht als Gewinner dazustehen\, sondern eine entspannte Zeit zusammen zu verbringen. \nEs sind alle eingeladen an dem Abend teilzunehmen. \nDies ist ein öffentliches Event und sowohl für Mitglieder als auch für Nichtmitglieder offen. Er kann auch als erste Anlaufstelle dienen um sich den Verein anzuschauen und erste Infos zum Verein einzuholen.\nEine Anmeldung ist nicht zwingend notwendig oder verbindlich\, hilft uns jedoch sehr bei der Planung. Außerdem können wir euch so informieren falls eine Veranstaltung doch mal ausfällt. \nBitte beachtet\, dass es nur Mitgliedern gestattet wird eigene Getränke mitzubringen.\nAlle Anderen bedienen sich bitte an den von uns angebotenen Getränken. (2€ pro Getränk im Kühlschrank) Eine Auswahl an Snacks haben wir für euch auch da. \nSolltet ihr noch kein Mitglied sein\, aber Interesse an unseren Events oder einer Mitgliedschaft haben. Könnt ihr gerne einen Mitgliedsantrag online ausfüllen\, mit einem kostenlosem Probemonat startet ihr bei uns. Mitgliedsanträge gibt es hier
URL:https://katago-ev.de/event/open-night-brettspiele-abend-2/2026-05-20
LOCATION:Vereinsheim 1 – Hauptraum (Hegelstraße 1a)\, Hegelstraße 1a\, Bamberg\, Bayern\, 96052\, Germany
CATEGORIES:Brettspiele,Gesellschaftsspiele,KaTaGO Spieleabend,Open Night
ATTACH;FMTTYPE=image/webp:https://katago-ev.de/wp-content/uploads/2024/02/board-games-kr-2x1-tease-200616.webp
ORGANIZER;CN="Vorstand":MAILTO:Vorstand@mtgo-ev.de
END:VEVENT
BEGIN:VEVENT
DTSTART;TZID=Europe/Berlin:20260521T193000
DTEND;TZID=Europe/Berlin:20260521T223000
DTSTAMP:20260422T034255
CREATED:20260330T084707Z
LAST-MODIFIED:20260330T084707Z
UID:10010972-1779391800-1779402600@katago-ev.de
SUMMARY:Open Night: Social-Deduction
DESCRIPTION:Unser „kleiner“ Social-Deduction Spieleabend lädt alle ein\, die Lust auf Bluffen\, Diskutieren\, Täuschen und gemeinsames Rätseln haben. \nIn gemütlicher Runde spielen wir verschiedene kurzweilige Social-Deduction- und Deduktionsspiele\, bei denen Kommunikation und/oder Menschenkenntnis im Mittelpunkt stehen. \nJeder ist willkommen um vorbeizuschauen\, mitzuspielen und Spaß zu haben (: \nBeim Spieleabend im stehen folgende Spiele auf dem Programm: \nOb Verräter entlarven\, Allianzen schmieden oder clever bluffen\, hier ist für jede Menge Spannung und Unterhaltung gesorgt. \nWir freuen uns auf einen geselligen Spieleabend mit euch! 
URL:https://katago-ev.de/event/open-night-social-deduction-4/2026-05-21
LOCATION:Vereinsheim 2 (Hegelstraße 11a)\, Hegelstraße 11a\, Bamberg\, Bayern\, 96052\, Germany
CATEGORIES:Gesellschaftsspiele,Open Night,Social-Deduction-Spiele
ATTACH;FMTTYPE=image/jpeg:https://katago-ev.de/wp-content/uploads/2025/11/IMG-20260324-WA0009.jpg
END:VEVENT
END:VCALENDAR