BEGIN:VCALENDAR
VERSION:2.0
PRODID:-//katago-ev.de - ECPv6.15.0.1//NONSGML v1.0//EN
CALSCALE:GREGORIAN
METHOD:PUBLISH
X-ORIGINAL-URL:https://katago-ev.de
X-WR-CALDESC:Veranstaltungen für katago-ev.de
REFRESH-INTERVAL;VALUE=DURATION:PT1H
X-Robots-Tag:noindex
X-PUBLISHED-TTL:PT1H
BEGIN:VTIMEZONE
TZID:Europe/Berlin
BEGIN:DAYLIGHT
TZOFFSETFROM:+0100
TZOFFSETTO:+0200
TZNAME:CEST
DTSTART:20230326T010000
END:DAYLIGHT
BEGIN:STANDARD
TZOFFSETFROM:+0200
TZOFFSETTO:+0100
TZNAME:CET
DTSTART:20231029T010000
END:STANDARD
BEGIN:DAYLIGHT
TZOFFSETFROM:+0100
TZOFFSETTO:+0200
TZNAME:CEST
DTSTART:20240331T010000
END:DAYLIGHT
BEGIN:STANDARD
TZOFFSETFROM:+0200
TZOFFSETTO:+0100
TZNAME:CET
DTSTART:20241027T010000
END:STANDARD
END:VTIMEZONE
BEGIN:VEVENT
DTSTART;TZID=Europe/Berlin:20240128T103000
DTEND;TZID=Europe/Berlin:20240128T200000
DTSTAMP:20260420T192226
CREATED:20240105T164415Z
LAST-MODIFIED:20240111T115539Z
UID:10004900-1706437800-1706472000@katago-ev.de
SUMMARY:WPN-Qualifier Sealed Limited
DESCRIPTION:WPN-Qualifier Sealed \n  \nBitte Meldet euch hier im Event Kalender für das Event an\, um euch einen Platz im Event zu sichern und dass ich besser mit den Teilnehmern und Preisen planen kann! \n  \nDies ist ein öffentliches Event\, zum dem auch Spieler kommen können\, die keine Mitglieder des Vereins sind. \nDas Event ist auf 20 Personen beschränkt. \nAchtet bei Registrierung darauf\, dass ihr eure Emailadresse angebt\, damit wir euch bei Änderungen oder Absagen informieren können.\nPrüft auch bitte am Tag es Events nochmal eure Emails\, ob noch neue Informationen rausgegeben wurden. \nBitte beachtet\, dass es nur Mitgliedern gestattet wird eigene Getränke mitzubringen.\nAlle Anderen bedienen sich bitte an den von uns angebotenen Getränken. (2€ pro Getränk) \nSolltet ihr noch kein Mitglied sein\, aber Interesse an unseren Events oder einer Mitgliedschaft haben\, könnt ihr gerne einen ausgefüllten Mitgliedsantrag zum entsprechenden Event mitbringen und ab da einen kostenlosen Probemonat bei uns starten. \n  \nEventdetails: \nAnmeldung: 10.30 – 11.00 Uhr \nStart Runde 1: 11.00 Uhr \nFormat: Sealed (Lost Caverns of Ixalan) \, Schweitzer System mit Cut auf Top 8 (Draft) \nRules Enforcement Level: Competitive \nStartgeld: 45€ \nPreise:  \nPlatz 1: qualifiziert sich für die LEC in Neapel vom 24. – 26. Mai 2024 / Foil Promo „Expressive Iteration“ \nTop 8: Nonfoil Promo „Expressive Iteration“ \nTop 16: Promo „Explore“ \nDes weiteren werden die Preise je nach Teilnehmerzahl mit Einzelkartenpreisen und Boostern angepasst.
URL:https://katago-ev.de/event/5794
LOCATION:Vereinsheim 1 – Hauptraum (Hegelstraße 1a)\, Hegelstraße 1a\, Bamberg\, Bayern\, 96052\, Germany
CATEGORIES:Magic the Gathering
ATTACH;FMTTYPE=image/jpeg:https://katago-ev.de/wp-content/uploads/2024/01/WPN-Qualifier.jpg
END:VEVENT
BEGIN:VEVENT
DTSTART;TZID=Europe/Berlin:20231111T133000
DTEND;TZID=Europe/Berlin:20231111T190000
DTSTAMP:20260420T192226
CREATED:20231011T050148Z
LAST-MODIFIED:20231011T050148Z
UID:10004232-1699709400-1699729200@katago-ev.de
SUMMARY:Prerelease - Lost Caverns of Ixalan - Single Sealed
DESCRIPTION:Willkommen zu unserem Prerelease Single Sealed Event im Vereinsheim des KaTaGO e.V. \nDies ist ein öffentliches Event\, zum dem auch Spieler kommen können\, die keine Mitglieder des Vereins sind. \nDas Event ist auf 32 Personen beschränkt \nAchtet bei Registrierung darauf\, dass ihr eure Emailadresse angebt\, damit wir euch bei Änderungen oder Absagen informieren können.\nPrüft auch bitte am Tag es Events nochmal eure Emails\, ob noch neue Informationen rausgegeben wurden. \nBeim Single Sealed baut ihr euch aus einem Prerelease Kit ein Deck und spielt damit 1 Vs 1  Matches gegen eure Gegner.\nParallel wird auch ein Two Headed Giant Event angeboten. (2 vs 2) \nBitte beachtet\, dass es nur Mitgliedern gestattet wird eigene Getränke mitzubringen.\nAlle Anderen bedienen sich bitte an den von uns angebotenen Getränken. (2€ pro Getränk) \nSolltet ihr noch kein Mitglied sein\, aber Interesse an unseren Events oder einer Mitgliedschaft haben\, könnt ihr gerne einen ausgefüllten Mitgliedsantrag zum entsprechenden Event mitbringen und ab da einen kostenlosen Probemonat bei uns starten. Mitgliedsanträge gibt es hier. \nEventdetails \nAnmeldung:    13:30 – 14:00 Uhr\nDeckbau:          14:00 – 15:00 Uhr\nStart Runde 1:               15:00 Uhr \nFormat: Single Sealed\, maximal 4 Runden \nStartgeld: 35€ p.P. \nPreise: Boosterpreise nach Final Standings\, jeder Spieler erhält mind. ein Preisbooster \nWir freuen uns auf euch!
URL:https://katago-ev.de/event/prerelease-lci-single-sealed
LOCATION:Vereinsheim 1 (Hegelstraße 1a)\, Hegelstraße 1a\, Bamberg\, Bayern\, 96052\, Germany
CATEGORIES:Kartenspiele,Magic the Gathering
ATTACH;FMTTYPE=image/jpeg:https://katago-ev.de/wp-content/uploads/2023/10/images.jpeg
END:VEVENT
BEGIN:VEVENT
DTSTART;TZID=Europe/Berlin:20230902T133000
DTEND;TZID=Europe/Berlin:20230902T190000
DTSTAMP:20260420T192226
CREATED:20230731T140227Z
LAST-MODIFIED:20230731T140227Z
UID:10003824-1693661400-1693681200@katago-ev.de
SUMMARY:Prerelease - Wilds of Eldraine - Single Sealed
DESCRIPTION:Willkommen zu unserem Prerelease Single Sealed Event im Vereinsheim des KaTaGO e.V. \nDies ist ein öffentliches Event\, zum dem auch Spieler kommen können\, die keine Mitglieder des Vereins sind.\nAufgrund der aktuellen Covid19 Bestimmungen können unsere Events ohne besondere Einschränkungen stattfinden. \nDas Event ist auf 32 Personen beschränkt \nAchtet bei Registrierung darauf\, dass ihr eure Emailadresse angebt\, damit wir euch bei Änderungen oder Absagen informieren können.\nPrüft auch bitte am Tag es Events nochmal eure Emails\, ob noch neue Informationen rausgegeben wurden. \nBeim Single Sealed baut ihr euch aus einem Prerelease Kit ein Deck und spielt damit 1 Vs 1  Matches gegen eure Gegner.\nParallel wird auch ein Two Headed Giant Event angeboten. (2 vs 2) \nBitte beachtet\, dass es nur Mitgliedern gestattet wird eigene Getränke mitzubringen.\nAlle Anderen bedienen sich bitte an den von uns angebotenen Getränken. (2€ pro Getränk) \nSolltet ihr noch kein Mitglied sein\, aber Interesse an unseren Events oder einer Mitgliedschaft haben\, könnt ihr gerne einen ausgefüllten Mitgliedsantrag zum entsprechenden Event mitbringen und ab da einen kostenlosen Probemonat bei uns starten. Mitgliedsanträge gibt es hier. \nEventdetails \nAnmeldung:    13:30 – 14:00 Uhr\nDeckbau:          14:00 – 15:00 Uhr\nStart Runde 1:               15:00 Uhr \nFormat: Single Sealed\, maximal 4 Runden \nStartgeld: 35€ p.P. \nPreise: Boosterpreise nach Final Standings\, jeder Spieler erhält mind. ein Preisbooster \nWir freuen uns auf euch! \nAußerdem bitten wir um euer Verständnis\, dass sich die Umstände aufgrund der aktuellen Situation jederzeit ändern können und wir ggf. vom oben beschriebenen Ablauf abweichen müssen! 
URL:https://katago-ev.de/event/prerelease-woe-single-sealed
LOCATION:Vereinsheim 1 (Hegelstraße 1a)\, Hegelstraße 1a\, Bamberg\, Bayern\, 96052\, Germany
CATEGORIES:Kartenspiele,Magic the Gathering
ATTACH;FMTTYPE=image/jpeg:https://katago-ev.de/wp-content/uploads/2023/07/Eldraine.jpg
END:VEVENT
BEGIN:VEVENT
DTSTART;TZID=Europe/Berlin:20230617T133000
DTEND;TZID=Europe/Berlin:20230617T190000
DTSTAMP:20260420T192226
CREATED:20230315T223844Z
LAST-MODIFIED:20230524T054722Z
UID:10003669-1687008600-1687028400@katago-ev.de
SUMMARY:Prerelease - LOTR - Single Sealed
DESCRIPTION:Willkommen zu unserem Prerelease Single Sealed Event im Vereinsheim des KaTaGO e.V. \nDies ist ein öffentliches Event\, zum dem auch Spieler kommen können\, die keine Mitglieder des Vereins sind.\nAufgrund der aktuellen Covid19 Bestimmungen können unsere Events ohne besondere Einschränkungen stattfinden. \nDas Event ist auf 32 Personen beschränkt\, damit wir trotz der Lockerungen ausreichend Platz für alle Spieler bieten können. \nAußerdem möchten wir jeden bitten\, nach Möglichkeit im Vorfeld einen Test irgendeiner Art durchzuführen\, um das Risiko zusätzlich zu reduzieren.\nDieser Test ist freiwillig und muss nicht vorgelegt werden! Bitte kommt nicht\, wenn ihr euch unwohl fühlt oder Erkältungsymptome aufweist. \nAchtet bei Registrierung darauf\, dass ihr eure Emailadresse angebt\, damit wir euch bei Änderungen oder Absagen informieren können.\nPrüft auch bitte am Tag es Events nochmal eure Emails\, ob noch neue Informationen rausgegeben wurden. \nBeim Single Sealed baut ihr euch aus einem Prerelease Kit ein Deck und spielt damit 1 Vs 1  Matches gegen eure Gegner.\nParallel wird auch ein Two Headed Giant Event angeboten. (2 vs 2) \nBitte beachtet\, dass es nur Mitgliedern gestattet wird eigene Getränke mitzubringen.\nAlle Anderen bedienen sich bitte an den von uns angebotenen Getränken. (2€ pro Getränk) \nSolltet ihr noch kein Mitglied sein\, aber Interesse an unseren Events oder einer Mitgliedschaft haben\, könnt ihr gerne einen ausgefüllten Mitgliedsantrag zum entsprechenden Event mitbringen und ab da einen kostenlosen Probemonat bei uns starten. Mitgliedsanträge gibt es hier. \nEventdetails \nAnmeldung:    13:30 – 14:00 Uhr\nDeckbau:          14:00 – 15:00 Uhr\nStart Runde 1:               15:00 Uhr \nFormat: Single Sealed\, maximal 4 Runden \nStartgeld: 40€ p.P. \nPreise: Boosterpreise nach Final Standings\, jeder Spieler erhält mind. ein Preisbooster \nWir freuen uns auf euch! \nAußerdem bitten wir um euer Verständnis\, dass sich die Umstände aufgrund der aktuellen Situation jederzeit ändern können und wir ggf. vom oben beschriebenen Ablauf abweichen müssen! 
URL:https://katago-ev.de/event/prerelease-march-of-the-machine-single-sealed
LOCATION:Vereinsheim 1 (Hegelstraße 1a)\, Hegelstraße 1a\, Bamberg\, Bayern\, 96052\, Germany
CATEGORIES:Kartenspiele,Magic the Gathering
END:VEVENT
BEGIN:VEVENT
DTSTART;TZID=Europe/Berlin:20230204T160000
DTEND;TZID=Europe/Berlin:20230204T220000
DTSTAMP:20260420T192226
CREATED:20221030T144105Z
LAST-MODIFIED:20230108T212240Z
UID:10003070-1675526400-1675548000@katago-ev.de
SUMMARY:Prerelease - Phyrexia - Single Sealed
DESCRIPTION:Willkommen zu unserem Prerelease Single Sealed Event im Vereinsheim des KaTaGO e.V. \nDies ist ein öffentliches Event\, zum dem auch Spieler kommen können\, die keine Mitglieder des Vereins sind.\nAufgrund der aktuellen Covid19 Bestimmungen können unsere Events ohne besondere Einschränkungen stattfinden. \nDas Event ist auf 32 Personen beschränkt\, damit wir trotz der Lockerungen ausreichend Platz für alle Spieler bieten können. \nAußerdem möchten wir jeden bitten\, nach Möglichkeit im Vorfeld einen Test irgendeiner Art durchzuführen\, um das Risiko zusätzlich zu reduzieren.\nDieser Test ist freiwillig und muss nicht vorgelegt werden! Bitte kommt nicht\, wenn ihr euch unwohl fühlt oder Erkältungsymptome aufweist. \nAchtet bei Registrierung darauf\, dass ihr eure Emailadresse angebt\, damit wir euch bei Änderungen oder Absagen informieren können.\nPrüft auch bitte am Tag es Events nochmal eure Emails\, ob noch neue Informationen rausgegeben wurden. \nBeim Single Sealed baut ihr euch aus einem Prerelease Kit ein Deck und spielt damit 1 Vs 1  Matches gegen eure Gegner.\nParallel wird auch ein Two Headed Giant Event angeboten. (2 vs 2) \nBitte beachtet\, dass es nur Mitgliedern gestattet wird eigene Getränke mitzubringen.\nAlle Anderen bedienen sich bitte an den von uns angebotenen Getränken. (2€ pro Getränk) \nSolltet ihr noch kein Mitglied sein\, aber Interesse an unseren Events oder einer Mitgliedschaft haben\, könnt ihr gerne einen ausgefüllten Mitgliedsantrag zum entsprechenden Event mitbringen und ab da einen kostenlosen Probemonat bei uns starten. Mitgliedsanträge gibt es hier. \nEventdetails \nAnmeldung:    16:00 – 16:30 Uhr\nDeckbau:          16:30 – 17:30 Uhr\nStart Runde 1:               17:30 Uhr \nFormat: Single Sealed\, maximal 4 Runden \nStartgeld: 35€ p.P. \nPreise: Boosterpreise nach Final Standings\, jeder Spieler erhält mind. ein Preisbooster \nWir freuen uns auf euch! \nAußerdem bitten wir um euer Verständnis\, dass sich die Umstände aufgrund der aktuellen Situation jederzeit ändern können und wir ggf. vom oben beschriebenen Ablauf abweichen müssen! 
URL:https://katago-ev.de/event/prerelease-the-brothers-war-single-sealed
LOCATION:Vereinsheim 1 (Hegelstraße 1a)\, Hegelstraße 1a\, Bamberg\, Bayern\, 96052\, Germany
CATEGORIES:Kartenspiele,Magic the Gathering
ATTACH;FMTTYPE=image/png:https://katago-ev.de/wp-content/uploads/2022/12/Phyrexia.png
END:VEVENT
END:VCALENDAR