BEGIN:VCALENDAR
VERSION:2.0
PRODID:-//katago-ev.de - ECPv6.15.0.1//NONSGML v1.0//EN
CALSCALE:GREGORIAN
METHOD:PUBLISH
X-ORIGINAL-URL:https://katago-ev.de
X-WR-CALDESC:Veranstaltungen für katago-ev.de
REFRESH-INTERVAL;VALUE=DURATION:PT1H
X-Robots-Tag:noindex
X-PUBLISHED-TTL:PT1H
BEGIN:VTIMEZONE
TZID:Europe/Berlin
BEGIN:DAYLIGHT
TZOFFSETFROM:+0100
TZOFFSETTO:+0200
TZNAME:CEST
DTSTART:20260329T010000
END:DAYLIGHT
BEGIN:STANDARD
TZOFFSETFROM:+0200
TZOFFSETTO:+0100
TZNAME:CET
DTSTART:20261025T010000
END:STANDARD
END:VTIMEZONE
BEGIN:VEVENT
DTSTART;TZID=Europe/Berlin:20260227T183000
DTEND;TZID=Europe/Berlin:20260227T233000
DTSTAMP:20260420T092727
CREATED:20260211T193207Z
LAST-MODIFIED:20260211T193207Z
UID:10011537-1772217000-1772235000@katago-ev.de
SUMMARY:Prerelease - Teenage Mutant Ninja Turtles - Single Sealed 1
DESCRIPTION:Willkommen zu unserem Prerelease Single Sealed Event im Vereinsheim des KaTaGO e.V. \nDies ist ein öffentliches Event\, zum dem auch Spieler kommen können\, die keine Mitglieder des Vereins sind. \nDas Event ist auf 16 Personen beschränkt \nAchtet bei Registrierung darauf\, dass ihr eure Emailadresse angebt\, damit wir euch bei Änderungen oder Absagen informieren können.\nPrüft auch bitte am Tag es Events nochmal eure Emails\, ob noch neue Informationen rausgegeben wurden. \nBeim Single Sealed baut ihr euch aus einem Prerelease Kit ein Deck und spielt damit 1 Vs 1  Matches gegen eure Gegner.\nParallel wird auch ein Two Headed Giant Event angeboten. (2 vs 2) \nBitte beachtet\, dass es nur Mitgliedern gestattet wird eigene Getränke mitzubringen.\nAlle Anderen bedienen sich bitte an den von uns angebotenen Getränken. (2€ pro Getränk) \nSolltet ihr noch kein Mitglied sein\, aber Interesse an unseren Events oder einer Mitgliedschaft haben\, könnt ihr gerne einen ausgefüllten Mitgliedsantrag zum entsprechenden Event mitbringen und ab da einen kostenlosen Probemonat bei uns starten. Mitgliedsanträge gibt es hier. \nEventdetails \nÖffnung:          18:30 Uhr\nAnmeldung:    18:40 – 19:00 Uhr\nDeckbau:          19:00 – 19:50 Uhr\nStart Runde 1:               20:00 Uhr \nFormat: Single Sealed\, maximal 4 Runden \nStartgeld: 40€ p.P. \nPreise: Boosterpreise nach Final Standings\, jeder Spieler erhält mind. ein Preisbooster \nDa es immer zu spontanen Änderungen kommen kann\, meldet euch bitte mit eurer Emailadresse\, damit wir euch entsprechend informieren können! \nBei Rückfragen wendet euch gerne an magic@katago-ev.de \nFragt uns auch gerne per Mail oder vor Ort nach unserer whatsapp Gruppe.\nÜber die Gruppe werden kurzfirstige Abstimmungen vorgenommen\, Infos und Termine kommuniziert. \nWir freuen uns auf euch!
URL:https://katago-ev.de/event/prerelease-teenage-mutant-ninja-turtles-single-sealed-1
LOCATION:Vereinsheim 2 (Hegelstraße 11a)\, Hegelstraße 11a\, Bamberg\, Bayern\, 96052\, Germany
CATEGORIES:Kartenspiele,Magic the Gathering
ATTACH;FMTTYPE=image/jpeg:https://katago-ev.de/wp-content/uploads/2026/02/IMG-20260211-WA0007.jpg
END:VEVENT
BEGIN:VEVENT
DTSTART;TZID=Europe/Berlin:20260228T130000
DTEND;TZID=Europe/Berlin:20260228T183000
DTSTAMP:20260420T092727
CREATED:20260211T193253Z
LAST-MODIFIED:20260211T200002Z
UID:10011539-1772283600-1772303400@katago-ev.de
SUMMARY:Prerelease -  Teenage Mutant Ninja Turtles - Single Sealed 2
DESCRIPTION:Willkommen zu unserem Prerelease Single Sealed Event im Vereinsheim des KaTaGO e.V. \nDies ist ein öffentliches Event\, zum dem auch Spieler kommen können\, die keine Mitglieder des Vereins sind. \nDas Event ist auf 24 Personen beschränkt \nAchtet bei Registrierung darauf\, dass ihr eure Emailadresse angebt\, damit wir euch bei Änderungen oder Absagen informieren können.\nPrüft auch bitte am Tag es Events nochmal eure Emails\, ob noch neue Informationen rausgegeben wurden. \nBeim Single Sealed baut ihr euch aus einem Prerelease Kit ein Deck und spielt damit 1 Vs 1  Matches gegen eure Gegner.\nParallel wird auch ein Two Headed Giant Event angeboten. (2 vs 2) \nBitte beachtet\, dass es nur Mitgliedern gestattet wird eigene Getränke mitzubringen.\nAlle Anderen bedienen sich bitte an den von uns angebotenen Getränken. (2€ pro Getränk) \nSolltet ihr noch kein Mitglied sein\, aber Interesse an unseren Events oder einer Mitgliedschaft haben\, könnt ihr gerne einen ausgefüllten Mitgliedsantrag zum entsprechenden Event mitbringen und ab da einen kostenlosen Probemonat bei uns starten. Mitgliedsanträge gibt es hier. \nEventdetails \nÖffnung:          13:00 Uhr\nAnmeldung:    13:10 – 13:30 Uhr\nDeckbau:          13:30 – 14:30 Uhr\nStart Runde 1:               14:30 Uhr \nFormat: Single Sealed\, maximal 4 Runden \nStartgeld: 40€ p.P. \nPreise: Boosterpreise nach Final Standings\, jeder Spieler erhält mind. ein Preisbooster \nDa es immer zu spontanen Änderungen kommen kann\, meldet euch bitte mit eurer Emailadresse\, damit wir euch entsprechend informieren können! \nBei Rückfragen wendet euch gerne an magic@katago-ev.de \nFragt uns auch gerne per Mail oder vor Ort nach unserer whatsapp Gruppe.\nÜber die Gruppe werden kurzfirstige Abstimmungen vorgenommen\, Infos und Termine kommuniziert. \nWir freuen uns auf euch!
URL:https://katago-ev.de/event/prerelease-teenage-mutant-ninja-turtles-single-sealed-2
LOCATION:Vereinsheim 1 (Hegelstraße 1a)\, Hegelstraße 1a\, Bamberg\, Bayern\, 96052\, Germany
CATEGORIES:Kartenspiele,Magic the Gathering
ATTACH;FMTTYPE=image/jpeg:https://katago-ev.de/wp-content/uploads/2026/02/IMG-20260211-WA0007.jpg
END:VEVENT
END:VCALENDAR