BEGIN:VCALENDAR
VERSION:2.0
PRODID:-//katago-ev.de - ECPv6.15.0.1//NONSGML v1.0//EN
CALSCALE:GREGORIAN
METHOD:PUBLISH
X-ORIGINAL-URL:https://katago-ev.de
X-WR-CALDESC:Veranstaltungen für katago-ev.de
REFRESH-INTERVAL;VALUE=DURATION:PT1H
X-Robots-Tag:noindex
X-PUBLISHED-TTL:PT1H
BEGIN:VTIMEZONE
TZID:Europe/Berlin
BEGIN:DAYLIGHT
TZOFFSETFROM:+0100
TZOFFSETTO:+0200
TZNAME:CEST
DTSTART:20250330T010000
END:DAYLIGHT
BEGIN:STANDARD
TZOFFSETFROM:+0200
TZOFFSETTO:+0100
TZNAME:CET
DTSTART:20251026T010000
END:STANDARD
END:VTIMEZONE
BEGIN:VEVENT
DTSTART;TZID=Europe/Berlin:20250920T103000
DTEND;TZID=Europe/Berlin:20250920T160000
DTSTAMP:20260421T102100
CREATED:20250726T092342Z
LAST-MODIFIED:20250910T161221Z
UID:10009620-1758364200-1758384000@katago-ev.de
SUMMARY:Yu-Gi-Oh! Sneak "DOOM OF DIMENSION"
DESCRIPTION:Es wird wieder Zeit für ein Duell!\nDie Fabis laden ein also kommt vorbei und lasst uns zusammen die neuen Karten testen. \nDie Plätze sind auf 32 limitiert also anmelden!! \nWICHTIG KONAMI ID MITBRINGEN \nDies ist ein öffentliches Event zu dem auch Spieler kommen können die kein Mitglied des Vereins sind.\nBitte beachtet\, dass es nur Mitgliedern gestattet wird eigene Getränke mitzubringen.\nAlle anderen bedienen sich bitte an den von uns angebotenen Getränken. \nEventdetails: \nAnmeldung: 10:30 – 10:55 Uhr \nStart der 1. Runde: 11:00 \nFormat: Sneak \nStartgeld: 20€ p.P \nPreise: 1. Platz-> Matte + Promokarte \n2. Platz-> Promokarte \nFragen an: yu-gi-oh@katago-ev.de \nWir freuen uns auf euch!
URL:https://katago-ev.de/event/yu-gi-oh-sneak-doom-of-dimension
LOCATION:Vereinsheim 2 (Hegelstraße 11a)\, Hegelstraße 11a\, Bamberg\, Bayern\, 96052\, Germany
CATEGORIES:Kartenspiele,Sneak,Yu-Gi-Oh!
ATTACH;FMTTYPE=image/jpeg:https://katago-ev.de/wp-content/uploads/2025/07/Screenshot_20250726_111748_me_bluemail_mail_MainActivity_edit_101547110900740.jpg
END:VEVENT
END:VCALENDAR