BEGIN:VCALENDAR
VERSION:2.0
PRODID:-//katago-ev.de - ECPv6.15.0.1//NONSGML v1.0//EN
CALSCALE:GREGORIAN
METHOD:PUBLISH
X-WR-CALNAME:katago-ev.de
X-ORIGINAL-URL:https://katago-ev.de
X-WR-CALDESC:Veranstaltungen für katago-ev.de
REFRESH-INTERVAL;VALUE=DURATION:PT1H
X-Robots-Tag:noindex
X-PUBLISHED-TTL:PT1H
BEGIN:VTIMEZONE
TZID:Europe/Berlin
BEGIN:DAYLIGHT
TZOFFSETFROM:+0100
TZOFFSETTO:+0200
TZNAME:CEST
DTSTART:20260329T010000
END:DAYLIGHT
BEGIN:STANDARD
TZOFFSETFROM:+0200
TZOFFSETTO:+0100
TZNAME:CET
DTSTART:20261025T010000
END:STANDARD
END:VTIMEZONE
BEGIN:VEVENT
DTSTART;TZID=Europe/Berlin:20260115T193000
DTEND;TZID=Europe/Berlin:20260115T223000
DTSTAMP:20260420T092827
CREATED:20260112T174633Z
LAST-MODIFIED:20260112T174633Z
UID:10010968-1768505400-1768516200@katago-ev.de
SUMMARY:Open Night: Social-Deduction
DESCRIPTION:Unser „kleiner“ Social-Deduction Spieleabend lädt alle ein\, die Lust auf Bluffen\, Diskutieren\, Täuschen und gemeinsames Rätseln haben. \nIn gemütlicher Runde spielen wir verschiedene kurzweilige Social-Deduction- und Deduktionsspiele\, bei denen Kommunikation und/oder Menschenkenntnis im Mittelpunkt stehen. \nJeder ist willkommen um vorbeizuschauen\, mitzuspielen und Spaß zu haben (: \nBeim Spieleabend im JANUAR stehen folgende Spiele auf dem Programm: \n\nFeed the Kraken\nWerwölfe – Vollmondnacht\nLove Letter\nSweet & Spicy\n\nOb Verräter entlarven\, Allianzen schmieden oder clever bluffen\, hier ist für jede Menge Spannung und Unterhaltung gesorgt. \nWir freuen uns auf einen geselligen Spieleabend mit euch! 
URL:https://katago-ev.de/event/open-night-social-deduction-2
LOCATION:Vereinsheim 2 (Hegelstraße 11a)\, Hegelstraße 11a\, Bamberg\, Bayern\, 96052\, Germany
CATEGORIES:Gesellschaftsspiele,Open Night,Social-Deduction-Spiele
END:VEVENT
END:VCALENDAR