BEGIN:VCALENDAR
VERSION:2.0
PRODID:-//katago-ev.de - ECPv6.15.0.1//NONSGML v1.0//EN
CALSCALE:GREGORIAN
METHOD:PUBLISH
X-ORIGINAL-URL:https://katago-ev.de
X-WR-CALDESC:Veranstaltungen für katago-ev.de
REFRESH-INTERVAL;VALUE=DURATION:PT1H
X-Robots-Tag:noindex
X-PUBLISHED-TTL:PT1H
BEGIN:VTIMEZONE
TZID:Europe/Berlin
BEGIN:DAYLIGHT
TZOFFSETFROM:+0100
TZOFFSETTO:+0200
TZNAME:CEST
DTSTART:20260329T010000
END:DAYLIGHT
BEGIN:STANDARD
TZOFFSETFROM:+0200
TZOFFSETTO:+0100
TZNAME:CET
DTSTART:20261025T010000
END:STANDARD
END:VTIMEZONE
BEGIN:VEVENT
DTSTART;TZID=Europe/Berlin:20260422T193000
DTEND;TZID=Europe/Berlin:20260422T220000
DTSTAMP:20260423T125927
CREATED:20260330T080743Z
LAST-MODIFIED:20260422T153005Z
UID:10012084-1776886200-1776895200@katago-ev.de
SUMMARY:feed the kraken: FÄLLT HEUTE AUS
DESCRIPTION:KRANKHEITSBEDINGT MUSS DAS EVENT LEIDER ABGESAGT WERDEN \n  \n  \n 
URL:https://katago-ev.de/event/feed-the-kraken-sea-of-shadows-playtest-event
LOCATION:Vereinsheim 1 – Hauptraum (Hegelstraße 1a)\, Hegelstraße 1a\, Bamberg\, Bayern\, 96052\, Germany
CATEGORIES:Brettspiel,Brettspiele,Feed the Kraken,Gesellschaftsspiele,Öffentliches Event,Playtest,Social-Deduction-Spiele
ATTACH;FMTTYPE=image/jpeg:https://katago-ev.de/wp-content/uploads/2025/11/Screenshot_20260204_115514_com_android_chrome_ChromeTabbedActivity_edit_706831821186144.jpg
END:VEVENT
END:VCALENDAR