BEGIN:VCALENDAR
VERSION:2.0
PRODID:-//katago-ev.de - ECPv6.15.0.1//NONSGML v1.0//EN
CALSCALE:GREGORIAN
METHOD:PUBLISH
X-ORIGINAL-URL:https://katago-ev.de
X-WR-CALDESC:Veranstaltungen für katago-ev.de
REFRESH-INTERVAL;VALUE=DURATION:PT1H
X-Robots-Tag:noindex
X-PUBLISHED-TTL:PT1H
BEGIN:VTIMEZONE
TZID:Europe/Berlin
BEGIN:DAYLIGHT
TZOFFSETFROM:+0100
TZOFFSETTO:+0200
TZNAME:CEST
DTSTART:20260329T010000
END:DAYLIGHT
BEGIN:STANDARD
TZOFFSETFROM:+0200
TZOFFSETTO:+0100
TZNAME:CET
DTSTART:20261025T010000
END:STANDARD
END:VTIMEZONE
BEGIN:VEVENT
DTSTART;TZID=Europe/Berlin:20260416T193000
DTEND;TZID=Europe/Berlin:20260416T223000
DTSTAMP:20260419T195630
CREATED:20260330T094122Z
LAST-MODIFIED:20260330T094122Z
UID:10010971-1776367800-1776378600@katago-ev.de
SUMMARY:Open Night: Social-Deduction
DESCRIPTION:Unser „kleiner“ Social-Deduction Spieleabend lädt alle ein\, die Lust auf Bluffen\, Diskutieren\, Täuschen und gemeinsames Rätseln haben. \nIn gemütlicher Runde spielen wir verschiedene kurzweilige Social-Deduction- und Deduktionsspiele\, bei denen Kommunikation und/oder Menschenkenntnis im Mittelpunkt stehen. \nJeder ist willkommen um vorbeizuschauen\, mitzuspielen und Spaß zu haben (: \nBeim Spieleabend im April stehen folgende Spiele auf dem Programm: \n– Deception: Mord in Hong Kong \n– Tempel des Schreckens \n– That’s not a Hat \n– Sweet & Spicy \nOb Verräter entlarven\, Allianzen schmieden oder clever bluffen\, hier ist für jede Menge Spannung und Unterhaltung gesorgt. \nWir freuen uns auf einen geselligen Spieleabend mit euch! 
URL:https://katago-ev.de/event/open-night-social-deduction-4-2
LOCATION:Vereinsheim 2 (Hegelstraße 11a)\, Hegelstraße 11a\, Bamberg\, Bayern\, 96052\, Germany
CATEGORIES:Gesellschaftsspiele,Open Night,Social-Deduction-Spiele
ATTACH;FMTTYPE=image/jpeg:https://katago-ev.de/wp-content/uploads/2025/11/IMG-20260324-WA0009.jpg
END:VEVENT
END:VCALENDAR