BEGIN:VCALENDAR
VERSION:2.0
PRODID:-//katago-ev.de - ECPv6.15.0.1//NONSGML v1.0//EN
CALSCALE:GREGORIAN
METHOD:PUBLISH
X-ORIGINAL-URL:https://katago-ev.de
X-WR-CALDESC:Veranstaltungen für katago-ev.de
REFRESH-INTERVAL;VALUE=DURATION:PT1H
X-Robots-Tag:noindex
X-PUBLISHED-TTL:PT1H
BEGIN:VTIMEZONE
TZID:Europe/Berlin
BEGIN:DAYLIGHT
TZOFFSETFROM:+0100
TZOFFSETTO:+0200
TZNAME:CEST
DTSTART:20250330T010000
END:DAYLIGHT
BEGIN:STANDARD
TZOFFSETFROM:+0200
TZOFFSETTO:+0100
TZNAME:CET
DTSTART:20251026T010000
END:STANDARD
END:VTIMEZONE
BEGIN:VEVENT
DTSTART;TZID=Europe/Berlin:20250208T130000
DTEND;TZID=Europe/Berlin:20250208T190000
DTSTAMP:20260422T080636
CREATED:20250112T182053Z
LAST-MODIFIED:20250112T182053Z
UID:10008061-1739019600-1739041200@katago-ev.de
SUMMARY:Prerelease - Aetherdrift - THG Sealed I
DESCRIPTION:Willkommen zu unserem Prerelease Two Headed Giant Sealed Event im Vereinsheim des KaTaGO e.V. \nDies ist ein öffentliches Event\, zum dem auch Spieler kommen können\, die keine Mitglieder des Vereins sind. \nDas Event ist auf 32 Personen beschränkt. \nAchtet bei Registrierung darauf\, dass ihr eure Emailadresse angebt\, damit wir euch bei Änderungen oder Absagen informieren können.\nPrüft auch bitte am Tag es Events nochmal eure Emails\, ob noch neue Informationen rausgegeben wurden. \nBeim Two Headed Giant spielt ihr zusammen mit einem Partner 2 vs 2 Matches\, wobei Ihr euch aus einem gemeinsamen Kartenpool (bestehend aus 2 Prerelease Kits) zwei Decks baut mit denen ihr gegen eure Gegner antretet. Bitte beachtet\, dass sich auch immer beide Spieler für das Event anmelden/voranmelden müssen. Solltet ihr keinen Partner haben\, möchtet aber gerne mitspielen\, könnt ihr gerne spontan vorbei kommen und schauen\, ob noch andere Spieler einen Partner suchen. Ihr könnt euch aber auch gerne per Mail (an: info@mtgo-ev.de / Betreff: „Prerelease“) an uns wenden und wir versuchen euch einen Partner zuzuweisen.\nParallel wird am Nachmittag auch ein Single Sealed Event angeboten\, für welches kein Partner benötigt wird. \nBitte beachtet\, dass es nur Mitgliedern gestattet wird eigene Getränke mitzubringen.\nAlle Anderen bedienen sich bitte an den von uns angebotenen Getränken. (2€ pro Getränk) \nSolltet ihr noch kein Mitglied sein\, aber Interesse an unseren Events oder einer Mitgliedschaft haben\, könnt ihr gerne einen ausgefüllten Mitgliedsantrag zum entsprechenden Event mitbringen und ab da einen kostenlosen Probemonat bei uns starten. Mitgliedsanträge gibt es hier. \nEventdetails \nÖffnung:          13:00 Uhr\nAnmeldung:    13:10 – 13:30 Uhr\nDeckbau:          13:30 – 14:30 Uhr\nStart Runde 1:               14:30 Uhr \nFormat: Twoheaded Giant\, maximal 4 Runden \nStartgeld: 35€ p.P. \nPreise: Boosterpreise nach Final Standings\, jeder Spieler erhält mind. ein Preisbooster \nDa es immer zu spontanen Änderungen kommen kann\, meldet euch bitte mit eurer Emailadresse\, damit wir euch entsprechend informieren können! \nBei Rückfragen wendet euch gerne an magic@katago-ev.de \nFragt uns auch gerne per Mail oder vor Ort nach unserer whatsapp Gruppe.\nÜber die Gruppe werden kurzfirstige Abstimmungen vorgenommen\, Infos und Termine kommuniziert. \nWir freuen uns auf euch!
URL:https://katago-ev.de/event/prerelease-aetherdrift-thg-sealed-i
LOCATION:Vereinsheim 1 (Hegelstraße 1a)\, Hegelstraße 1a\, Bamberg\, Bayern\, 96052\, Germany
CATEGORIES:Kartenspiele,Magic the Gathering
ATTACH;FMTTYPE=image/webp:https://katago-ev.de/wp-content/uploads/2025/01/events-magic-the-gathering-aetherdrift-pre-release.webp
END:VEVENT
BEGIN:VEVENT
DTSTART;TZID=Europe/Berlin:20250209T110000
DTEND;TZID=Europe/Berlin:20250209T160000
DTSTAMP:20260422T080636
CREATED:20250112T182144Z
LAST-MODIFIED:20250112T182144Z
UID:10008066-1739098800-1739116800@katago-ev.de
SUMMARY:Prerelease - Aetherdrift - THG Sealed II
DESCRIPTION:Willkommen zu unserem Prerelease Two Headed Giant Sealed Event im Vereinsheim des KaTaGO e.V. \nDies ist ein öffentliches Event\, zum dem auch Spieler kommen können\, die keine Mitglieder des Vereins sind. \nDas Event ist auf 32 Personen beschränkt. \nAchtet bei Registrierung darauf\, dass ihr eure Emailadresse angebt\, damit wir euch bei Änderungen oder Absagen informieren können.\nPrüft auch bitte am Tag es Events nochmal eure Emails\, ob noch neue Informationen rausgegeben wurden. \nBeim Two Headed Giant spielt ihr zusammen mit einem Partner 2 vs 2 Matches\, wobei Ihr euch aus einem gemeinsamen Kartenpool (bestehend aus 2 Prerelease Kits) zwei Decks baut mit denen ihr gegen eure Gegner antretet. Bitte beachtet\, dass sich auch immer beide Spieler für das Event anmelden/voranmelden müssen. Solltet ihr keinen Partner haben\, möchtet aber gerne mitspielen\, könnt ihr gerne spontan vorbei kommen und schauen\, ob noch andere Spieler einen Partner suchen. Ihr könnt euch aber auch gerne per Mail (an: info@mtgo-ev.de / Betreff: „Prerelease“) an uns wenden und wir versuchen euch einen Partner zuzuweisen.\nParallel wird am Nachmittag auch ein Single Sealed Event angeboten\, für welches kein Partner benötigt wird. \nBitte beachtet\, dass es nur Mitgliedern gestattet wird eigene Getränke mitzubringen.\nAlle Anderen bedienen sich bitte an den von uns angebotenen Getränken. (2€ pro Getränk) \nSolltet ihr noch kein Mitglied sein\, aber Interesse an unseren Events oder einer Mitgliedschaft haben\, könnt ihr gerne einen ausgefüllten Mitgliedsantrag zum entsprechenden Event mitbringen und ab da einen kostenlosen Probemonat bei uns starten. Mitgliedsanträge gibt es hier. \nEventdetails \nÖffnung:          11:00 Uhr\nAnmeldung:    11:10 – 11:30 Uhr\nDeckbau:          11:30 – 12:30 Uhr\nStart Runde 1:               12:30 Uhr \nFormat: Twoheaded Giant\, maximal 4 Runden \nStartgeld: 35€ p.P. \nPreise: Boosterpreise nach Final Standings\, jeder Spieler erhält mind. ein Preisbooster \nDa es immer zu spontanen Änderungen kommen kann\, meldet euch bitte mit eurer Emailadresse\, damit wir euch entsprechend informieren können! \nBei Rückfragen wendet euch gerne an magic@katago-ev.de \nFragt uns auch gerne per Mail oder vor Ort nach unserer whatsapp Gruppe.\nÜber die Gruppe werden kurzfirstige Abstimmungen vorgenommen\, Infos und Termine kommuniziert. \nWir freuen uns auf euch!
URL:https://katago-ev.de/event/prerelease-aetherdrift-thg-sealed-ii
LOCATION:Vereinsheim 1 (Hegelstraße 1a)\, Hegelstraße 1a\, Bamberg\, Bayern\, 96052\, Germany
CATEGORIES:Kartenspiele,Magic the Gathering
ATTACH;FMTTYPE=image/webp:https://katago-ev.de/wp-content/uploads/2025/01/events-magic-the-gathering-aetherdrift-pre-release.webp
END:VEVENT
END:VCALENDAR