BEGIN:VCALENDAR
VERSION:2.0
PRODID:-//katago-ev.de - ECPv6.15.0.1//NONSGML v1.0//EN
CALSCALE:GREGORIAN
METHOD:PUBLISH
X-WR-CALNAME:katago-ev.de
X-ORIGINAL-URL:https://katago-ev.de
X-WR-CALDESC:Veranstaltungen für katago-ev.de
REFRESH-INTERVAL;VALUE=DURATION:PT1H
X-Robots-Tag:noindex
X-PUBLISHED-TTL:PT1H
BEGIN:VTIMEZONE
TZID:Europe/Berlin
BEGIN:DAYLIGHT
TZOFFSETFROM:+0100
TZOFFSETTO:+0200
TZNAME:CEST
DTSTART:20280326T010000
END:DAYLIGHT
BEGIN:STANDARD
TZOFFSETFROM:+0200
TZOFFSETTO:+0100
TZNAME:CET
DTSTART:20281029T010000
END:STANDARD
END:VTIMEZONE
BEGIN:VEVENT
DTSTART;TZID=Europe/Berlin:20280326T140000
DTEND;TZID=Europe/Berlin:20280326T190000
DTSTAMP:20260422T021418
CREATED:20250425T075636Z
LAST-MODIFIED:20250425T133711Z
UID:10009113-1837692000-1837710000@katago-ev.de
SUMMARY:Custom40k - A Warhammer 40.000 Homebrew
DESCRIPTION:Einsteiger gern gesehen! \nEs wird Warhammer 40k mit einem eigenen\, von unserer Community entwickelten Regelwerk samt Codizes gespielt. \nFür Details schau bei uns im Discord vorbei\, dort finden alle relevanten Diskussionen dazu statt oder besuch uns direkt.
URL:https://katago-ev.de/event/custom40k-a-warhammer-40-000-homebrew-2/2028-03-26
LOCATION:Vereinsheim 1 – Keller (Hegelstraße 1a)\, Hegelstraße 1a\, Bamberg\, Bayern\, 96052\, Germany
CATEGORIES:Tabletop,Warhammer 40k
ATTACH;FMTTYPE=image/jpeg:https://katago-ev.de/wp-content/uploads/2025/04/40k_3rdEditionLogo.jpg
END:VEVENT
BEGIN:VEVENT
DTSTART;TZID=Europe/Berlin:20280402T140000
DTEND;TZID=Europe/Berlin:20280402T190000
DTSTAMP:20260422T021418
CREATED:20250425T075636Z
LAST-MODIFIED:20250425T133711Z
UID:10009114-1838296800-1838314800@katago-ev.de
SUMMARY:Custom40k - A Warhammer 40.000 Homebrew
DESCRIPTION:Einsteiger gern gesehen! \nEs wird Warhammer 40k mit einem eigenen\, von unserer Community entwickelten Regelwerk samt Codizes gespielt. \nFür Details schau bei uns im Discord vorbei\, dort finden alle relevanten Diskussionen dazu statt oder besuch uns direkt.
URL:https://katago-ev.de/event/custom40k-a-warhammer-40-000-homebrew-2/2028-04-02
LOCATION:Vereinsheim 1 – Keller (Hegelstraße 1a)\, Hegelstraße 1a\, Bamberg\, Bayern\, 96052\, Germany
CATEGORIES:Tabletop,Warhammer 40k
ATTACH;FMTTYPE=image/jpeg:https://katago-ev.de/wp-content/uploads/2025/04/40k_3rdEditionLogo.jpg
END:VEVENT
BEGIN:VEVENT
DTSTART;TZID=Europe/Berlin:20280409T140000
DTEND;TZID=Europe/Berlin:20280409T190000
DTSTAMP:20260422T021418
CREATED:20250425T075636Z
LAST-MODIFIED:20250425T133711Z
UID:10009115-1838901600-1838919600@katago-ev.de
SUMMARY:Custom40k - A Warhammer 40.000 Homebrew
DESCRIPTION:Einsteiger gern gesehen! \nEs wird Warhammer 40k mit einem eigenen\, von unserer Community entwickelten Regelwerk samt Codizes gespielt. \nFür Details schau bei uns im Discord vorbei\, dort finden alle relevanten Diskussionen dazu statt oder besuch uns direkt.
URL:https://katago-ev.de/event/custom40k-a-warhammer-40-000-homebrew-2/2028-04-09
LOCATION:Vereinsheim 1 – Keller (Hegelstraße 1a)\, Hegelstraße 1a\, Bamberg\, Bayern\, 96052\, Germany
CATEGORIES:Tabletop,Warhammer 40k
ATTACH;FMTTYPE=image/jpeg:https://katago-ev.de/wp-content/uploads/2025/04/40k_3rdEditionLogo.jpg
END:VEVENT
BEGIN:VEVENT
DTSTART;TZID=Europe/Berlin:20280416T140000
DTEND;TZID=Europe/Berlin:20280416T190000
DTSTAMP:20260422T021418
CREATED:20250425T075636Z
LAST-MODIFIED:20250425T133711Z
UID:10009116-1839506400-1839524400@katago-ev.de
SUMMARY:Custom40k - A Warhammer 40.000 Homebrew
DESCRIPTION:Einsteiger gern gesehen! \nEs wird Warhammer 40k mit einem eigenen\, von unserer Community entwickelten Regelwerk samt Codizes gespielt. \nFür Details schau bei uns im Discord vorbei\, dort finden alle relevanten Diskussionen dazu statt oder besuch uns direkt.
URL:https://katago-ev.de/event/custom40k-a-warhammer-40-000-homebrew-2/2028-04-16
LOCATION:Vereinsheim 1 – Keller (Hegelstraße 1a)\, Hegelstraße 1a\, Bamberg\, Bayern\, 96052\, Germany
CATEGORIES:Tabletop,Warhammer 40k
ATTACH;FMTTYPE=image/jpeg:https://katago-ev.de/wp-content/uploads/2025/04/40k_3rdEditionLogo.jpg
END:VEVENT
BEGIN:VEVENT
DTSTART;TZID=Europe/Berlin:20280423T140000
DTEND;TZID=Europe/Berlin:20280423T190000
DTSTAMP:20260422T021418
CREATED:20250425T075636Z
LAST-MODIFIED:20250425T133711Z
UID:10009117-1840111200-1840129200@katago-ev.de
SUMMARY:Custom40k - A Warhammer 40.000 Homebrew
DESCRIPTION:Einsteiger gern gesehen! \nEs wird Warhammer 40k mit einem eigenen\, von unserer Community entwickelten Regelwerk samt Codizes gespielt. \nFür Details schau bei uns im Discord vorbei\, dort finden alle relevanten Diskussionen dazu statt oder besuch uns direkt.
URL:https://katago-ev.de/event/custom40k-a-warhammer-40-000-homebrew-2/2028-04-23
LOCATION:Vereinsheim 1 – Keller (Hegelstraße 1a)\, Hegelstraße 1a\, Bamberg\, Bayern\, 96052\, Germany
CATEGORIES:Tabletop,Warhammer 40k
ATTACH;FMTTYPE=image/jpeg:https://katago-ev.de/wp-content/uploads/2025/04/40k_3rdEditionLogo.jpg
END:VEVENT
BEGIN:VEVENT
DTSTART;TZID=Europe/Berlin:20280430T140000
DTEND;TZID=Europe/Berlin:20280430T190000
DTSTAMP:20260422T021418
CREATED:20250425T075636Z
LAST-MODIFIED:20250425T133711Z
UID:10009118-1840716000-1840734000@katago-ev.de
SUMMARY:Custom40k - A Warhammer 40.000 Homebrew
DESCRIPTION:Einsteiger gern gesehen! \nEs wird Warhammer 40k mit einem eigenen\, von unserer Community entwickelten Regelwerk samt Codizes gespielt. \nFür Details schau bei uns im Discord vorbei\, dort finden alle relevanten Diskussionen dazu statt oder besuch uns direkt.
URL:https://katago-ev.de/event/custom40k-a-warhammer-40-000-homebrew-2/2028-04-30
LOCATION:Vereinsheim 1 – Keller (Hegelstraße 1a)\, Hegelstraße 1a\, Bamberg\, Bayern\, 96052\, Germany
CATEGORIES:Tabletop,Warhammer 40k
ATTACH;FMTTYPE=image/jpeg:https://katago-ev.de/wp-content/uploads/2025/04/40k_3rdEditionLogo.jpg
END:VEVENT
BEGIN:VEVENT
DTSTART;TZID=Europe/Berlin:20280507T140000
DTEND;TZID=Europe/Berlin:20280507T190000
DTSTAMP:20260422T021418
CREATED:20250425T075636Z
LAST-MODIFIED:20250425T133711Z
UID:10009119-1841320800-1841338800@katago-ev.de
SUMMARY:Custom40k - A Warhammer 40.000 Homebrew
DESCRIPTION:Einsteiger gern gesehen! \nEs wird Warhammer 40k mit einem eigenen\, von unserer Community entwickelten Regelwerk samt Codizes gespielt. \nFür Details schau bei uns im Discord vorbei\, dort finden alle relevanten Diskussionen dazu statt oder besuch uns direkt.
URL:https://katago-ev.de/event/custom40k-a-warhammer-40-000-homebrew-2/2028-05-07
LOCATION:Vereinsheim 1 – Keller (Hegelstraße 1a)\, Hegelstraße 1a\, Bamberg\, Bayern\, 96052\, Germany
CATEGORIES:Tabletop,Warhammer 40k
ATTACH;FMTTYPE=image/jpeg:https://katago-ev.de/wp-content/uploads/2025/04/40k_3rdEditionLogo.jpg
END:VEVENT
BEGIN:VEVENT
DTSTART;TZID=Europe/Berlin:20280514T140000
DTEND;TZID=Europe/Berlin:20280514T190000
DTSTAMP:20260422T021418
CREATED:20250425T075636Z
LAST-MODIFIED:20250425T133711Z
UID:10009120-1841925600-1841943600@katago-ev.de
SUMMARY:Custom40k - A Warhammer 40.000 Homebrew
DESCRIPTION:Einsteiger gern gesehen! \nEs wird Warhammer 40k mit einem eigenen\, von unserer Community entwickelten Regelwerk samt Codizes gespielt. \nFür Details schau bei uns im Discord vorbei\, dort finden alle relevanten Diskussionen dazu statt oder besuch uns direkt.
URL:https://katago-ev.de/event/custom40k-a-warhammer-40-000-homebrew-2/2028-05-14
LOCATION:Vereinsheim 1 – Keller (Hegelstraße 1a)\, Hegelstraße 1a\, Bamberg\, Bayern\, 96052\, Germany
CATEGORIES:Tabletop,Warhammer 40k
ATTACH;FMTTYPE=image/jpeg:https://katago-ev.de/wp-content/uploads/2025/04/40k_3rdEditionLogo.jpg
END:VEVENT
BEGIN:VEVENT
DTSTART;TZID=Europe/Berlin:20280521T140000
DTEND;TZID=Europe/Berlin:20280521T190000
DTSTAMP:20260422T021418
CREATED:20250425T075636Z
LAST-MODIFIED:20250425T133711Z
UID:10009121-1842530400-1842548400@katago-ev.de
SUMMARY:Custom40k - A Warhammer 40.000 Homebrew
DESCRIPTION:Einsteiger gern gesehen! \nEs wird Warhammer 40k mit einem eigenen\, von unserer Community entwickelten Regelwerk samt Codizes gespielt. \nFür Details schau bei uns im Discord vorbei\, dort finden alle relevanten Diskussionen dazu statt oder besuch uns direkt.
URL:https://katago-ev.de/event/custom40k-a-warhammer-40-000-homebrew-2/2028-05-21
LOCATION:Vereinsheim 1 – Keller (Hegelstraße 1a)\, Hegelstraße 1a\, Bamberg\, Bayern\, 96052\, Germany
CATEGORIES:Tabletop,Warhammer 40k
ATTACH;FMTTYPE=image/jpeg:https://katago-ev.de/wp-content/uploads/2025/04/40k_3rdEditionLogo.jpg
END:VEVENT
BEGIN:VEVENT
DTSTART;TZID=Europe/Berlin:20280528T140000
DTEND;TZID=Europe/Berlin:20280528T190000
DTSTAMP:20260422T021418
CREATED:20250425T075636Z
LAST-MODIFIED:20250425T133711Z
UID:10009122-1843135200-1843153200@katago-ev.de
SUMMARY:Custom40k - A Warhammer 40.000 Homebrew
DESCRIPTION:Einsteiger gern gesehen! \nEs wird Warhammer 40k mit einem eigenen\, von unserer Community entwickelten Regelwerk samt Codizes gespielt. \nFür Details schau bei uns im Discord vorbei\, dort finden alle relevanten Diskussionen dazu statt oder besuch uns direkt.
URL:https://katago-ev.de/event/custom40k-a-warhammer-40-000-homebrew-2/2028-05-28
LOCATION:Vereinsheim 1 – Keller (Hegelstraße 1a)\, Hegelstraße 1a\, Bamberg\, Bayern\, 96052\, Germany
CATEGORIES:Tabletop,Warhammer 40k
ATTACH;FMTTYPE=image/jpeg:https://katago-ev.de/wp-content/uploads/2025/04/40k_3rdEditionLogo.jpg
END:VEVENT
BEGIN:VEVENT
DTSTART;TZID=Europe/Berlin:20280604T140000
DTEND;TZID=Europe/Berlin:20280604T190000
DTSTAMP:20260422T021418
CREATED:20250425T075636Z
LAST-MODIFIED:20250425T133711Z
UID:10009123-1843740000-1843758000@katago-ev.de
SUMMARY:Custom40k - A Warhammer 40.000 Homebrew
DESCRIPTION:Einsteiger gern gesehen! \nEs wird Warhammer 40k mit einem eigenen\, von unserer Community entwickelten Regelwerk samt Codizes gespielt. \nFür Details schau bei uns im Discord vorbei\, dort finden alle relevanten Diskussionen dazu statt oder besuch uns direkt.
URL:https://katago-ev.de/event/custom40k-a-warhammer-40-000-homebrew-2/2028-06-04
LOCATION:Vereinsheim 1 – Keller (Hegelstraße 1a)\, Hegelstraße 1a\, Bamberg\, Bayern\, 96052\, Germany
CATEGORIES:Tabletop,Warhammer 40k
ATTACH;FMTTYPE=image/jpeg:https://katago-ev.de/wp-content/uploads/2025/04/40k_3rdEditionLogo.jpg
END:VEVENT
BEGIN:VEVENT
DTSTART;TZID=Europe/Berlin:20280611T140000
DTEND;TZID=Europe/Berlin:20280611T190000
DTSTAMP:20260422T021418
CREATED:20250425T075636Z
LAST-MODIFIED:20250425T133711Z
UID:10009124-1844344800-1844362800@katago-ev.de
SUMMARY:Custom40k - A Warhammer 40.000 Homebrew
DESCRIPTION:Einsteiger gern gesehen! \nEs wird Warhammer 40k mit einem eigenen\, von unserer Community entwickelten Regelwerk samt Codizes gespielt. \nFür Details schau bei uns im Discord vorbei\, dort finden alle relevanten Diskussionen dazu statt oder besuch uns direkt.
URL:https://katago-ev.de/event/custom40k-a-warhammer-40-000-homebrew-2/2028-06-11
LOCATION:Vereinsheim 1 – Keller (Hegelstraße 1a)\, Hegelstraße 1a\, Bamberg\, Bayern\, 96052\, Germany
CATEGORIES:Tabletop,Warhammer 40k
ATTACH;FMTTYPE=image/jpeg:https://katago-ev.de/wp-content/uploads/2025/04/40k_3rdEditionLogo.jpg
END:VEVENT
BEGIN:VEVENT
DTSTART;TZID=Europe/Berlin:20280618T140000
DTEND;TZID=Europe/Berlin:20280618T190000
DTSTAMP:20260422T021418
CREATED:20250425T075636Z
LAST-MODIFIED:20250425T133711Z
UID:10009125-1844949600-1844967600@katago-ev.de
SUMMARY:Custom40k - A Warhammer 40.000 Homebrew
DESCRIPTION:Einsteiger gern gesehen! \nEs wird Warhammer 40k mit einem eigenen\, von unserer Community entwickelten Regelwerk samt Codizes gespielt. \nFür Details schau bei uns im Discord vorbei\, dort finden alle relevanten Diskussionen dazu statt oder besuch uns direkt.
URL:https://katago-ev.de/event/custom40k-a-warhammer-40-000-homebrew-2/2028-06-18
LOCATION:Vereinsheim 1 – Keller (Hegelstraße 1a)\, Hegelstraße 1a\, Bamberg\, Bayern\, 96052\, Germany
CATEGORIES:Tabletop,Warhammer 40k
ATTACH;FMTTYPE=image/jpeg:https://katago-ev.de/wp-content/uploads/2025/04/40k_3rdEditionLogo.jpg
END:VEVENT
BEGIN:VEVENT
DTSTART;TZID=Europe/Berlin:20280625T140000
DTEND;TZID=Europe/Berlin:20280625T190000
DTSTAMP:20260422T021418
CREATED:20250425T075636Z
LAST-MODIFIED:20250425T133711Z
UID:10009126-1845554400-1845572400@katago-ev.de
SUMMARY:Custom40k - A Warhammer 40.000 Homebrew
DESCRIPTION:Einsteiger gern gesehen! \nEs wird Warhammer 40k mit einem eigenen\, von unserer Community entwickelten Regelwerk samt Codizes gespielt. \nFür Details schau bei uns im Discord vorbei\, dort finden alle relevanten Diskussionen dazu statt oder besuch uns direkt.
URL:https://katago-ev.de/event/custom40k-a-warhammer-40-000-homebrew-2/2028-06-25
LOCATION:Vereinsheim 1 – Keller (Hegelstraße 1a)\, Hegelstraße 1a\, Bamberg\, Bayern\, 96052\, Germany
CATEGORIES:Tabletop,Warhammer 40k
ATTACH;FMTTYPE=image/jpeg:https://katago-ev.de/wp-content/uploads/2025/04/40k_3rdEditionLogo.jpg
END:VEVENT
BEGIN:VEVENT
DTSTART;TZID=Europe/Berlin:20280702T140000
DTEND;TZID=Europe/Berlin:20280702T190000
DTSTAMP:20260422T021418
CREATED:20250425T075636Z
LAST-MODIFIED:20250425T133711Z
UID:10009127-1846159200-1846177200@katago-ev.de
SUMMARY:Custom40k - A Warhammer 40.000 Homebrew
DESCRIPTION:Einsteiger gern gesehen! \nEs wird Warhammer 40k mit einem eigenen\, von unserer Community entwickelten Regelwerk samt Codizes gespielt. \nFür Details schau bei uns im Discord vorbei\, dort finden alle relevanten Diskussionen dazu statt oder besuch uns direkt.
URL:https://katago-ev.de/event/custom40k-a-warhammer-40-000-homebrew-2/2028-07-02
LOCATION:Vereinsheim 1 – Keller (Hegelstraße 1a)\, Hegelstraße 1a\, Bamberg\, Bayern\, 96052\, Germany
CATEGORIES:Tabletop,Warhammer 40k
ATTACH;FMTTYPE=image/jpeg:https://katago-ev.de/wp-content/uploads/2025/04/40k_3rdEditionLogo.jpg
END:VEVENT
BEGIN:VEVENT
DTSTART;TZID=Europe/Berlin:20280709T140000
DTEND;TZID=Europe/Berlin:20280709T190000
DTSTAMP:20260422T021418
CREATED:20250425T075636Z
LAST-MODIFIED:20250425T133711Z
UID:10009128-1846764000-1846782000@katago-ev.de
SUMMARY:Custom40k - A Warhammer 40.000 Homebrew
DESCRIPTION:Einsteiger gern gesehen! \nEs wird Warhammer 40k mit einem eigenen\, von unserer Community entwickelten Regelwerk samt Codizes gespielt. \nFür Details schau bei uns im Discord vorbei\, dort finden alle relevanten Diskussionen dazu statt oder besuch uns direkt.
URL:https://katago-ev.de/event/custom40k-a-warhammer-40-000-homebrew-2/2028-07-09
LOCATION:Vereinsheim 1 – Keller (Hegelstraße 1a)\, Hegelstraße 1a\, Bamberg\, Bayern\, 96052\, Germany
CATEGORIES:Tabletop,Warhammer 40k
ATTACH;FMTTYPE=image/jpeg:https://katago-ev.de/wp-content/uploads/2025/04/40k_3rdEditionLogo.jpg
END:VEVENT
BEGIN:VEVENT
DTSTART;TZID=Europe/Berlin:20280716T140000
DTEND;TZID=Europe/Berlin:20280716T190000
DTSTAMP:20260422T021418
CREATED:20250425T075636Z
LAST-MODIFIED:20250425T133711Z
UID:10009129-1847368800-1847386800@katago-ev.de
SUMMARY:Custom40k - A Warhammer 40.000 Homebrew
DESCRIPTION:Einsteiger gern gesehen! \nEs wird Warhammer 40k mit einem eigenen\, von unserer Community entwickelten Regelwerk samt Codizes gespielt. \nFür Details schau bei uns im Discord vorbei\, dort finden alle relevanten Diskussionen dazu statt oder besuch uns direkt.
URL:https://katago-ev.de/event/custom40k-a-warhammer-40-000-homebrew-2/2028-07-16
LOCATION:Vereinsheim 1 – Keller (Hegelstraße 1a)\, Hegelstraße 1a\, Bamberg\, Bayern\, 96052\, Germany
CATEGORIES:Tabletop,Warhammer 40k
ATTACH;FMTTYPE=image/jpeg:https://katago-ev.de/wp-content/uploads/2025/04/40k_3rdEditionLogo.jpg
END:VEVENT
BEGIN:VEVENT
DTSTART;TZID=Europe/Berlin:20280723T140000
DTEND;TZID=Europe/Berlin:20280723T190000
DTSTAMP:20260422T021418
CREATED:20250425T075636Z
LAST-MODIFIED:20250425T133711Z
UID:10009130-1847973600-1847991600@katago-ev.de
SUMMARY:Custom40k - A Warhammer 40.000 Homebrew
DESCRIPTION:Einsteiger gern gesehen! \nEs wird Warhammer 40k mit einem eigenen\, von unserer Community entwickelten Regelwerk samt Codizes gespielt. \nFür Details schau bei uns im Discord vorbei\, dort finden alle relevanten Diskussionen dazu statt oder besuch uns direkt.
URL:https://katago-ev.de/event/custom40k-a-warhammer-40-000-homebrew-2/2028-07-23
LOCATION:Vereinsheim 1 – Keller (Hegelstraße 1a)\, Hegelstraße 1a\, Bamberg\, Bayern\, 96052\, Germany
CATEGORIES:Tabletop,Warhammer 40k
ATTACH;FMTTYPE=image/jpeg:https://katago-ev.de/wp-content/uploads/2025/04/40k_3rdEditionLogo.jpg
END:VEVENT
BEGIN:VEVENT
DTSTART;TZID=Europe/Berlin:20280730T140000
DTEND;TZID=Europe/Berlin:20280730T190000
DTSTAMP:20260422T021418
CREATED:20250425T075636Z
LAST-MODIFIED:20250425T133711Z
UID:10009131-1848578400-1848596400@katago-ev.de
SUMMARY:Custom40k - A Warhammer 40.000 Homebrew
DESCRIPTION:Einsteiger gern gesehen! \nEs wird Warhammer 40k mit einem eigenen\, von unserer Community entwickelten Regelwerk samt Codizes gespielt. \nFür Details schau bei uns im Discord vorbei\, dort finden alle relevanten Diskussionen dazu statt oder besuch uns direkt.
URL:https://katago-ev.de/event/custom40k-a-warhammer-40-000-homebrew-2/2028-07-30
LOCATION:Vereinsheim 1 – Keller (Hegelstraße 1a)\, Hegelstraße 1a\, Bamberg\, Bayern\, 96052\, Germany
CATEGORIES:Tabletop,Warhammer 40k
ATTACH;FMTTYPE=image/jpeg:https://katago-ev.de/wp-content/uploads/2025/04/40k_3rdEditionLogo.jpg
END:VEVENT
BEGIN:VEVENT
DTSTART;TZID=Europe/Berlin:20280806T140000
DTEND;TZID=Europe/Berlin:20280806T190000
DTSTAMP:20260422T021418
CREATED:20250425T075636Z
LAST-MODIFIED:20250425T133711Z
UID:10009132-1849183200-1849201200@katago-ev.de
SUMMARY:Custom40k - A Warhammer 40.000 Homebrew
DESCRIPTION:Einsteiger gern gesehen! \nEs wird Warhammer 40k mit einem eigenen\, von unserer Community entwickelten Regelwerk samt Codizes gespielt. \nFür Details schau bei uns im Discord vorbei\, dort finden alle relevanten Diskussionen dazu statt oder besuch uns direkt.
URL:https://katago-ev.de/event/custom40k-a-warhammer-40-000-homebrew-2/2028-08-06
LOCATION:Vereinsheim 1 – Keller (Hegelstraße 1a)\, Hegelstraße 1a\, Bamberg\, Bayern\, 96052\, Germany
CATEGORIES:Tabletop,Warhammer 40k
ATTACH;FMTTYPE=image/jpeg:https://katago-ev.de/wp-content/uploads/2025/04/40k_3rdEditionLogo.jpg
END:VEVENT
BEGIN:VEVENT
DTSTART;TZID=Europe/Berlin:20280813T140000
DTEND;TZID=Europe/Berlin:20280813T190000
DTSTAMP:20260422T021418
CREATED:20250425T075636Z
LAST-MODIFIED:20250425T133711Z
UID:10009133-1849788000-1849806000@katago-ev.de
SUMMARY:Custom40k - A Warhammer 40.000 Homebrew
DESCRIPTION:Einsteiger gern gesehen! \nEs wird Warhammer 40k mit einem eigenen\, von unserer Community entwickelten Regelwerk samt Codizes gespielt. \nFür Details schau bei uns im Discord vorbei\, dort finden alle relevanten Diskussionen dazu statt oder besuch uns direkt.
URL:https://katago-ev.de/event/custom40k-a-warhammer-40-000-homebrew-2/2028-08-13
LOCATION:Vereinsheim 1 – Keller (Hegelstraße 1a)\, Hegelstraße 1a\, Bamberg\, Bayern\, 96052\, Germany
CATEGORIES:Tabletop,Warhammer 40k
ATTACH;FMTTYPE=image/jpeg:https://katago-ev.de/wp-content/uploads/2025/04/40k_3rdEditionLogo.jpg
END:VEVENT
BEGIN:VEVENT
DTSTART;TZID=Europe/Berlin:20280820T140000
DTEND;TZID=Europe/Berlin:20280820T190000
DTSTAMP:20260422T021418
CREATED:20250425T075636Z
LAST-MODIFIED:20250425T133711Z
UID:10009134-1850392800-1850410800@katago-ev.de
SUMMARY:Custom40k - A Warhammer 40.000 Homebrew
DESCRIPTION:Einsteiger gern gesehen! \nEs wird Warhammer 40k mit einem eigenen\, von unserer Community entwickelten Regelwerk samt Codizes gespielt. \nFür Details schau bei uns im Discord vorbei\, dort finden alle relevanten Diskussionen dazu statt oder besuch uns direkt.
URL:https://katago-ev.de/event/custom40k-a-warhammer-40-000-homebrew-2/2028-08-20
LOCATION:Vereinsheim 1 – Keller (Hegelstraße 1a)\, Hegelstraße 1a\, Bamberg\, Bayern\, 96052\, Germany
CATEGORIES:Tabletop,Warhammer 40k
ATTACH;FMTTYPE=image/jpeg:https://katago-ev.de/wp-content/uploads/2025/04/40k_3rdEditionLogo.jpg
END:VEVENT
BEGIN:VEVENT
DTSTART;TZID=Europe/Berlin:20280827T140000
DTEND;TZID=Europe/Berlin:20280827T190000
DTSTAMP:20260422T021418
CREATED:20250425T075636Z
LAST-MODIFIED:20250425T133711Z
UID:10009135-1850997600-1851015600@katago-ev.de
SUMMARY:Custom40k - A Warhammer 40.000 Homebrew
DESCRIPTION:Einsteiger gern gesehen! \nEs wird Warhammer 40k mit einem eigenen\, von unserer Community entwickelten Regelwerk samt Codizes gespielt. \nFür Details schau bei uns im Discord vorbei\, dort finden alle relevanten Diskussionen dazu statt oder besuch uns direkt.
URL:https://katago-ev.de/event/custom40k-a-warhammer-40-000-homebrew-2/2028-08-27
LOCATION:Vereinsheim 1 – Keller (Hegelstraße 1a)\, Hegelstraße 1a\, Bamberg\, Bayern\, 96052\, Germany
CATEGORIES:Tabletop,Warhammer 40k
ATTACH;FMTTYPE=image/jpeg:https://katago-ev.de/wp-content/uploads/2025/04/40k_3rdEditionLogo.jpg
END:VEVENT
BEGIN:VEVENT
DTSTART;TZID=Europe/Berlin:20280903T140000
DTEND;TZID=Europe/Berlin:20280903T190000
DTSTAMP:20260422T021418
CREATED:20250425T075636Z
LAST-MODIFIED:20250425T133711Z
UID:10009136-1851602400-1851620400@katago-ev.de
SUMMARY:Custom40k - A Warhammer 40.000 Homebrew
DESCRIPTION:Einsteiger gern gesehen! \nEs wird Warhammer 40k mit einem eigenen\, von unserer Community entwickelten Regelwerk samt Codizes gespielt. \nFür Details schau bei uns im Discord vorbei\, dort finden alle relevanten Diskussionen dazu statt oder besuch uns direkt.
URL:https://katago-ev.de/event/custom40k-a-warhammer-40-000-homebrew-2/2028-09-03
LOCATION:Vereinsheim 1 – Keller (Hegelstraße 1a)\, Hegelstraße 1a\, Bamberg\, Bayern\, 96052\, Germany
CATEGORIES:Tabletop,Warhammer 40k
ATTACH;FMTTYPE=image/jpeg:https://katago-ev.de/wp-content/uploads/2025/04/40k_3rdEditionLogo.jpg
END:VEVENT
BEGIN:VEVENT
DTSTART;TZID=Europe/Berlin:20280910T140000
DTEND;TZID=Europe/Berlin:20280910T190000
DTSTAMP:20260422T021418
CREATED:20250425T075636Z
LAST-MODIFIED:20250425T133711Z
UID:10009137-1852207200-1852225200@katago-ev.de
SUMMARY:Custom40k - A Warhammer 40.000 Homebrew
DESCRIPTION:Einsteiger gern gesehen! \nEs wird Warhammer 40k mit einem eigenen\, von unserer Community entwickelten Regelwerk samt Codizes gespielt. \nFür Details schau bei uns im Discord vorbei\, dort finden alle relevanten Diskussionen dazu statt oder besuch uns direkt.
URL:https://katago-ev.de/event/custom40k-a-warhammer-40-000-homebrew-2/2028-09-10
LOCATION:Vereinsheim 1 – Keller (Hegelstraße 1a)\, Hegelstraße 1a\, Bamberg\, Bayern\, 96052\, Germany
CATEGORIES:Tabletop,Warhammer 40k
ATTACH;FMTTYPE=image/jpeg:https://katago-ev.de/wp-content/uploads/2025/04/40k_3rdEditionLogo.jpg
END:VEVENT
BEGIN:VEVENT
DTSTART;TZID=Europe/Berlin:20280917T140000
DTEND;TZID=Europe/Berlin:20280917T190000
DTSTAMP:20260422T021418
CREATED:20250425T075636Z
LAST-MODIFIED:20250425T133711Z
UID:10009138-1852812000-1852830000@katago-ev.de
SUMMARY:Custom40k - A Warhammer 40.000 Homebrew
DESCRIPTION:Einsteiger gern gesehen! \nEs wird Warhammer 40k mit einem eigenen\, von unserer Community entwickelten Regelwerk samt Codizes gespielt. \nFür Details schau bei uns im Discord vorbei\, dort finden alle relevanten Diskussionen dazu statt oder besuch uns direkt.
URL:https://katago-ev.de/event/custom40k-a-warhammer-40-000-homebrew-2/2028-09-17
LOCATION:Vereinsheim 1 – Keller (Hegelstraße 1a)\, Hegelstraße 1a\, Bamberg\, Bayern\, 96052\, Germany
CATEGORIES:Tabletop,Warhammer 40k
ATTACH;FMTTYPE=image/jpeg:https://katago-ev.de/wp-content/uploads/2025/04/40k_3rdEditionLogo.jpg
END:VEVENT
BEGIN:VEVENT
DTSTART;TZID=Europe/Berlin:20280924T140000
DTEND;TZID=Europe/Berlin:20280924T190000
DTSTAMP:20260422T021418
CREATED:20250425T075636Z
LAST-MODIFIED:20250425T133711Z
UID:10009139-1853416800-1853434800@katago-ev.de
SUMMARY:Custom40k - A Warhammer 40.000 Homebrew
DESCRIPTION:Einsteiger gern gesehen! \nEs wird Warhammer 40k mit einem eigenen\, von unserer Community entwickelten Regelwerk samt Codizes gespielt. \nFür Details schau bei uns im Discord vorbei\, dort finden alle relevanten Diskussionen dazu statt oder besuch uns direkt.
URL:https://katago-ev.de/event/custom40k-a-warhammer-40-000-homebrew-2/2028-09-24
LOCATION:Vereinsheim 1 – Keller (Hegelstraße 1a)\, Hegelstraße 1a\, Bamberg\, Bayern\, 96052\, Germany
CATEGORIES:Tabletop,Warhammer 40k
ATTACH;FMTTYPE=image/jpeg:https://katago-ev.de/wp-content/uploads/2025/04/40k_3rdEditionLogo.jpg
END:VEVENT
BEGIN:VEVENT
DTSTART;TZID=Europe/Berlin:20281001T140000
DTEND;TZID=Europe/Berlin:20281001T190000
DTSTAMP:20260422T021418
CREATED:20250425T075636Z
LAST-MODIFIED:20250425T133711Z
UID:10009140-1854021600-1854039600@katago-ev.de
SUMMARY:Custom40k - A Warhammer 40.000 Homebrew
DESCRIPTION:Einsteiger gern gesehen! \nEs wird Warhammer 40k mit einem eigenen\, von unserer Community entwickelten Regelwerk samt Codizes gespielt. \nFür Details schau bei uns im Discord vorbei\, dort finden alle relevanten Diskussionen dazu statt oder besuch uns direkt.
URL:https://katago-ev.de/event/custom40k-a-warhammer-40-000-homebrew-2/2028-10-01
LOCATION:Vereinsheim 1 – Keller (Hegelstraße 1a)\, Hegelstraße 1a\, Bamberg\, Bayern\, 96052\, Germany
CATEGORIES:Tabletop,Warhammer 40k
ATTACH;FMTTYPE=image/jpeg:https://katago-ev.de/wp-content/uploads/2025/04/40k_3rdEditionLogo.jpg
END:VEVENT
BEGIN:VEVENT
DTSTART;TZID=Europe/Berlin:20281008T140000
DTEND;TZID=Europe/Berlin:20281008T190000
DTSTAMP:20260422T021418
CREATED:20250425T075636Z
LAST-MODIFIED:20250425T133711Z
UID:10009141-1854626400-1854644400@katago-ev.de
SUMMARY:Custom40k - A Warhammer 40.000 Homebrew
DESCRIPTION:Einsteiger gern gesehen! \nEs wird Warhammer 40k mit einem eigenen\, von unserer Community entwickelten Regelwerk samt Codizes gespielt. \nFür Details schau bei uns im Discord vorbei\, dort finden alle relevanten Diskussionen dazu statt oder besuch uns direkt.
URL:https://katago-ev.de/event/custom40k-a-warhammer-40-000-homebrew-2/2028-10-08
LOCATION:Vereinsheim 1 – Keller (Hegelstraße 1a)\, Hegelstraße 1a\, Bamberg\, Bayern\, 96052\, Germany
CATEGORIES:Tabletop,Warhammer 40k
ATTACH;FMTTYPE=image/jpeg:https://katago-ev.de/wp-content/uploads/2025/04/40k_3rdEditionLogo.jpg
END:VEVENT
BEGIN:VEVENT
DTSTART;TZID=Europe/Berlin:20281015T140000
DTEND;TZID=Europe/Berlin:20281015T190000
DTSTAMP:20260422T021418
CREATED:20250425T075636Z
LAST-MODIFIED:20250425T133711Z
UID:10009142-1855231200-1855249200@katago-ev.de
SUMMARY:Custom40k - A Warhammer 40.000 Homebrew
DESCRIPTION:Einsteiger gern gesehen! \nEs wird Warhammer 40k mit einem eigenen\, von unserer Community entwickelten Regelwerk samt Codizes gespielt. \nFür Details schau bei uns im Discord vorbei\, dort finden alle relevanten Diskussionen dazu statt oder besuch uns direkt.
URL:https://katago-ev.de/event/custom40k-a-warhammer-40-000-homebrew-2/2028-10-15
LOCATION:Vereinsheim 1 – Keller (Hegelstraße 1a)\, Hegelstraße 1a\, Bamberg\, Bayern\, 96052\, Germany
CATEGORIES:Tabletop,Warhammer 40k
ATTACH;FMTTYPE=image/jpeg:https://katago-ev.de/wp-content/uploads/2025/04/40k_3rdEditionLogo.jpg
END:VEVENT
END:VCALENDAR