BEGIN:VCALENDAR
VERSION:2.0
PRODID:-//katago-ev.de - ECPv6.15.0.1//NONSGML v1.0//EN
CALSCALE:GREGORIAN
METHOD:PUBLISH
X-WR-CALNAME:katago-ev.de
X-ORIGINAL-URL:https://katago-ev.de
X-WR-CALDESC:Veranstaltungen für katago-ev.de
REFRESH-INTERVAL;VALUE=DURATION:PT1H
X-Robots-Tag:noindex
X-PUBLISHED-TTL:PT1H
BEGIN:VTIMEZONE
TZID:Europe/Berlin
BEGIN:DAYLIGHT
TZOFFSETFROM:+0100
TZOFFSETTO:+0200
TZNAME:CEST
DTSTART:20290325T010000
END:DAYLIGHT
BEGIN:STANDARD
TZOFFSETFROM:+0200
TZOFFSETTO:+0100
TZNAME:CET
DTSTART:20291028T010000
END:STANDARD
END:VTIMEZONE
BEGIN:VEVENT
DTSTART;TZID=Europe/Berlin:20290309T080000
DTEND;TZID=Europe/Berlin:20290309T110000
DTSTAMP:20260423T150610
CREATED:20240626T211540Z
LAST-MODIFIED:20240626T211540Z
UID:10007012-1867737600-1867748400@katago-ev.de
SUMMARY:Reinigung Vereinsheim
DESCRIPTION:
URL:https://katago-ev.de/event/reinigung-vereinsheim-2/2029-03-09
LOCATION:Beide Gebäude (Hegelstraße 1a & 11a)\, Hegelstraße 1a\, Bamberg\, 96052\, Germany
END:VEVENT
BEGIN:VEVENT
DTSTART;TZID=Europe/Berlin:20290312T080000
DTEND;TZID=Europe/Berlin:20290312T110000
DTSTAMP:20260423T150610
CREATED:20240626T211336Z
LAST-MODIFIED:20240626T211506Z
UID:10006491-1867996800-1868007600@katago-ev.de
SUMMARY:Reinigung Vereinsheim
DESCRIPTION:
URL:https://katago-ev.de/event/reinigung-vereinsheim/2029-03-12
LOCATION:Beide Gebäude (Hegelstraße 1a & 11a)\, Hegelstraße 1a\, Bamberg\, 96052\, Germany
END:VEVENT
BEGIN:VEVENT
DTSTART;TZID=Europe/Berlin:20290316T080000
DTEND;TZID=Europe/Berlin:20290316T110000
DTSTAMP:20260423T150610
CREATED:20240626T211540Z
LAST-MODIFIED:20240626T211540Z
UID:10007013-1868342400-1868353200@katago-ev.de
SUMMARY:Reinigung Vereinsheim
DESCRIPTION:
URL:https://katago-ev.de/event/reinigung-vereinsheim-2/2029-03-16
LOCATION:Beide Gebäude (Hegelstraße 1a & 11a)\, Hegelstraße 1a\, Bamberg\, 96052\, Germany
END:VEVENT
BEGIN:VEVENT
DTSTART;TZID=Europe/Berlin:20290319T080000
DTEND;TZID=Europe/Berlin:20290319T110000
DTSTAMP:20260423T150610
CREATED:20240626T211336Z
LAST-MODIFIED:20240626T211506Z
UID:10006492-1868601600-1868612400@katago-ev.de
SUMMARY:Reinigung Vereinsheim
DESCRIPTION:
URL:https://katago-ev.de/event/reinigung-vereinsheim/2029-03-19
LOCATION:Beide Gebäude (Hegelstraße 1a & 11a)\, Hegelstraße 1a\, Bamberg\, 96052\, Germany
END:VEVENT
BEGIN:VEVENT
DTSTART;TZID=Europe/Berlin:20290323T080000
DTEND;TZID=Europe/Berlin:20290323T110000
DTSTAMP:20260423T150610
CREATED:20240626T211540Z
LAST-MODIFIED:20240626T211540Z
UID:10007014-1868947200-1868958000@katago-ev.de
SUMMARY:Reinigung Vereinsheim
DESCRIPTION:
URL:https://katago-ev.de/event/reinigung-vereinsheim-2/2029-03-23
LOCATION:Beide Gebäude (Hegelstraße 1a & 11a)\, Hegelstraße 1a\, Bamberg\, 96052\, Germany
END:VEVENT
BEGIN:VEVENT
DTSTART;TZID=Europe/Berlin:20290326T080000
DTEND;TZID=Europe/Berlin:20290326T110000
DTSTAMP:20260423T150610
CREATED:20240626T211336Z
LAST-MODIFIED:20240626T211506Z
UID:10006493-1869206400-1869217200@katago-ev.de
SUMMARY:Reinigung Vereinsheim
DESCRIPTION:
URL:https://katago-ev.de/event/reinigung-vereinsheim/2029-03-26
LOCATION:Beide Gebäude (Hegelstraße 1a & 11a)\, Hegelstraße 1a\, Bamberg\, 96052\, Germany
END:VEVENT
BEGIN:VEVENT
DTSTART;TZID=Europe/Berlin:20290330T080000
DTEND;TZID=Europe/Berlin:20290330T110000
DTSTAMP:20260423T150610
CREATED:20240626T211540Z
LAST-MODIFIED:20240626T211540Z
UID:10007015-1869552000-1869562800@katago-ev.de
SUMMARY:Reinigung Vereinsheim
DESCRIPTION:
URL:https://katago-ev.de/event/reinigung-vereinsheim-2/2029-03-30
LOCATION:Beide Gebäude (Hegelstraße 1a & 11a)\, Hegelstraße 1a\, Bamberg\, 96052\, Germany
END:VEVENT
BEGIN:VEVENT
DTSTART;TZID=Europe/Berlin:20290402T080000
DTEND;TZID=Europe/Berlin:20290402T110000
DTSTAMP:20260423T150610
CREATED:20240626T211336Z
LAST-MODIFIED:20240626T211506Z
UID:10006494-1869811200-1869822000@katago-ev.de
SUMMARY:Reinigung Vereinsheim
DESCRIPTION:
URL:https://katago-ev.de/event/reinigung-vereinsheim/2029-04-02
LOCATION:Beide Gebäude (Hegelstraße 1a & 11a)\, Hegelstraße 1a\, Bamberg\, 96052\, Germany
END:VEVENT
BEGIN:VEVENT
DTSTART;TZID=Europe/Berlin:20290406T080000
DTEND;TZID=Europe/Berlin:20290406T110000
DTSTAMP:20260423T150610
CREATED:20240626T211540Z
LAST-MODIFIED:20240626T211540Z
UID:10007016-1870156800-1870167600@katago-ev.de
SUMMARY:Reinigung Vereinsheim
DESCRIPTION:
URL:https://katago-ev.de/event/reinigung-vereinsheim-2/2029-04-06
LOCATION:Beide Gebäude (Hegelstraße 1a & 11a)\, Hegelstraße 1a\, Bamberg\, 96052\, Germany
END:VEVENT
BEGIN:VEVENT
DTSTART;TZID=Europe/Berlin:20290409T080000
DTEND;TZID=Europe/Berlin:20290409T110000
DTSTAMP:20260423T150610
CREATED:20240626T211336Z
LAST-MODIFIED:20240626T211506Z
UID:10006495-1870416000-1870426800@katago-ev.de
SUMMARY:Reinigung Vereinsheim
DESCRIPTION:
URL:https://katago-ev.de/event/reinigung-vereinsheim/2029-04-09
LOCATION:Beide Gebäude (Hegelstraße 1a & 11a)\, Hegelstraße 1a\, Bamberg\, 96052\, Germany
END:VEVENT
BEGIN:VEVENT
DTSTART;TZID=Europe/Berlin:20290413T080000
DTEND;TZID=Europe/Berlin:20290413T110000
DTSTAMP:20260423T150610
CREATED:20240626T211540Z
LAST-MODIFIED:20240626T211540Z
UID:10007017-1870761600-1870772400@katago-ev.de
SUMMARY:Reinigung Vereinsheim
DESCRIPTION:
URL:https://katago-ev.de/event/reinigung-vereinsheim-2/2029-04-13
LOCATION:Beide Gebäude (Hegelstraße 1a & 11a)\, Hegelstraße 1a\, Bamberg\, 96052\, Germany
END:VEVENT
BEGIN:VEVENT
DTSTART;TZID=Europe/Berlin:20290416T080000
DTEND;TZID=Europe/Berlin:20290416T110000
DTSTAMP:20260423T150610
CREATED:20240626T211336Z
LAST-MODIFIED:20240626T211506Z
UID:10006496-1871020800-1871031600@katago-ev.de
SUMMARY:Reinigung Vereinsheim
DESCRIPTION:
URL:https://katago-ev.de/event/reinigung-vereinsheim/2029-04-16
LOCATION:Beide Gebäude (Hegelstraße 1a & 11a)\, Hegelstraße 1a\, Bamberg\, 96052\, Germany
END:VEVENT
BEGIN:VEVENT
DTSTART;TZID=Europe/Berlin:20290420T080000
DTEND;TZID=Europe/Berlin:20290420T110000
DTSTAMP:20260423T150610
CREATED:20240626T211540Z
LAST-MODIFIED:20240626T211540Z
UID:10007018-1871366400-1871377200@katago-ev.de
SUMMARY:Reinigung Vereinsheim
DESCRIPTION:
URL:https://katago-ev.de/event/reinigung-vereinsheim-2/2029-04-20
LOCATION:Beide Gebäude (Hegelstraße 1a & 11a)\, Hegelstraße 1a\, Bamberg\, 96052\, Germany
END:VEVENT
BEGIN:VEVENT
DTSTART;TZID=Europe/Berlin:20290423T080000
DTEND;TZID=Europe/Berlin:20290423T110000
DTSTAMP:20260423T150610
CREATED:20240626T211336Z
LAST-MODIFIED:20240626T211506Z
UID:10006497-1871625600-1871636400@katago-ev.de
SUMMARY:Reinigung Vereinsheim
DESCRIPTION:
URL:https://katago-ev.de/event/reinigung-vereinsheim/2029-04-23
LOCATION:Beide Gebäude (Hegelstraße 1a & 11a)\, Hegelstraße 1a\, Bamberg\, 96052\, Germany
END:VEVENT
BEGIN:VEVENT
DTSTART;TZID=Europe/Berlin:20290427T080000
DTEND;TZID=Europe/Berlin:20290427T110000
DTSTAMP:20260423T150610
CREATED:20240626T211540Z
LAST-MODIFIED:20240626T211540Z
UID:10007019-1871971200-1871982000@katago-ev.de
SUMMARY:Reinigung Vereinsheim
DESCRIPTION:
URL:https://katago-ev.de/event/reinigung-vereinsheim-2/2029-04-27
LOCATION:Beide Gebäude (Hegelstraße 1a & 11a)\, Hegelstraße 1a\, Bamberg\, 96052\, Germany
END:VEVENT
BEGIN:VEVENT
DTSTART;TZID=Europe/Berlin:20290430T080000
DTEND;TZID=Europe/Berlin:20290430T110000
DTSTAMP:20260423T150610
CREATED:20240626T211336Z
LAST-MODIFIED:20240626T211506Z
UID:10006498-1872230400-1872241200@katago-ev.de
SUMMARY:Reinigung Vereinsheim
DESCRIPTION:
URL:https://katago-ev.de/event/reinigung-vereinsheim/2029-04-30
LOCATION:Beide Gebäude (Hegelstraße 1a & 11a)\, Hegelstraße 1a\, Bamberg\, 96052\, Germany
END:VEVENT
BEGIN:VEVENT
DTSTART;TZID=Europe/Berlin:20290504T080000
DTEND;TZID=Europe/Berlin:20290504T110000
DTSTAMP:20260423T150610
CREATED:20240626T211540Z
LAST-MODIFIED:20240626T211540Z
UID:10007020-1872576000-1872586800@katago-ev.de
SUMMARY:Reinigung Vereinsheim
DESCRIPTION:
URL:https://katago-ev.de/event/reinigung-vereinsheim-2/2029-05-04
LOCATION:Beide Gebäude (Hegelstraße 1a & 11a)\, Hegelstraße 1a\, Bamberg\, 96052\, Germany
END:VEVENT
BEGIN:VEVENT
DTSTART;TZID=Europe/Berlin:20290507T080000
DTEND;TZID=Europe/Berlin:20290507T110000
DTSTAMP:20260423T150610
CREATED:20240626T211336Z
LAST-MODIFIED:20240626T211506Z
UID:10006499-1872835200-1872846000@katago-ev.de
SUMMARY:Reinigung Vereinsheim
DESCRIPTION:
URL:https://katago-ev.de/event/reinigung-vereinsheim/2029-05-07
LOCATION:Beide Gebäude (Hegelstraße 1a & 11a)\, Hegelstraße 1a\, Bamberg\, 96052\, Germany
END:VEVENT
BEGIN:VEVENT
DTSTART;TZID=Europe/Berlin:20290511T080000
DTEND;TZID=Europe/Berlin:20290511T110000
DTSTAMP:20260423T150610
CREATED:20240626T211540Z
LAST-MODIFIED:20240626T211540Z
UID:10007021-1873180800-1873191600@katago-ev.de
SUMMARY:Reinigung Vereinsheim
DESCRIPTION:
URL:https://katago-ev.de/event/reinigung-vereinsheim-2/2029-05-11
LOCATION:Beide Gebäude (Hegelstraße 1a & 11a)\, Hegelstraße 1a\, Bamberg\, 96052\, Germany
END:VEVENT
BEGIN:VEVENT
DTSTART;TZID=Europe/Berlin:20290514T080000
DTEND;TZID=Europe/Berlin:20290514T110000
DTSTAMP:20260423T150610
CREATED:20240626T211336Z
LAST-MODIFIED:20240626T211506Z
UID:10006500-1873440000-1873450800@katago-ev.de
SUMMARY:Reinigung Vereinsheim
DESCRIPTION:
URL:https://katago-ev.de/event/reinigung-vereinsheim/2029-05-14
LOCATION:Beide Gebäude (Hegelstraße 1a & 11a)\, Hegelstraße 1a\, Bamberg\, 96052\, Germany
END:VEVENT
BEGIN:VEVENT
DTSTART;TZID=Europe/Berlin:20290518T080000
DTEND;TZID=Europe/Berlin:20290518T110000
DTSTAMP:20260423T150610
CREATED:20240626T211540Z
LAST-MODIFIED:20240626T211540Z
UID:10007022-1873785600-1873796400@katago-ev.de
SUMMARY:Reinigung Vereinsheim
DESCRIPTION:
URL:https://katago-ev.de/event/reinigung-vereinsheim-2/2029-05-18
LOCATION:Beide Gebäude (Hegelstraße 1a & 11a)\, Hegelstraße 1a\, Bamberg\, 96052\, Germany
END:VEVENT
BEGIN:VEVENT
DTSTART;TZID=Europe/Berlin:20290521T080000
DTEND;TZID=Europe/Berlin:20290521T110000
DTSTAMP:20260423T150610
CREATED:20240626T211336Z
LAST-MODIFIED:20240626T211506Z
UID:10006501-1874044800-1874055600@katago-ev.de
SUMMARY:Reinigung Vereinsheim
DESCRIPTION:
URL:https://katago-ev.de/event/reinigung-vereinsheim/2029-05-21
LOCATION:Beide Gebäude (Hegelstraße 1a & 11a)\, Hegelstraße 1a\, Bamberg\, 96052\, Germany
END:VEVENT
BEGIN:VEVENT
DTSTART;TZID=Europe/Berlin:20290525T080000
DTEND;TZID=Europe/Berlin:20290525T110000
DTSTAMP:20260423T150610
CREATED:20240626T211540Z
LAST-MODIFIED:20240626T211540Z
UID:10007023-1874390400-1874401200@katago-ev.de
SUMMARY:Reinigung Vereinsheim
DESCRIPTION:
URL:https://katago-ev.de/event/reinigung-vereinsheim-2/2029-05-25
LOCATION:Beide Gebäude (Hegelstraße 1a & 11a)\, Hegelstraße 1a\, Bamberg\, 96052\, Germany
END:VEVENT
BEGIN:VEVENT
DTSTART;TZID=Europe/Berlin:20290528T080000
DTEND;TZID=Europe/Berlin:20290528T110000
DTSTAMP:20260423T150610
CREATED:20240626T211336Z
LAST-MODIFIED:20240626T211506Z
UID:10006502-1874649600-1874660400@katago-ev.de
SUMMARY:Reinigung Vereinsheim
DESCRIPTION:
URL:https://katago-ev.de/event/reinigung-vereinsheim/2029-05-28
LOCATION:Beide Gebäude (Hegelstraße 1a & 11a)\, Hegelstraße 1a\, Bamberg\, 96052\, Germany
END:VEVENT
BEGIN:VEVENT
DTSTART;TZID=Europe/Berlin:20290601T080000
DTEND;TZID=Europe/Berlin:20290601T110000
DTSTAMP:20260423T150610
CREATED:20240626T211540Z
LAST-MODIFIED:20240626T211540Z
UID:10007024-1874995200-1875006000@katago-ev.de
SUMMARY:Reinigung Vereinsheim
DESCRIPTION:
URL:https://katago-ev.de/event/reinigung-vereinsheim-2/2029-06-01
LOCATION:Beide Gebäude (Hegelstraße 1a & 11a)\, Hegelstraße 1a\, Bamberg\, 96052\, Germany
END:VEVENT
BEGIN:VEVENT
DTSTART;TZID=Europe/Berlin:20290604T080000
DTEND;TZID=Europe/Berlin:20290604T110000
DTSTAMP:20260423T150610
CREATED:20240626T211336Z
LAST-MODIFIED:20240626T211506Z
UID:10006503-1875254400-1875265200@katago-ev.de
SUMMARY:Reinigung Vereinsheim
DESCRIPTION:
URL:https://katago-ev.de/event/reinigung-vereinsheim/2029-06-04
LOCATION:Beide Gebäude (Hegelstraße 1a & 11a)\, Hegelstraße 1a\, Bamberg\, 96052\, Germany
END:VEVENT
BEGIN:VEVENT
DTSTART;TZID=Europe/Berlin:20290608T080000
DTEND;TZID=Europe/Berlin:20290608T110000
DTSTAMP:20260423T150610
CREATED:20240626T211540Z
LAST-MODIFIED:20240626T211540Z
UID:10007025-1875600000-1875610800@katago-ev.de
SUMMARY:Reinigung Vereinsheim
DESCRIPTION:
URL:https://katago-ev.de/event/reinigung-vereinsheim-2/2029-06-08
LOCATION:Beide Gebäude (Hegelstraße 1a & 11a)\, Hegelstraße 1a\, Bamberg\, 96052\, Germany
END:VEVENT
BEGIN:VEVENT
DTSTART;TZID=Europe/Berlin:20290611T080000
DTEND;TZID=Europe/Berlin:20290611T110000
DTSTAMP:20260423T150610
CREATED:20240626T211336Z
LAST-MODIFIED:20240626T211506Z
UID:10006504-1875859200-1875870000@katago-ev.de
SUMMARY:Reinigung Vereinsheim
DESCRIPTION:
URL:https://katago-ev.de/event/reinigung-vereinsheim/2029-06-11
LOCATION:Beide Gebäude (Hegelstraße 1a & 11a)\, Hegelstraße 1a\, Bamberg\, 96052\, Germany
END:VEVENT
BEGIN:VEVENT
DTSTART;TZID=Europe/Berlin:20290615T080000
DTEND;TZID=Europe/Berlin:20290615T110000
DTSTAMP:20260423T150610
CREATED:20240626T211540Z
LAST-MODIFIED:20240626T211540Z
UID:10007026-1876204800-1876215600@katago-ev.de
SUMMARY:Reinigung Vereinsheim
DESCRIPTION:
URL:https://katago-ev.de/event/reinigung-vereinsheim-2/2029-06-15
LOCATION:Beide Gebäude (Hegelstraße 1a & 11a)\, Hegelstraße 1a\, Bamberg\, 96052\, Germany
END:VEVENT
BEGIN:VEVENT
DTSTART;TZID=Europe/Berlin:20290618T080000
DTEND;TZID=Europe/Berlin:20290618T110000
DTSTAMP:20260423T150610
CREATED:20240626T211336Z
LAST-MODIFIED:20240626T211506Z
UID:10006505-1876464000-1876474800@katago-ev.de
SUMMARY:Reinigung Vereinsheim
DESCRIPTION:
URL:https://katago-ev.de/event/reinigung-vereinsheim/2029-06-18
LOCATION:Beide Gebäude (Hegelstraße 1a & 11a)\, Hegelstraße 1a\, Bamberg\, 96052\, Germany
END:VEVENT
END:VCALENDAR