BEGIN:VCALENDAR
VERSION:2.0
PRODID:-//katago-ev.de - ECPv6.15.0.1//NONSGML v1.0//EN
CALSCALE:GREGORIAN
METHOD:PUBLISH
X-WR-CALNAME:katago-ev.de
X-ORIGINAL-URL:https://katago-ev.de
X-WR-CALDESC:Veranstaltungen für katago-ev.de
REFRESH-INTERVAL;VALUE=DURATION:PT1H
X-Robots-Tag:noindex
X-PUBLISHED-TTL:PT1H
BEGIN:VTIMEZONE
TZID:Europe/Berlin
BEGIN:DAYLIGHT
TZOFFSETFROM:+0100
TZOFFSETTO:+0200
TZNAME:CEST
DTSTART:20290325T010000
END:DAYLIGHT
BEGIN:STANDARD
TZOFFSETFROM:+0200
TZOFFSETTO:+0100
TZNAME:CET
DTSTART:20291028T010000
END:STANDARD
END:VTIMEZONE
BEGIN:VEVENT
DTSTART;TZID=Europe/Berlin:20290622T080000
DTEND;TZID=Europe/Berlin:20290622T110000
DTSTAMP:20260424T033316
CREATED:20240626T211540Z
LAST-MODIFIED:20240626T211540Z
UID:10007027-1876809600-1876820400@katago-ev.de
SUMMARY:Reinigung Vereinsheim
DESCRIPTION:
URL:https://katago-ev.de/event/reinigung-vereinsheim-2/2029-06-22
LOCATION:Beide Gebäude (Hegelstraße 1a & 11a)\, Hegelstraße 1a\, Bamberg\, 96052\, Germany
END:VEVENT
BEGIN:VEVENT
DTSTART;TZID=Europe/Berlin:20290625T080000
DTEND;TZID=Europe/Berlin:20290625T110000
DTSTAMP:20260424T033316
CREATED:20240626T211336Z
LAST-MODIFIED:20240626T211506Z
UID:10006506-1877068800-1877079600@katago-ev.de
SUMMARY:Reinigung Vereinsheim
DESCRIPTION:
URL:https://katago-ev.de/event/reinigung-vereinsheim/2029-06-25
LOCATION:Beide Gebäude (Hegelstraße 1a & 11a)\, Hegelstraße 1a\, Bamberg\, 96052\, Germany
END:VEVENT
END:VCALENDAR