BEGIN:VCALENDAR
VERSION:2.0
PRODID:-//katago-ev.de - ECPv6.15.0.1//NONSGML v1.0//EN
CALSCALE:GREGORIAN
METHOD:PUBLISH
X-WR-CALNAME:katago-ev.de
X-ORIGINAL-URL:https://katago-ev.de
X-WR-CALDESC:Veranstaltungen für katago-ev.de
REFRESH-INTERVAL;VALUE=DURATION:PT1H
X-Robots-Tag:noindex
X-PUBLISHED-TTL:PT1H
BEGIN:VTIMEZONE
TZID:Europe/Berlin
BEGIN:DAYLIGHT
TZOFFSETFROM:+0100
TZOFFSETTO:+0200
TZNAME:CEST
DTSTART:20240331T010000
END:DAYLIGHT
BEGIN:STANDARD
TZOFFSETFROM:+0200
TZOFFSETTO:+0100
TZNAME:CET
DTSTART:20241027T010000
END:STANDARD
END:VTIMEZONE
BEGIN:VEVENT
DTSTART;TZID=Europe/Berlin:20241110T140000
DTEND;TZID=Europe/Berlin:20241110T190000
DTSTAMP:20260423T102942
CREATED:20240101T210031Z
LAST-MODIFIED:20240101T210031Z
UID:10004457-1731247200-1731265200@katago-ev.de
SUMMARY:Custom 40K
DESCRIPTION:Custom 40K
URL:https://katago-ev.de/event/custom-40k-36/2024-11-10
LOCATION:Vereinsheim 1 (Hegelstraße 1a)\, Hegelstraße 1a\, Bamberg\, Bayern\, 96052\, Germany
CATEGORIES:Tabletop,Warhammer 40k
ATTACH;FMTTYPE=image/jpeg:https://katago-ev.de/wp-content/uploads/2022/10/Warhammer-40K-Logo2-scaled.jpg
END:VEVENT
BEGIN:VEVENT
DTSTART;TZID=Europe/Berlin:20241103T140000
DTEND;TZID=Europe/Berlin:20241103T190000
DTSTAMP:20260423T102942
CREATED:20240101T210031Z
LAST-MODIFIED:20240101T210031Z
UID:10004456-1730642400-1730660400@katago-ev.de
SUMMARY:Custom 40K
DESCRIPTION:Custom 40K
URL:https://katago-ev.de/event/custom-40k-36/2024-11-03
LOCATION:Vereinsheim 1 (Hegelstraße 1a)\, Hegelstraße 1a\, Bamberg\, Bayern\, 96052\, Germany
CATEGORIES:Tabletop,Warhammer 40k
ATTACH;FMTTYPE=image/jpeg:https://katago-ev.de/wp-content/uploads/2022/10/Warhammer-40K-Logo2-scaled.jpg
END:VEVENT
BEGIN:VEVENT
DTSTART;TZID=Europe/Berlin:20241027T140000
DTEND;TZID=Europe/Berlin:20241027T190000
DTSTAMP:20260423T102942
CREATED:20240101T210031Z
LAST-MODIFIED:20240101T210031Z
UID:10004455-1730037600-1730055600@katago-ev.de
SUMMARY:Custom 40K
DESCRIPTION:Custom 40K
URL:https://katago-ev.de/event/custom-40k-36/2024-10-27
LOCATION:Vereinsheim 1 (Hegelstraße 1a)\, Hegelstraße 1a\, Bamberg\, Bayern\, 96052\, Germany
CATEGORIES:Tabletop,Warhammer 40k
ATTACH;FMTTYPE=image/jpeg:https://katago-ev.de/wp-content/uploads/2022/10/Warhammer-40K-Logo2-scaled.jpg
END:VEVENT
BEGIN:VEVENT
DTSTART;TZID=Europe/Berlin:20241020T140000
DTEND;TZID=Europe/Berlin:20241020T190000
DTSTAMP:20260423T102942
CREATED:20240101T210031Z
LAST-MODIFIED:20240101T210031Z
UID:10004454-1729432800-1729450800@katago-ev.de
SUMMARY:Custom 40K
DESCRIPTION:Custom 40K
URL:https://katago-ev.de/event/custom-40k-36/2024-10-20
LOCATION:Vereinsheim 1 (Hegelstraße 1a)\, Hegelstraße 1a\, Bamberg\, Bayern\, 96052\, Germany
CATEGORIES:Tabletop,Warhammer 40k
ATTACH;FMTTYPE=image/jpeg:https://katago-ev.de/wp-content/uploads/2022/10/Warhammer-40K-Logo2-scaled.jpg
END:VEVENT
BEGIN:VEVENT
DTSTART;TZID=Europe/Berlin:20241013T140000
DTEND;TZID=Europe/Berlin:20241013T190000
DTSTAMP:20260423T102942
CREATED:20240101T210031Z
LAST-MODIFIED:20240101T210031Z
UID:10004453-1728828000-1728846000@katago-ev.de
SUMMARY:Custom 40K
DESCRIPTION:Custom 40K
URL:https://katago-ev.de/event/custom-40k-36/2024-10-13
LOCATION:Vereinsheim 1 (Hegelstraße 1a)\, Hegelstraße 1a\, Bamberg\, Bayern\, 96052\, Germany
CATEGORIES:Tabletop,Warhammer 40k
ATTACH;FMTTYPE=image/jpeg:https://katago-ev.de/wp-content/uploads/2022/10/Warhammer-40K-Logo2-scaled.jpg
END:VEVENT
BEGIN:VEVENT
DTSTART;TZID=Europe/Berlin:20241006T140000
DTEND;TZID=Europe/Berlin:20241006T190000
DTSTAMP:20260423T102942
CREATED:20240101T210031Z
LAST-MODIFIED:20240101T210031Z
UID:10004452-1728223200-1728241200@katago-ev.de
SUMMARY:Custom 40K
DESCRIPTION:Custom 40K
URL:https://katago-ev.de/event/custom-40k-36/2024-10-06
LOCATION:Vereinsheim 1 (Hegelstraße 1a)\, Hegelstraße 1a\, Bamberg\, Bayern\, 96052\, Germany
CATEGORIES:Tabletop,Warhammer 40k
ATTACH;FMTTYPE=image/jpeg:https://katago-ev.de/wp-content/uploads/2022/10/Warhammer-40K-Logo2-scaled.jpg
END:VEVENT
BEGIN:VEVENT
DTSTART;TZID=Europe/Berlin:20241006T080000
DTEND;TZID=Europe/Berlin:20241006T200000
DTSTAMP:20260423T102942
CREATED:20240824T191551Z
LAST-MODIFIED:20240824T191925Z
UID:10007226-1728201600-1728244800@katago-ev.de
SUMMARY:2nd Bamberger Custom40k Cup
DESCRIPTION:Schweizersystem mit In-Spiel-Siegpunkte als Tiebreaker.\nDie erste Runde wird ausgelost bzw. es dürfen Herausforderungen ausgesprochen werden.\n\n\nEs werden 3 Spiele stattfinden.\nAnkunft ca 8 Uhr\, Spielstart 9 Uhr.\n\nOpen End aber ca 20 Uhr.\n\n\n\n\nBemalwettbewerb\, für die am besten bemalte Einheit (Charaktermodelle sind eine Einheit)\, für Teilnehmer des Turnier.\n\nWeitere Details sind hier einsehbar.\n\n\n\n\nTeilnahmegebühr 10€.
URL:https://katago-ev.de/event/2nd-bamberger-custom40k-cup
LOCATION:Vereinsheim 1 (Hegelstraße 1a)\, Hegelstraße 1a\, Bamberg\, Bayern\, 96052\, Germany
CATEGORIES:Tabletop,Warhammer 40k
END:VEVENT
BEGIN:VEVENT
DTSTART;TZID=Europe/Berlin:20240929T140000
DTEND;TZID=Europe/Berlin:20240929T190000
DTSTAMP:20260423T102942
CREATED:20240101T210031Z
LAST-MODIFIED:20240101T210031Z
UID:10004451-1727618400-1727636400@katago-ev.de
SUMMARY:Custom 40K
DESCRIPTION:Custom 40K
URL:https://katago-ev.de/event/custom-40k-36/2024-09-29
LOCATION:Vereinsheim 1 (Hegelstraße 1a)\, Hegelstraße 1a\, Bamberg\, Bayern\, 96052\, Germany
CATEGORIES:Tabletop,Warhammer 40k
ATTACH;FMTTYPE=image/jpeg:https://katago-ev.de/wp-content/uploads/2022/10/Warhammer-40K-Logo2-scaled.jpg
END:VEVENT
BEGIN:VEVENT
DTSTART;TZID=Europe/Berlin:20240922T140000
DTEND;TZID=Europe/Berlin:20240922T190000
DTSTAMP:20260423T102942
CREATED:20240101T210031Z
LAST-MODIFIED:20240101T210031Z
UID:10004450-1727013600-1727031600@katago-ev.de
SUMMARY:Custom 40K
DESCRIPTION:Custom 40K
URL:https://katago-ev.de/event/custom-40k-36/2024-09-22
LOCATION:Vereinsheim 1 (Hegelstraße 1a)\, Hegelstraße 1a\, Bamberg\, Bayern\, 96052\, Germany
CATEGORIES:Tabletop,Warhammer 40k
ATTACH;FMTTYPE=image/jpeg:https://katago-ev.de/wp-content/uploads/2022/10/Warhammer-40K-Logo2-scaled.jpg
END:VEVENT
BEGIN:VEVENT
DTSTART;TZID=Europe/Berlin:20240915T140000
DTEND;TZID=Europe/Berlin:20240915T190000
DTSTAMP:20260423T102942
CREATED:20240101T210031Z
LAST-MODIFIED:20240101T210031Z
UID:10004449-1726408800-1726426800@katago-ev.de
SUMMARY:Custom 40K
DESCRIPTION:Custom 40K
URL:https://katago-ev.de/event/custom-40k-36/2024-09-15
LOCATION:Vereinsheim 1 (Hegelstraße 1a)\, Hegelstraße 1a\, Bamberg\, Bayern\, 96052\, Germany
CATEGORIES:Tabletop,Warhammer 40k
ATTACH;FMTTYPE=image/jpeg:https://katago-ev.de/wp-content/uploads/2022/10/Warhammer-40K-Logo2-scaled.jpg
END:VEVENT
BEGIN:VEVENT
DTSTART;TZID=Europe/Berlin:20240908T140000
DTEND;TZID=Europe/Berlin:20240908T190000
DTSTAMP:20260423T102942
CREATED:20240101T210031Z
LAST-MODIFIED:20240101T210031Z
UID:10004448-1725804000-1725822000@katago-ev.de
SUMMARY:Custom 40K
DESCRIPTION:Custom 40K
URL:https://katago-ev.de/event/custom-40k-36/2024-09-08
LOCATION:Vereinsheim 1 (Hegelstraße 1a)\, Hegelstraße 1a\, Bamberg\, Bayern\, 96052\, Germany
CATEGORIES:Tabletop,Warhammer 40k
ATTACH;FMTTYPE=image/jpeg:https://katago-ev.de/wp-content/uploads/2022/10/Warhammer-40K-Logo2-scaled.jpg
END:VEVENT
BEGIN:VEVENT
DTSTART;TZID=Europe/Berlin:20240901T140000
DTEND;TZID=Europe/Berlin:20240901T190000
DTSTAMP:20260423T102942
CREATED:20240101T210031Z
LAST-MODIFIED:20240101T210031Z
UID:10004447-1725199200-1725217200@katago-ev.de
SUMMARY:Custom 40K
DESCRIPTION:Custom 40K
URL:https://katago-ev.de/event/custom-40k-36/2024-09-01
LOCATION:Vereinsheim 1 (Hegelstraße 1a)\, Hegelstraße 1a\, Bamberg\, Bayern\, 96052\, Germany
CATEGORIES:Tabletop,Warhammer 40k
ATTACH;FMTTYPE=image/jpeg:https://katago-ev.de/wp-content/uploads/2022/10/Warhammer-40K-Logo2-scaled.jpg
END:VEVENT
BEGIN:VEVENT
DTSTART;TZID=Europe/Berlin:20240825T140000
DTEND;TZID=Europe/Berlin:20240825T190000
DTSTAMP:20260423T102942
CREATED:20240101T210031Z
LAST-MODIFIED:20240101T210031Z
UID:10004446-1724594400-1724612400@katago-ev.de
SUMMARY:Custom 40K
DESCRIPTION:Custom 40K
URL:https://katago-ev.de/event/custom-40k-36/2024-08-25
LOCATION:Vereinsheim 1 (Hegelstraße 1a)\, Hegelstraße 1a\, Bamberg\, Bayern\, 96052\, Germany
CATEGORIES:Tabletop,Warhammer 40k
ATTACH;FMTTYPE=image/jpeg:https://katago-ev.de/wp-content/uploads/2022/10/Warhammer-40K-Logo2-scaled.jpg
END:VEVENT
BEGIN:VEVENT
DTSTART;TZID=Europe/Berlin:20240818T140000
DTEND;TZID=Europe/Berlin:20240818T190000
DTSTAMP:20260423T102942
CREATED:20240101T210031Z
LAST-MODIFIED:20240101T210031Z
UID:10004445-1723989600-1724007600@katago-ev.de
SUMMARY:Custom 40K
DESCRIPTION:Custom 40K
URL:https://katago-ev.de/event/custom-40k-36/2024-08-18
LOCATION:Vereinsheim 1 (Hegelstraße 1a)\, Hegelstraße 1a\, Bamberg\, Bayern\, 96052\, Germany
CATEGORIES:Tabletop,Warhammer 40k
ATTACH;FMTTYPE=image/jpeg:https://katago-ev.de/wp-content/uploads/2022/10/Warhammer-40K-Logo2-scaled.jpg
END:VEVENT
BEGIN:VEVENT
DTSTART;TZID=Europe/Berlin:20240811T140000
DTEND;TZID=Europe/Berlin:20240811T190000
DTSTAMP:20260423T102942
CREATED:20240101T210031Z
LAST-MODIFIED:20240101T210031Z
UID:10004444-1723384800-1723402800@katago-ev.de
SUMMARY:Custom 40K
DESCRIPTION:Custom 40K
URL:https://katago-ev.de/event/custom-40k-36/2024-08-11
LOCATION:Vereinsheim 1 (Hegelstraße 1a)\, Hegelstraße 1a\, Bamberg\, Bayern\, 96052\, Germany
CATEGORIES:Tabletop,Warhammer 40k
ATTACH;FMTTYPE=image/jpeg:https://katago-ev.de/wp-content/uploads/2022/10/Warhammer-40K-Logo2-scaled.jpg
END:VEVENT
BEGIN:VEVENT
DTSTART;TZID=Europe/Berlin:20240804T140000
DTEND;TZID=Europe/Berlin:20240804T190000
DTSTAMP:20260423T102942
CREATED:20240101T210031Z
LAST-MODIFIED:20240101T210031Z
UID:10004443-1722780000-1722798000@katago-ev.de
SUMMARY:Custom 40K
DESCRIPTION:Custom 40K
URL:https://katago-ev.de/event/custom-40k-36/2024-08-04
LOCATION:Vereinsheim 1 (Hegelstraße 1a)\, Hegelstraße 1a\, Bamberg\, Bayern\, 96052\, Germany
CATEGORIES:Tabletop,Warhammer 40k
ATTACH;FMTTYPE=image/jpeg:https://katago-ev.de/wp-content/uploads/2022/10/Warhammer-40K-Logo2-scaled.jpg
END:VEVENT
BEGIN:VEVENT
DTSTART;TZID=Europe/Berlin:20240728T140000
DTEND;TZID=Europe/Berlin:20240728T190000
DTSTAMP:20260423T102942
CREATED:20240101T210031Z
LAST-MODIFIED:20240101T210031Z
UID:10004442-1722175200-1722193200@katago-ev.de
SUMMARY:Custom 40K
DESCRIPTION:Custom 40K
URL:https://katago-ev.de/event/custom-40k-36/2024-07-28
LOCATION:Vereinsheim 1 (Hegelstraße 1a)\, Hegelstraße 1a\, Bamberg\, Bayern\, 96052\, Germany
CATEGORIES:Tabletop,Warhammer 40k
ATTACH;FMTTYPE=image/jpeg:https://katago-ev.de/wp-content/uploads/2022/10/Warhammer-40K-Logo2-scaled.jpg
END:VEVENT
BEGIN:VEVENT
DTSTART;TZID=Europe/Berlin:20240723T190000
DTEND;TZID=Europe/Berlin:20240723T223000
DTSTAMP:20260423T102942
CREATED:20240722T115359Z
LAST-MODIFIED:20240722T115359Z
UID:10007193-1721761200-1721773800@katago-ev.de
SUMMARY:Custom40K
DESCRIPTION:Geschlossenes Event
URL:https://katago-ev.de/event/custom40k-3
LOCATION:Vereinsheim 1 (Hegelstraße 1a)\, Hegelstraße 1a\, Bamberg\, Bayern\, 96052\, Germany
CATEGORIES:Tabletop,Warhammer 40k
END:VEVENT
BEGIN:VEVENT
DTSTART;TZID=Europe/Berlin:20240721T140000
DTEND;TZID=Europe/Berlin:20240721T190000
DTSTAMP:20260423T102942
CREATED:20240101T210031Z
LAST-MODIFIED:20240101T210031Z
UID:10004441-1721570400-1721588400@katago-ev.de
SUMMARY:Custom 40K
DESCRIPTION:Custom 40K
URL:https://katago-ev.de/event/custom-40k-36/2024-07-21
LOCATION:Vereinsheim 1 (Hegelstraße 1a)\, Hegelstraße 1a\, Bamberg\, Bayern\, 96052\, Germany
CATEGORIES:Tabletop,Warhammer 40k
ATTACH;FMTTYPE=image/jpeg:https://katago-ev.de/wp-content/uploads/2022/10/Warhammer-40K-Logo2-scaled.jpg
END:VEVENT
BEGIN:VEVENT
DTSTART;TZID=Europe/Berlin:20240714T140000
DTEND;TZID=Europe/Berlin:20240714T190000
DTSTAMP:20260423T102942
CREATED:20240101T210031Z
LAST-MODIFIED:20240101T210031Z
UID:10004440-1720965600-1720983600@katago-ev.de
SUMMARY:Custom 40K
DESCRIPTION:Custom 40K
URL:https://katago-ev.de/event/custom-40k-36/2024-07-14
LOCATION:Vereinsheim 1 (Hegelstraße 1a)\, Hegelstraße 1a\, Bamberg\, Bayern\, 96052\, Germany
CATEGORIES:Tabletop,Warhammer 40k
ATTACH;FMTTYPE=image/jpeg:https://katago-ev.de/wp-content/uploads/2022/10/Warhammer-40K-Logo2-scaled.jpg
END:VEVENT
BEGIN:VEVENT
DTSTART;TZID=Europe/Berlin:20240707T140000
DTEND;TZID=Europe/Berlin:20240707T190000
DTSTAMP:20260423T102942
CREATED:20240101T210031Z
LAST-MODIFIED:20240101T210031Z
UID:10004439-1720360800-1720378800@katago-ev.de
SUMMARY:Custom 40K
DESCRIPTION:Custom 40K
URL:https://katago-ev.de/event/custom-40k-36/2024-07-07
LOCATION:Vereinsheim 1 (Hegelstraße 1a)\, Hegelstraße 1a\, Bamberg\, Bayern\, 96052\, Germany
CATEGORIES:Tabletop,Warhammer 40k
ATTACH;FMTTYPE=image/jpeg:https://katago-ev.de/wp-content/uploads/2022/10/Warhammer-40K-Logo2-scaled.jpg
END:VEVENT
BEGIN:VEVENT
DTSTART;TZID=Europe/Berlin:20240630T140000
DTEND;TZID=Europe/Berlin:20240630T190000
DTSTAMP:20260423T102942
CREATED:20240101T210031Z
LAST-MODIFIED:20240101T210031Z
UID:10004438-1719756000-1719774000@katago-ev.de
SUMMARY:Custom 40K
DESCRIPTION:Custom 40K
URL:https://katago-ev.de/event/custom-40k-36/2024-06-30
LOCATION:Vereinsheim 1 (Hegelstraße 1a)\, Hegelstraße 1a\, Bamberg\, Bayern\, 96052\, Germany
CATEGORIES:Tabletop,Warhammer 40k
ATTACH;FMTTYPE=image/jpeg:https://katago-ev.de/wp-content/uploads/2022/10/Warhammer-40K-Logo2-scaled.jpg
END:VEVENT
BEGIN:VEVENT
DTSTART;TZID=Europe/Berlin:20240623T140000
DTEND;TZID=Europe/Berlin:20240623T190000
DTSTAMP:20260423T102942
CREATED:20240101T210031Z
LAST-MODIFIED:20240101T210031Z
UID:10004437-1719151200-1719169200@katago-ev.de
SUMMARY:Custom 40K
DESCRIPTION:Custom 40K
URL:https://katago-ev.de/event/custom-40k-36/2024-06-23
LOCATION:Vereinsheim 1 (Hegelstraße 1a)\, Hegelstraße 1a\, Bamberg\, Bayern\, 96052\, Germany
CATEGORIES:Tabletop,Warhammer 40k
ATTACH;FMTTYPE=image/jpeg:https://katago-ev.de/wp-content/uploads/2022/10/Warhammer-40K-Logo2-scaled.jpg
END:VEVENT
BEGIN:VEVENT
DTSTART;TZID=Europe/Berlin:20240616T140000
DTEND;TZID=Europe/Berlin:20240616T190000
DTSTAMP:20260423T102942
CREATED:20240101T210031Z
LAST-MODIFIED:20240101T210031Z
UID:10004436-1718546400-1718564400@katago-ev.de
SUMMARY:Custom 40K
DESCRIPTION:Custom 40K
URL:https://katago-ev.de/event/custom-40k-36/2024-06-16
LOCATION:Vereinsheim 1 (Hegelstraße 1a)\, Hegelstraße 1a\, Bamberg\, Bayern\, 96052\, Germany
CATEGORIES:Tabletop,Warhammer 40k
ATTACH;FMTTYPE=image/jpeg:https://katago-ev.de/wp-content/uploads/2022/10/Warhammer-40K-Logo2-scaled.jpg
END:VEVENT
BEGIN:VEVENT
DTSTART;TZID=Europe/Berlin:20240609T140000
DTEND;TZID=Europe/Berlin:20240609T190000
DTSTAMP:20260423T102942
CREATED:20240101T210031Z
LAST-MODIFIED:20240101T210031Z
UID:10004435-1717941600-1717959600@katago-ev.de
SUMMARY:Custom 40K
DESCRIPTION:Custom 40K
URL:https://katago-ev.de/event/custom-40k-36/2024-06-09
LOCATION:Vereinsheim 1 (Hegelstraße 1a)\, Hegelstraße 1a\, Bamberg\, Bayern\, 96052\, Germany
CATEGORIES:Tabletop,Warhammer 40k
ATTACH;FMTTYPE=image/jpeg:https://katago-ev.de/wp-content/uploads/2022/10/Warhammer-40K-Logo2-scaled.jpg
END:VEVENT
BEGIN:VEVENT
DTSTART;TZID=Europe/Berlin:20240602T140000
DTEND;TZID=Europe/Berlin:20240602T190000
DTSTAMP:20260423T102942
CREATED:20240101T210031Z
LAST-MODIFIED:20240101T210031Z
UID:10004434-1717336800-1717354800@katago-ev.de
SUMMARY:Custom 40K
DESCRIPTION:Custom 40K
URL:https://katago-ev.de/event/custom-40k-36/2024-06-02
LOCATION:Vereinsheim 1 (Hegelstraße 1a)\, Hegelstraße 1a\, Bamberg\, Bayern\, 96052\, Germany
CATEGORIES:Tabletop,Warhammer 40k
ATTACH;FMTTYPE=image/jpeg:https://katago-ev.de/wp-content/uploads/2022/10/Warhammer-40K-Logo2-scaled.jpg
END:VEVENT
BEGIN:VEVENT
DTSTART;TZID=Europe/Berlin:20240526T140000
DTEND;TZID=Europe/Berlin:20240526T190000
DTSTAMP:20260423T102942
CREATED:20240101T210031Z
LAST-MODIFIED:20240101T210031Z
UID:10004433-1716732000-1716750000@katago-ev.de
SUMMARY:Custom 40K
DESCRIPTION:Custom 40K
URL:https://katago-ev.de/event/custom-40k-36/2024-05-26
LOCATION:Vereinsheim 1 (Hegelstraße 1a)\, Hegelstraße 1a\, Bamberg\, Bayern\, 96052\, Germany
CATEGORIES:Tabletop,Warhammer 40k
ATTACH;FMTTYPE=image/jpeg:https://katago-ev.de/wp-content/uploads/2022/10/Warhammer-40K-Logo2-scaled.jpg
END:VEVENT
BEGIN:VEVENT
DTSTART;TZID=Europe/Berlin:20240519T140000
DTEND;TZID=Europe/Berlin:20240519T190000
DTSTAMP:20260423T102942
CREATED:20240101T210031Z
LAST-MODIFIED:20240101T210031Z
UID:10004432-1716127200-1716145200@katago-ev.de
SUMMARY:Custom 40K
DESCRIPTION:Custom 40K
URL:https://katago-ev.de/event/custom-40k-36/2024-05-19
LOCATION:Vereinsheim 1 (Hegelstraße 1a)\, Hegelstraße 1a\, Bamberg\, Bayern\, 96052\, Germany
CATEGORIES:Tabletop,Warhammer 40k
ATTACH;FMTTYPE=image/jpeg:https://katago-ev.de/wp-content/uploads/2022/10/Warhammer-40K-Logo2-scaled.jpg
END:VEVENT
BEGIN:VEVENT
DTSTART;TZID=Europe/Berlin:20240512T140000
DTEND;TZID=Europe/Berlin:20240512T190000
DTSTAMP:20260423T102942
CREATED:20240101T210031Z
LAST-MODIFIED:20240101T210031Z
UID:10004431-1715522400-1715540400@katago-ev.de
SUMMARY:Custom 40K
DESCRIPTION:Custom 40K
URL:https://katago-ev.de/event/custom-40k-36/2024-05-12
LOCATION:Vereinsheim 1 (Hegelstraße 1a)\, Hegelstraße 1a\, Bamberg\, Bayern\, 96052\, Germany
CATEGORIES:Tabletop,Warhammer 40k
ATTACH;FMTTYPE=image/jpeg:https://katago-ev.de/wp-content/uploads/2022/10/Warhammer-40K-Logo2-scaled.jpg
END:VEVENT
BEGIN:VEVENT
DTSTART;TZID=Europe/Berlin:20240509T123000
DTEND;TZID=Europe/Berlin:20240509T170000
DTSTAMP:20260423T102942
CREATED:20240509T093815Z
LAST-MODIFIED:20240509T093815Z
UID:10005550-1715257800-1715274000@katago-ev.de
SUMMARY:Custom40K
DESCRIPTION:
URL:https://katago-ev.de/event/custom40k-2
LOCATION:Vereinsheim 1 (Hegelstraße 1a)\, Hegelstraße 1a\, Bamberg\, Bayern\, 96052\, Germany
END:VEVENT
END:VCALENDAR