BEGIN:VCALENDAR
VERSION:2.0
PRODID:-//katago-ev.de - ECPv6.15.0.1//NONSGML v1.0//EN
CALSCALE:GREGORIAN
METHOD:PUBLISH
X-WR-CALNAME:katago-ev.de
X-ORIGINAL-URL:https://katago-ev.de
X-WR-CALDESC:Veranstaltungen für katago-ev.de
REFRESH-INTERVAL;VALUE=DURATION:PT1H
X-Robots-Tag:noindex
X-PUBLISHED-TTL:PT1H
BEGIN:VTIMEZONE
TZID:Europe/Berlin
BEGIN:DAYLIGHT
TZOFFSETFROM:+0100
TZOFFSETTO:+0200
TZNAME:CEST
DTSTART:20220327T010000
END:DAYLIGHT
BEGIN:STANDARD
TZOFFSETFROM:+0200
TZOFFSETTO:+0100
TZNAME:CET
DTSTART:20221030T010000
END:STANDARD
END:VTIMEZONE
BEGIN:VEVENT
DTSTART;TZID=Europe/Berlin:20221010T190000
DTEND;TZID=Europe/Berlin:20221010T220000
DTSTAMP:20260420T230413
CREATED:20220905T204911Z
LAST-MODIFIED:20220925T101315Z
UID:10002745-1665428400-1665439200@katago-ev.de
SUMMARY:Open Night: MTG Commander Stammtisch
DESCRIPTION:Willkommen zum MTG Commander Stammtisch bei uns im KaTaGO e.V. \nMindestens zweimal im Monat sind alle Spieler und Interessierten herzlich eingeladen an unseren öffentlichen MTG Commander-Abenden teilzunehmen.\nWir bringen euch gerne das Spiel näher\, testen mit euch neue Decks\, traden oder unterhalten uns Magic und Commander.\nAlso kommt gerne vorbei\, schaut euch um oder spielt mit uns! \nDer Spieleabend ist ein öffentliches Event und sowohl für Mitglieder als auch für Nichtmitglieder offen.\nEr kann auch als erste Anlaufstelle dienen um sich den Verein anzuschauen und Infos zum Verein einzuholen. \nEine Anmeldung ist nicht zwingend notwendig oder verbindlich\, hilft uns jedoch sehr bei der Planung.\nAußerdem können wir euch so informieren falls eine Veranstaltung doch mal ausfällt. \nBitte beachtet\, dass es nur Mitgliedern gestattet wird eigene Getränke mitzubringen.\nAlle Anderen bedienen sich bitte an den von uns angebotenen Getränken. \nSolltet ihr noch kein Mitglied sein\, aber Interesse an unseren Events oder einer Mitgliedschaft haben\, könnt ihr gerne einen ausgefüllten Mitgliedsantrag zum entsprechenden Event mitbringen und ab da einen kostenlosen Probemonat (Kalendermonat) bei uns starten. Mitgliedsanträge gibt es hier. \nAufgrund der aktuellen Covid19 Bestimmungen können unsere Events ohne besondere Einschränkungen stattfinden. Einen Covid Test im Vorfeld durchzuführen\, kann jedoch trotzdem helfen das Risiko einer Ansteckung zu reduzieren. Bitte kommt nicht\, wenn ihr euch unwohl fühlt oder Erkältungsymptome aufweist. \nBei Fragen wendet euch gerne an: info@mtgo-ev.de
URL:https://katago-ev.de/event/open-night-mtg-commander-stammtisch-2/2022-10-10
LOCATION:Vereinsheim 1 – Hauptraum (Hegelstraße 1a)\, Hegelstraße 1a\, Bamberg\, Bayern\, 96052\, Germany
CATEGORIES:Kartenspiele,Magic the Gathering,Open Night
ATTACH;FMTTYPE=image/jpeg:https://katago-ev.de/wp-content/uploads/2022/09/commander.jpg
END:VEVENT
BEGIN:VEVENT
DTSTART;TZID=Europe/Berlin:20221011T143000
DTEND;TZID=Europe/Berlin:20221011T170000
DTSTAMP:20260420T230413
CREATED:20221007T092147Z
LAST-MODIFIED:20221007T092947Z
UID:10002992-1665498600-1665507600@katago-ev.de
SUMMARY:A Song of ice and Fire Demo
DESCRIPTION:A Song of ice and Fire Demo spiel zwischen Antonius und Mario\, die sich um den Eisernen Thron klopfen. Interessierte Zuschauer sind willkommen. Vorkenntnisse zu A Song of ice and Fire nicht nötig\, Tabletop Vorkenntnisse hilfreich aber nicht nötig.
URL:https://katago-ev.de/event/a-song-of-ice-and-fire-demo
LOCATION:Vereinsheim 1 (Hegelstraße 1a)\, Hegelstraße 1a\, Bamberg\, Bayern\, 96052\, Germany
CATEGORIES:Tabletop
END:VEVENT
BEGIN:VEVENT
DTSTART;TZID=Europe/Berlin:20221011T170000
DTEND;TZID=Europe/Berlin:20221011T200000
DTSTAMP:20260420T230413
CREATED:20220921T193203Z
LAST-MODIFIED:20220921T193258Z
UID:10002830-1665507600-1665518400@katago-ev.de
SUMMARY:Arkham Horror LCG
DESCRIPTION:Dies ist ein geschlossenes Event. \nFür weitere Mitglieder ist der Verein geöffnet.
URL:https://katago-ev.de/event/arkham-horror-lcg-5/2022-10-11
LOCATION:Vereinsheim 1 (Hegelstraße 1a)\, Hegelstraße 1a\, Bamberg\, Bayern\, 96052\, Germany
CATEGORIES:Arkham Horror LCG,Kartenspiele
ATTACH;FMTTYPE=image/png:https://katago-ev.de/wp-content/uploads/2022/09/ahb01_logo.png
END:VEVENT
BEGIN:VEVENT
DTSTART;TZID=Europe/Berlin:20221011T180000
DTEND;TZID=Europe/Berlin:20221011T220000
DTSTAMP:20260420T230413
CREATED:20220927T105033Z
LAST-MODIFIED:20220927T105038Z
UID:10002945-1665511200-1665525600@katago-ev.de
SUMMARY:Open Night: Tabletop Treff
DESCRIPTION:Open Night: Tabletop Treff \nDie Veranstaltung soll soll dazu dienen sowohl für Neulinge im Tabletop rein schnuppern zu können aber auch für erfahrenere Tabletop Spieler andere Systeme kennen zu lernen. Es soll nicht nur die  Einführung in das Spiel an sich sein sondern rund um das Hobby wie basteln und bemalen. Je nachdem wie sich das Treffen entwickelt können wir alle zusammen entscheiden wie wir die kommenden Termine gestalten wollen. Ich hoffe es kommen einige vorbei die auch anderen das tolle Hobby Tabletop vermitteln wollen bzw. Ihr Lieblings System mit anderen teilen möchten. \nDer Tabletop Treff ist ein öffentliches Event und sowohl für Mitglieder als auch für Nichtmitglieder offen. Er kann auch als erste Anlaufstelle dienen um sich den Verein anzuschauen und erste Infos zum Verein einzuholen.\nEine Anmeldung ist nicht zwingend notwendig oder verbindlich\, hilft uns jedoch sehr bei der Planung. Außerdem können wir Euch so informieren falls eine Veranstaltung doch mal ausfällt. \nBitte beachtet\, dass es nur Mitgliedern gestattet wird eigene Getränke mitzubringen.\nAlle Anderen bedienen sich bitte an den von uns angebotenen Getränken. (2€ pro Getränk im Kühlschrank) \nSolltet ihr noch kein Mitglied sein\, aber Interesse an unseren Events oder einer Mitgliedschaft haben\, könnt ihr gerne einen ausgefüllten Mitgliedsantrag zum entsprechenden Event mitbringen und ab da einen kostenlosen Probemonat bei uns starten. Mitgliedsanträge gibt es hier \nAufgrund der aktuellen Covid19 Bestimmungen können unsere Events ohne besondere Einschränkungen stattfinden. Einen Covid Test im Vorfeld durchzuführen\, kann jedoch trotzdem helfen das Risiko einer Ansteckung zu reduzieren. Bitte kommt nicht\, wenn ihr euch unwohl fühlt oder Erkältungsymptome aufweist.
URL:https://katago-ev.de/event/open-night-tabletop-treff
LOCATION:Vereinsheim 1 (Hegelstraße 1a)\, Hegelstraße 1a\, Bamberg\, Bayern\, 96052\, Germany
CATEGORIES:Tabletop
ATTACH;FMTTYPE=image/jpeg:https://katago-ev.de/wp-content/uploads/2021/07/40K-Schlachtbild.jpg
ORGANIZER;CN="Thomas Scheer":MAILTO:thomas.scheer999[AT]googlemail.com
END:VEVENT
BEGIN:VEVENT
DTSTART;TZID=Europe/Berlin:20221014T190000
DTEND;TZID=Europe/Berlin:20221014T233000
DTSTAMP:20260420T230413
CREATED:20220910T192435Z
LAST-MODIFIED:20220910T192436Z
UID:10002810-1665774000-1665790200@katago-ev.de
SUMMARY:MTG Modern FNM
DESCRIPTION:Willkommen zu unserem wöchentlichen Modern FNM im KaTaGO e.V. \nDies ist ein öffentliches Event zum dem auch Spieler kommen können die keine Mitglieder des Vereins sind. \nBitte beachtet\, dass es nur Mitgliedern gestattet wird eigene Getränke mitzubringen.\nAlle Anderen bedienen sich bitte an den von uns angebotenen Getränken. \nSolltet ihr noch kein Mitglied sein\, aber Interesse an unseren Events oder einer Mitgliedschaft haben\, könnt ihr gerne einen ausgefüllten Mitgliedsantrag zum entsprechenden Event mitbringen und ab da einen kostenlosen Probemonat bei uns starten. Mitgliedsanträge gibt es hier. \nEventdetails: \nAnmeldung: 18:45 – 19:00 Uhr          (Solltet ihr euch verpäten gebt uns rechtzeitig Bescheid\, wir können auch mal warten) \nFormat: Modern Constructed             (Keine Deckliste notwendig) \nStartgeld: 5€ p.P. \nPreise: cardmarket-Gutscheine. Ausschüttung nach Final Standings im Nachgang per WA \nWir freuen uns auf euch! \nAußerdem bitten wir um euer Verständnis\, dass sich die Umstände aufgrund der aktuellen Situation jederzeit ändern können und wir ggf. vom oben beschriebenen Ablauf abweichen müssen!
URL:https://katago-ev.de/event/mtg-modern-fnm/2022-10-14
LOCATION:Vereinsheim 1 – Hauptraum (Hegelstraße 1a)\, Hegelstraße 1a\, Bamberg\, Bayern\, 96052\, Germany
CATEGORIES:Magic the Gathering
ATTACH;FMTTYPE=image/png:https://katago-ev.de/wp-content/uploads/2022/07/fnm_logo_front_schwarz-e1702314703609.png
END:VEVENT
BEGIN:VEVENT
DTSTART;TZID=Europe/Berlin:20221015T113000
DTEND;TZID=Europe/Berlin:20221015T170000
DTSTAMP:20260420T230413
CREATED:20220907T164857Z
LAST-MODIFIED:20220924T070419Z
UID:10002773-1665833400-1665853200@katago-ev.de
SUMMARY:Yu-Gi-Oh! Sneak "Darkwing Blast"
DESCRIPTION:Es wird wieder Zeit für ein Duell!\nKommt vorbei und lasst uns zusammen die neuen Karten testen. \nDies ist ein öffentliches Event zu dem auch Spieler kommen können die kein Mitglied des Vereins sind.\nBitte beachtet\, dass es nur Mitgliedern gestattet wird eigene Getränke mitzubringen.\nAlle anderen bedienen sich bitte an den von uns angebotenen Getränken. \nEventdetails: \nAnmeldung: 11:15 – 11:45 Uhr \nFormat: Sneak \nStartgeld: 20€ p.P \nPreise: Darkwing Blast-Spielmatte + Promokarte \nWir freuen uns auf euch!
URL:https://katago-ev.de/event/yu-gi-oh-sneak-darkwing-blast
LOCATION:Vereinsheim 1 – Hauptraum (Hegelstraße 1a)\, Hegelstraße 1a\, Bamberg\, Bayern\, 96052\, Germany
CATEGORIES:Kartenspiele,Yu-Gi-Oh!
END:VEVENT
BEGIN:VEVENT
DTSTART;TZID=Europe/Berlin:20221015T140000
DTEND;TZID=Europe/Berlin:20221015T180000
DTSTAMP:20260420T230413
CREATED:20220926T111917Z
LAST-MODIFIED:20220926T111923Z
UID:10002944-1665842400-1665856800@katago-ev.de
SUMMARY:Warhammer 40K - Kill Team
DESCRIPTION:Hallo Rekrut\, \nwir laden dich ein auf eine epische Mission mit schnellen Taktiken und gefährlichen Feuergefechten\, in dem jeder Fehler dein letzter sein wird. \nWir spielen Warhammer 40K Kill Team. \nDies ist keine öffentliche Veranstaltung. \nEinsteiger sind gerne willkommen.
URL:https://katago-ev.de/event/warhammer-40k-kill-team
LOCATION:Vereinsheim 1 – Keller (Hegelstraße 1a)\, Hegelstraße 1a\, Bamberg\, Bayern\, 96052\, Germany
CATEGORIES:Kill Team
ATTACH;FMTTYPE=image/jpeg:https://katago-ev.de/wp-content/uploads/2022/03/kill-team.jpg
END:VEVENT
BEGIN:VEVENT
DTSTART;TZID=Europe/Berlin:20221015T174000
DTEND;TZID=Europe/Berlin:20221015T233000
DTSTAMP:20260420T230413
CREATED:20220929T084004Z
LAST-MODIFIED:20221015T135408Z
UID:10002950-1665855600-1665876600@katago-ev.de
SUMMARY:MTG Store Championship: Dominaria United Draft
DESCRIPTION:Willkommen zu unserem Limited FNM im KaTaGO e.V. \nDiese Woche spielen wir Dominaria United Draft als Store Championship. \nDies ist ein öffentliches Event zum dem auch Spieler kommen können die keine Mitglieder des Vereins sind.\nBitte beachtet\, dass es nur Mitgliedern gestattet wird eigene Getränke mitzubringen.\nAlle Anderen bedienen sich bitte an den von uns angebotenen Getränken. \nSolltet ihr noch kein Mitglied sein\, aber Interesse an unseren Events oder einer Mitgliedschaft haben\, könnt ihr gerne einen ausgefüllten Mitgliedsantrag zum entsprechenden Event mitbringen und ab da einen kostenlosen Probemonat bei uns starten. Mitgliedsanträge gibt es hier. \nEventdetails: \nAnmeldung: 17:40 – 18:00 Uhr          (Solltet ihr euch verspäten gebt uns rechtzeitig Bescheid\, wir können auch mal warten) \nFormat: Draft                                          (Dominaria United)\, Schweizer System\, ab 12 Spielern mit Cut auf Top 4 \nStartgeld: 15€ p.P.                                 (kann je nach Set abweichen) \nPreise: Boosterpreise und Promos nach Final Standings \nWir freuen uns auf euch! \nAußerdem bitten wir um euer Verständnis\, dass sich die Umstände aufgrund der aktuellen Situation jederzeit ändern können und wir ggf. vom oben beschriebenen Ablauf abweichen müssen!
URL:https://katago-ev.de/event/blocker-mtg-store-championship-dmu
LOCATION:Vereinsheim 1 (Hegelstraße 1a)\, Hegelstraße 1a\, Bamberg\, Bayern\, 96052\, Germany
CATEGORIES:Kartenspiele,Magic the Gathering
ATTACH;FMTTYPE=image/jpeg:https://katago-ev.de/wp-content/uploads/2022/09/Dom-Store-Champ.jpg
END:VEVENT
BEGIN:VEVENT
DTSTART;TZID=Europe/Berlin:20221015T180000
DTEND;TZID=Europe/Berlin:20221015T220000
DTSTAMP:20260420T230413
CREATED:20221012T154626Z
LAST-MODIFIED:20221012T154627Z
UID:10002995-1665856800-1665871200@katago-ev.de
SUMMARY:Flesh and Blood Armory CC
DESCRIPTION:Flesh and Blood Armory CC
URL:https://katago-ev.de/event/flesh-and-blood-armory-cc-2
LOCATION:Vereinsheim 1 (Hegelstraße 1a)\, Hegelstraße 1a\, Bamberg\, Bayern\, 96052\, Germany
CATEGORIES:Flesh and Blood TCG
ATTACH;FMTTYPE=image/png:https://katago-ev.de/wp-content/uploads/2021/09/logo_fab_stroke_black_750.height-350.width-10000.png
ORGANIZER;CN="Thomas Scheer":MAILTO:thomas.scheer999[AT]googlemail.com
END:VEVENT
BEGIN:VEVENT
DTSTART;TZID=Europe/Berlin:20221016T140000
DTEND;TZID=Europe/Berlin:20221016T180000
DTSTAMP:20260420T230413
CREATED:20220907T133253Z
LAST-MODIFIED:20220915T082138Z
UID:10002762-1665928800-1665943200@katago-ev.de
SUMMARY:Custom 40K (Warhammer 40k)
DESCRIPTION:Einsteiger gern gesehen! \nEs wird Warhammer 40k mit einem eigenen\, von unserer Community entwickelten\, Regelwerk samt Kodizes gespielt. \nFür Details schau bei uns im Discord vorbei\, dort finden alle relevanten Diskussionen dazu statt oder besuch uns direkt.
URL:https://katago-ev.de/event/custom-40k-27/2022-10-16
LOCATION:Vereinsheim 1 (Hegelstraße 1a)\, Hegelstraße 1a\, Bamberg\, Bayern\, 96052\, Germany
CATEGORIES:Tabletop,Warhammer 40k
ATTACH;FMTTYPE=image/webp:https://katago-ev.de/wp-content/uploads/2022/09/warhaaa.webp
END:VEVENT
BEGIN:VEVENT
DTSTART;TZID=Europe/Berlin:20221016T140000
DTEND;TZID=Europe/Berlin:20221016T200000
DTSTAMP:20260420T230413
CREATED:20220908T051933Z
LAST-MODIFIED:20221008T093019Z
UID:10002774-1665928800-1665950400@katago-ev.de
SUMMARY:D&D Kampagne EBERRON: Die Schöpfungs Schmiede
DESCRIPTION:Eine Gruppe von Abenteurern versucht die Teile eines alten Relikts zu finden und was es damit auf sich hat. \nDies ist ein geschlossenes Event da alle Plätze in der Gruppe schon belegt sind.
URL:https://katago-ev.de/event/dd-kampagne-eberron-die-schoepfungs-schmiede/2022-10-16
LOCATION:Vereinsheim 1 – Keller (Hegelstraße 1a)\, Hegelstraße 1a\, Bamberg\, Bayern\, 96052\, Germany
CATEGORIES:Dungeons & Dragons,Fantasy,Rollenspiel
ATTACH;FMTTYPE=image/jpeg:https://katago-ev.de/wp-content/uploads/2022/09/20220907_183447.jpg
END:VEVENT
END:VCALENDAR