BEGIN:VCALENDAR
VERSION:2.0
PRODID:-//katago-ev.de - ECPv6.15.0.1//NONSGML v1.0//EN
CALSCALE:GREGORIAN
METHOD:PUBLISH
X-WR-CALNAME:katago-ev.de
X-ORIGINAL-URL:https://katago-ev.de
X-WR-CALDESC:Veranstaltungen für katago-ev.de
REFRESH-INTERVAL;VALUE=DURATION:PT1H
X-Robots-Tag:noindex
X-PUBLISHED-TTL:PT1H
BEGIN:VTIMEZONE
TZID:Europe/Berlin
BEGIN:DAYLIGHT
TZOFFSETFROM:+0100
TZOFFSETTO:+0200
TZNAME:CEST
DTSTART:20220327T010000
END:DAYLIGHT
BEGIN:STANDARD
TZOFFSETFROM:+0200
TZOFFSETTO:+0100
TZNAME:CET
DTSTART:20221030T010000
END:STANDARD
END:VTIMEZONE
BEGIN:VEVENT
DTSTART;TZID=Europe/Berlin:20221017T170000
DTEND;TZID=Europe/Berlin:20221017T200000
DTSTAMP:20260420T072136
CREATED:20221013T161814Z
LAST-MODIFIED:20221013T161814Z
UID:10002831-1666026000-1666036800@katago-ev.de
SUMMARY:Arkham Horror LCG
DESCRIPTION:Dies ist ein geschlossenes Event. \nFür weitere Mitglieder ist der Verein geöffnet.
URL:https://katago-ev.de/event/arkham-horror-lcg-5-2/2022-10-17
LOCATION:Vereinsheim 1 – Keller (Hegelstraße 1a)\, Hegelstraße 1a\, Bamberg\, Bayern\, 96052\, Germany
CATEGORIES:Arkham Horror LCG,Kartenspiele
ATTACH;FMTTYPE=image/png:https://katago-ev.de/wp-content/uploads/2022/09/ahb01_logo.png
END:VEVENT
BEGIN:VEVENT
DTSTART;TZID=Europe/Berlin:20221018T180000
DTEND;TZID=Europe/Berlin:20221018T210000
DTSTAMP:20260420T072136
CREATED:20221012T171208Z
LAST-MODIFIED:20221012T171208Z
UID:10002997-1666116000-1666126800@katago-ev.de
SUMMARY:Bennys Boardgame Classics - Risiko
DESCRIPTION:Herzlich willkommen zu unseren Open Night Events im KaTaGO e.V.\n\nDies ist ein offener Spieleabend an dem wir uns den Spieleklassikern widmen. Zu diesen Abenden ist jeder willkommen und es wird immer ein Spiel geben\, was an diesen Abenden die Hauptattraktion darstellt. \nDiese Woche spielen wir Risiko! \nAn diesem Abend sind alle Brettspieler herzlich willkommen! \nDer Spieleabend ist ein öffentliches Event und sowohl für Mitglieder als auch für Nichtmitglieder offen. Er kann auch als erste Anlaufstelle dienen um sich den Verein anzuschauen und erste Infos zum Verein einzuhole.\nEine Anmeldung ist nicht zwingend notwendig oder verbindlich\, hilft uns jedoch sehr bei der Planung. Außerdem können wir euch so informieren falls eine Veranstaltung doch mal ausfällt. \nBitte beachtet\, dass es nur Mitgliedern gestattet wird eigene Getränke mitzubringen.\nAlle Anderen bedienen sich bitte an den von uns angebotenen Getränken. (2€ pro Getränk im Kühlschrank) \nSolltet ihr noch kein Mitglied sein\, aber Interesse an unseren Events oder einer Mitgliedschaft haben\, könnt ihr gerne einen ausgefüllten Mitgliedsantrag zum entsprechenden Event mitbringen und ab da einen kostenlosen Probemonat bei uns starten. Mitgliedsanträge gibt es hier \nAufgrund der aktuellen Covid19 Bestimmungen können unsere Events ohne besondere Einschränkungen stattfinden. Einen Covid Test im Vorfeld durchzuführen\, kann jedoch trotzdem helfen das Risiko einer Ansteckung zu reduzieren. Bitte kommt nicht\, wenn ihr euch unwohl fühlt oder Erkältungsymptome aufweist.
URL:https://katago-ev.de/event/bennys-boardgame-classics-risiko
LOCATION:Vereinsheim 1 – Hauptraum (Hegelstraße 1a)\, Hegelstraße 1a\, Bamberg\, Bayern\, 96052\, Germany
CATEGORIES:Brettspiel,Brettspiele,Gesellschaftsspiele,Open Night
ATTACH;FMTTYPE=image/jpeg:https://katago-ev.de/wp-content/uploads/2022/10/Risiko.jpg
END:VEVENT
BEGIN:VEVENT
DTSTART;TZID=Europe/Berlin:20221019T170000
DTEND;TZID=Europe/Berlin:20221019T210000
DTSTAMP:20260420T072136
CREATED:20221018T094956Z
LAST-MODIFIED:20221018T094956Z
UID:10003064-1666198800-1666213200@katago-ev.de
SUMMARY:Star Wars Legion
DESCRIPTION:Star Wars Legion
URL:https://katago-ev.de/event/star-wars-legion-9
LOCATION:Vereinsheim 1 (Hegelstraße 1a)\, Hegelstraße 1a\, Bamberg\, Bayern\, 96052\, Germany
CATEGORIES:Star Wars,Tabletop
END:VEVENT
BEGIN:VEVENT
DTSTART;TZID=Europe/Berlin:20221019T170000
DTEND;TZID=Europe/Berlin:20221019T220000
DTSTAMP:20260420T072136
CREATED:20221016T092802Z
LAST-MODIFIED:20221017T092912Z
UID:10003062-1666198800-1666216800@katago-ev.de
SUMMARY:Bushido Demo
DESCRIPTION:Bushido Demo für alle die sich das geniale Tabletop Skirmish System ansehen wollen.
URL:https://katago-ev.de/event/bushido-demo
LOCATION:Vereinsheim 1 (Hegelstraße 1a)\, Hegelstraße 1a\, Bamberg\, Bayern\, 96052\, Germany
CATEGORIES:Tabletop
ORGANIZER;CN="Thomas Scheer":MAILTO:thomas.scheer999[AT]googlemail.com
END:VEVENT
BEGIN:VEVENT
DTSTART;TZID=Europe/Berlin:20221020T190000
DTEND;TZID=Europe/Berlin:20221020T233000
DTSTAMP:20260420T072136
CREATED:20220915T075723Z
LAST-MODIFIED:20220915T075723Z
UID:10002741-1666292400-1666308600@katago-ev.de
SUMMARY:Open Night: Yu-Gi-Oh!
DESCRIPTION:Willkommen zum YU-GI-OH! Open Night Event bei uns im KaTaGO e.V. \nMindestens zweimal im Monat sind alle Spieler und Interessierten herzlich eingeladen an unseren öffentlichen Yu-Gi-Oh!-Abenden teilzunehmen.\nWir bringen euch gerne das Spiel näher\, testen mit euch neue Decks oder unterhalten uns über Yu-Gi-Oh.\nAlso kommt gerne vorbei\, schaut euch um oder spielt mit uns! \nDer Spieleabend ist ein öffentliches Event und sowohl für Mitglieder als auch für Nichtmitglieder offen.\nEr kann auch als erste Anlaufstelle dienen um sich den Verein anzuschauen und Infos zum Verein einzuholen. \nEine Anmeldung ist nicht zwingend notwendig oder verbindlich\, hilft uns jedoch sehr bei der Planung.\nAußerdem können wir euch so informieren falls eine Veranstaltung doch mal ausfällt. \nBitte beachtet\, dass es nur Mitgliedern gestattet wird eigene Getränke mitzubringen.\nAlle Anderen bedienen sich bitte an den von uns angebotenen Getränken. \nSolltet ihr noch kein Mitglied sein\, aber Interesse an unseren Events oder einer Mitgliedschaft haben\, könnt ihr gerne einen ausgefüllten Mitgliedsantrag zum entsprechenden Event mitbringen und ab da einen kostenlosen Probemonat (Kalendermonat) bei uns starten. Mitgliedsanträge gibt es hier. \nAufgrund der aktuellen Covid19 Bestimmungen können unsere Events ohne besondere Einschränkungen stattfinden. Einen Covid Test im Vorfeld durchzuführen\, kann jedoch trotzdem helfen das Risiko einer Ansteckung zu reduzieren. Bitte kommt nicht\, wenn ihr euch unwohl fühlt oder Erkältungsymptome aufweist. \nBei Fragen wendet euch gerne an: info@mtgo-ev.de
URL:https://katago-ev.de/event/open-night-yu-gi-oh/2022-10-20
LOCATION:Vereinsheim 1 – Hauptraum (Hegelstraße 1a)\, Hegelstraße 1a\, Bamberg\, Bayern\, 96052\, Germany
ATTACH;FMTTYPE=image/jpeg:https://katago-ev.de/wp-content/uploads/2022/09/yugi.jpeg
END:VEVENT
BEGIN:VEVENT
DTSTART;TZID=Europe/Berlin:20221021T180000
DTEND;TZID=Europe/Berlin:20221021T220000
DTSTAMP:20260420T072136
CREATED:20221016T093911Z
LAST-MODIFIED:20221016T093912Z
UID:10003063-1666375200-1666389600@katago-ev.de
SUMMARY:Flesh and Blood Armory
DESCRIPTION:Flesh and Blood Armory
URL:https://katago-ev.de/event/flesh-and-blood-armory-17
LOCATION:Vereinsheim 1 (Hegelstraße 1a)\, Hegelstraße 1a\, Bamberg\, Bayern\, 96052\, Germany
CATEGORIES:Flesh and Blood TCG
ATTACH;FMTTYPE=image/png:https://katago-ev.de/wp-content/uploads/2021/09/logo_fab_stroke_black_750.height-350.width-10000.png
ORGANIZER;CN="Thomas Scheer":MAILTO:thomas.scheer999[AT]googlemail.com
END:VEVENT
BEGIN:VEVENT
DTSTART;TZID=Europe/Berlin:20221021T190000
DTEND;TZID=Europe/Berlin:20221021T233000
DTSTAMP:20260420T072136
CREATED:20220910T192435Z
LAST-MODIFIED:20220910T192436Z
UID:10002811-1666378800-1666395000@katago-ev.de
SUMMARY:MTG Modern FNM
DESCRIPTION:Willkommen zu unserem wöchentlichen Modern FNM im KaTaGO e.V. \nDies ist ein öffentliches Event zum dem auch Spieler kommen können die keine Mitglieder des Vereins sind. \nBitte beachtet\, dass es nur Mitgliedern gestattet wird eigene Getränke mitzubringen.\nAlle Anderen bedienen sich bitte an den von uns angebotenen Getränken. \nSolltet ihr noch kein Mitglied sein\, aber Interesse an unseren Events oder einer Mitgliedschaft haben\, könnt ihr gerne einen ausgefüllten Mitgliedsantrag zum entsprechenden Event mitbringen und ab da einen kostenlosen Probemonat bei uns starten. Mitgliedsanträge gibt es hier. \nEventdetails: \nAnmeldung: 18:45 – 19:00 Uhr          (Solltet ihr euch verpäten gebt uns rechtzeitig Bescheid\, wir können auch mal warten) \nFormat: Modern Constructed             (Keine Deckliste notwendig) \nStartgeld: 5€ p.P. \nPreise: cardmarket-Gutscheine. Ausschüttung nach Final Standings im Nachgang per WA \nWir freuen uns auf euch! \nAußerdem bitten wir um euer Verständnis\, dass sich die Umstände aufgrund der aktuellen Situation jederzeit ändern können und wir ggf. vom oben beschriebenen Ablauf abweichen müssen!
URL:https://katago-ev.de/event/mtg-modern-fnm/2022-10-21
LOCATION:Vereinsheim 1 – Hauptraum (Hegelstraße 1a)\, Hegelstraße 1a\, Bamberg\, Bayern\, 96052\, Germany
CATEGORIES:Magic the Gathering
ATTACH;FMTTYPE=image/png:https://katago-ev.de/wp-content/uploads/2022/07/fnm_logo_front_schwarz-e1702314703609.png
END:VEVENT
BEGIN:VEVENT
DTSTART;TZID=Europe/Berlin:20221022T113000
DTEND;TZID=Europe/Berlin:20221022T180000
DTSTAMP:20260420T072136
CREATED:20220820T064237Z
LAST-MODIFIED:20221021T150109Z
UID:10002712-1666438200-1666461600@katago-ev.de
SUMMARY:Yu-Gi-Oh! - Turnier
DESCRIPTION:Es wird wieder Zeit für ein Duell!\nSchnappt euch euer Deck und kommt bei unserem Yu-Gi-Oh!-Turnier vorbei. \nDies ist ein öffentliches Event zu dem auch Spieler kommen können die kein Mitglied des Vereins sind.\nBitte beachtet\, dass es nur Mitgliedern gestattet wird eigene Getränke mitzubringen.\nAlle anderen bedienen sich bitte an den von uns angebotenen Getränken. \nEventdetails: \nAnmeldung: 11:15 – 11:45 Uhr \nFormat: Constructed Advanced \nStartgeld: 5€ p.P \nPreise: OTS 20 Booster Packs \nWir freuen uns auf euch!
URL:https://katago-ev.de/event/yu-gi-oh-turnier-9
LOCATION:Vereinsheim 1 – Hauptraum (Hegelstraße 1a)\, Hegelstraße 1a\, Bamberg\, Bayern\, 96052\, Germany
CATEGORIES:Kartenspiele,Yu-Gi-Oh!
ATTACH;FMTTYPE=image/jpeg:https://katago-ev.de/wp-content/uploads/2022/08/20220326_124705.jpg
END:VEVENT
BEGIN:VEVENT
DTSTART;TZID=Europe/Berlin:20221022T140000
DTEND;TZID=Europe/Berlin:20221022T190000
DTSTAMP:20260420T072136
CREATED:20221019T164557Z
LAST-MODIFIED:20221019T164558Z
UID:10003065-1666447200-1666465200@katago-ev.de
SUMMARY:Warhammer 40K Kill Team
DESCRIPTION:Wir spielen wieder Kill Team. \nKommt vorbei und lasst euch von intensiven Gefechten mitreißen.
URL:https://katago-ev.de/event/warhammer-40k-kill-team-2
LOCATION:Vereinsheim 1 – Keller (Hegelstraße 1a)\, Hegelstraße 1a\, Bamberg\, Bayern\, 96052\, Germany
CATEGORIES:Kill Team,Tabletop,Warhammer 40k
ATTACH;FMTTYPE=image/jpeg:https://katago-ev.de/wp-content/uploads/2022/03/kill-team.jpg
END:VEVENT
BEGIN:VEVENT
DTSTART;TZID=Europe/Berlin:20221023T140000
DTEND;TZID=Europe/Berlin:20221023T180000
DTSTAMP:20260420T072136
CREATED:20220907T133253Z
LAST-MODIFIED:20220915T082138Z
UID:10002763-1666533600-1666548000@katago-ev.de
SUMMARY:Custom 40K (Warhammer 40k)
DESCRIPTION:Einsteiger gern gesehen! \nEs wird Warhammer 40k mit einem eigenen\, von unserer Community entwickelten\, Regelwerk samt Kodizes gespielt. \nFür Details schau bei uns im Discord vorbei\, dort finden alle relevanten Diskussionen dazu statt oder besuch uns direkt.
URL:https://katago-ev.de/event/custom-40k-27/2022-10-23
LOCATION:Vereinsheim 1 (Hegelstraße 1a)\, Hegelstraße 1a\, Bamberg\, Bayern\, 96052\, Germany
CATEGORIES:Tabletop,Warhammer 40k
ATTACH;FMTTYPE=image/webp:https://katago-ev.de/wp-content/uploads/2022/09/warhaaa.webp
END:VEVENT
END:VCALENDAR