BEGIN:VCALENDAR
VERSION:2.0
PRODID:-//katago-ev.de - ECPv6.15.0.1//NONSGML v1.0//EN
CALSCALE:GREGORIAN
METHOD:PUBLISH
X-ORIGINAL-URL:https://katago-ev.de
X-WR-CALDESC:Veranstaltungen für katago-ev.de
REFRESH-INTERVAL;VALUE=DURATION:PT1H
X-Robots-Tag:noindex
X-PUBLISHED-TTL:PT1H
BEGIN:VTIMEZONE
TZID:Europe/Berlin
BEGIN:DAYLIGHT
TZOFFSETFROM:+0100
TZOFFSETTO:+0200
TZNAME:CEST
DTSTART:20220327T010000
END:DAYLIGHT
BEGIN:STANDARD
TZOFFSETFROM:+0200
TZOFFSETTO:+0100
TZNAME:CET
DTSTART:20221030T010000
END:STANDARD
END:VTIMEZONE
BEGIN:VEVENT
DTSTART;TZID=Europe/Berlin:20221024T150000
DTEND;TZID=Europe/Berlin:20221024T180000
DTSTAMP:20260420T054541
CREATED:20221023T200526Z
LAST-MODIFIED:20221023T200526Z
UID:10003067-1666623600-1666634400@katago-ev.de
SUMMARY:Star Wars Legion Kids
DESCRIPTION:Star Wars Legion Kids – unsere Kids spielen Star Wars Legion. Wer dazu kommen mag zuschauen oder mitspielen ist herzlich eingeladen.
URL:https://katago-ev.de/event/star-wars-legion-kids-3
LOCATION:Vereinsheim 1 (Hegelstraße 1a)\, Hegelstraße 1a\, Bamberg\, Bayern\, 96052\, Germany
CATEGORIES:Star Wars,Tabletop
ORGANIZER;CN="Thomas Scheer":MAILTO:thomas.scheer999[AT]googlemail.com
END:VEVENT
BEGIN:VEVENT
DTSTART;TZID=Europe/Berlin:20221024T170000
DTEND;TZID=Europe/Berlin:20221024T200000
DTSTAMP:20260420T054541
CREATED:20221013T161814Z
LAST-MODIFIED:20221013T161814Z
UID:10003000-1666630800-1666641600@katago-ev.de
SUMMARY:Arkham Horror LCG
DESCRIPTION:Dies ist ein geschlossenes Event. \nFür weitere Mitglieder ist der Verein geöffnet.
URL:https://katago-ev.de/event/arkham-horror-lcg-5-2/2022-10-24
LOCATION:Vereinsheim 1 – Keller (Hegelstraße 1a)\, Hegelstraße 1a\, Bamberg\, Bayern\, 96052\, Germany
CATEGORIES:Arkham Horror LCG,Kartenspiele
ATTACH;FMTTYPE=image/png:https://katago-ev.de/wp-content/uploads/2022/09/ahb01_logo.png
END:VEVENT
BEGIN:VEVENT
DTSTART;TZID=Europe/Berlin:20221024T190000
DTEND;TZID=Europe/Berlin:20221024T220000
DTSTAMP:20260420T054541
CREATED:20220915T075726Z
LAST-MODIFIED:20220925T101516Z
UID:10002749-1666638000-1666648800@katago-ev.de
SUMMARY:Open Night: MTG Commander Stammtisch
DESCRIPTION:Willkommen zum MTG Commander Stammtisch bei uns im KaTaGO e.V. \nMindestens zweimal im Monat sind alle Spieler und Interessierten herzlich eingeladen an unseren öffentlichen MTG Commander-Abenden teilzunehmen.\nWir bringen euch gerne das Spiel näher\, testen mit euch neue Decks\, traden oder unterhalten uns Magic und Commander.\nAlso kommt gerne vorbei\, schaut euch um oder spielt mit uns! \nDer Spieleabend ist ein öffentliches Event und sowohl für Mitglieder als auch für Nichtmitglieder offen.\nEr kann auch als erste Anlaufstelle dienen um sich den Verein anzuschauen und Infos zum Verein einzuholen. \nEine Anmeldung ist nicht zwingend notwendig oder verbindlich\, hilft uns jedoch sehr bei der Planung.\nAußerdem können wir euch so informieren falls eine Veranstaltung doch mal ausfällt. \nBitte beachtet\, dass es nur Mitgliedern gestattet wird eigene Getränke mitzubringen.\nAlle Anderen bedienen sich bitte an den von uns angebotenen Getränken. \nSolltet ihr noch kein Mitglied sein\, aber Interesse an unseren Events oder einer Mitgliedschaft haben\, könnt ihr gerne einen ausgefüllten Mitgliedsantrag zum entsprechenden Event mitbringen und ab da einen kostenlosen Probemonat (Kalendermonat) bei uns starten. Mitgliedsanträge gibt es hier. \nAufgrund der aktuellen Covid19 Bestimmungen können unsere Events ohne besondere Einschränkungen stattfinden. Einen Covid Test im Vorfeld durchzuführen\, kann jedoch trotzdem helfen das Risiko einer Ansteckung zu reduzieren. Bitte kommt nicht\, wenn ihr euch unwohl fühlt oder Erkältungsymptome aufweist. \nBei Fragen wendet euch gerne an: info@mtgo-ev.de
URL:https://katago-ev.de/event/open-night-mtg-commander-stammtisch/2022-10-24
LOCATION:Vereinsheim 1 – Hauptraum (Hegelstraße 1a)\, Hegelstraße 1a\, Bamberg\, Bayern\, 96052\, Germany
ATTACH;FMTTYPE=image/jpeg:https://katago-ev.de/wp-content/uploads/2022/09/commander.jpg
END:VEVENT
BEGIN:VEVENT
DTSTART;TZID=Europe/Berlin:20221027T180000
DTEND;TZID=Europe/Berlin:20221027T223000
DTSTAMP:20260420T054541
CREATED:20221026T202937Z
LAST-MODIFIED:20221026T202937Z
UID:10003068-1666893600-1666909800@katago-ev.de
SUMMARY:A Song of Ice and Fire Tabletop
DESCRIPTION:Lasst euch von Mario in dieses tolle Tabletop entführen
URL:https://katago-ev.de/event/a-song-of-ice-and-fire-tabletop
LOCATION:Vereinsheim 1 – Hauptraum (Hegelstraße 1a)\, Hegelstraße 1a\, Bamberg\, Bayern\, 96052\, Germany
CATEGORIES:Fantasy,Tabletop
ATTACH;FMTTYPE=image/jpeg:https://katago-ev.de/wp-content/uploads/2022/10/20221026_222702.jpg
END:VEVENT
BEGIN:VEVENT
DTSTART;TZID=Europe/Berlin:20221028T190000
DTEND;TZID=Europe/Berlin:20221028T233000
DTSTAMP:20260420T054541
CREATED:20220910T192435Z
LAST-MODIFIED:20220910T192436Z
UID:10002812-1666983600-1666999800@katago-ev.de
SUMMARY:MTG Modern FNM
DESCRIPTION:Willkommen zu unserem wöchentlichen Modern FNM im KaTaGO e.V. \nDies ist ein öffentliches Event zum dem auch Spieler kommen können die keine Mitglieder des Vereins sind. \nBitte beachtet\, dass es nur Mitgliedern gestattet wird eigene Getränke mitzubringen.\nAlle Anderen bedienen sich bitte an den von uns angebotenen Getränken. \nSolltet ihr noch kein Mitglied sein\, aber Interesse an unseren Events oder einer Mitgliedschaft haben\, könnt ihr gerne einen ausgefüllten Mitgliedsantrag zum entsprechenden Event mitbringen und ab da einen kostenlosen Probemonat bei uns starten. Mitgliedsanträge gibt es hier. \nEventdetails: \nAnmeldung: 18:45 – 19:00 Uhr          (Solltet ihr euch verpäten gebt uns rechtzeitig Bescheid\, wir können auch mal warten) \nFormat: Modern Constructed             (Keine Deckliste notwendig) \nStartgeld: 5€ p.P. \nPreise: cardmarket-Gutscheine. Ausschüttung nach Final Standings im Nachgang per WA \nWir freuen uns auf euch! \nAußerdem bitten wir um euer Verständnis\, dass sich die Umstände aufgrund der aktuellen Situation jederzeit ändern können und wir ggf. vom oben beschriebenen Ablauf abweichen müssen!
URL:https://katago-ev.de/event/mtg-modern-fnm/2022-10-28
LOCATION:Vereinsheim 1 – Hauptraum (Hegelstraße 1a)\, Hegelstraße 1a\, Bamberg\, Bayern\, 96052\, Germany
CATEGORIES:Magic the Gathering
ATTACH;FMTTYPE=image/png:https://katago-ev.de/wp-content/uploads/2022/07/fnm_logo_front_schwarz-e1702314703609.png
END:VEVENT
BEGIN:VEVENT
DTSTART;TZID=Europe/Berlin:20221028T190000
DTEND;TZID=Europe/Berlin:20221028T233000
DTSTAMP:20260420T054541
CREATED:20221009T070259Z
LAST-MODIFIED:20221009T070448Z
UID:10002806-1666983600-1666999800@katago-ev.de
SUMMARY:MTG Limited FNM - Draft
DESCRIPTION:Willkommen zu unserem wöchentlichen Limited FNM im KaTaGO e.V. \nDies ist ein öffentliches Event zum dem auch Spieler kommen können die keine Mitglieder des Vereins sind.\nBitte beachtet\, dass es nur Mitgliedern gestattet wird eigene Getränke mitzubringen.\nAlle Anderen bedienen sich bitte an den von uns angebotenen Getränken. \nSolltet ihr noch kein Mitglied sein\, aber Interesse an unseren Events oder einer Mitgliedschaft haben\, könnt ihr gerne einen ausgefüllten Mitgliedsantrag zum entsprechenden Event mitbringen und ab da einen kostenlosen Probemonat bei uns starten. Mitgliedsanträge gibt es hier. \nEventdetails: \nAnmeldung: 18:45 – 19:00 Uhr          (Solltet ihr euch verspäten gebt uns rechtzeitig Bescheid\, wir können auch mal warten) \nFormat: Draft                                          (aktuelle Sets) \nStartgeld: 10€ p.P.                                 (kann je nach Set abweichen) \nPreise: Boosterpreise nach Final Standings \nWir freuen uns auf euch! \nAußerdem bitten wir um euer Verständnis\, dass sich die Umstände aufgrund der aktuellen Situation jederzeit ändern können und wir ggf. vom oben beschriebenen Ablauf abweichen müssen!
URL:https://katago-ev.de/event/mtg-limited-fnm-draft-3-2
LOCATION:Bayern
CATEGORIES:Kartenspiele,Magic the Gathering
ATTACH;FMTTYPE=image/png:https://katago-ev.de/wp-content/uploads/2022/07/fnm_logo_front_schwarz-e1702314703609.png
END:VEVENT
BEGIN:VEVENT
DTSTART;VALUE=DATE:20221029
DTEND;VALUE=DATE:20221031
DTSTAMP:20260420T054541
CREATED:20220813T174524Z
LAST-MODIFIED:20221028T151632Z
UID:10002703-1667001600-1667174399@katago-ev.de
SUMMARY:Bushido Turnier
DESCRIPTION:Bushido Turnier\, Start ist jeweils ab 9 Uhr bis sehr spät!
URL:https://katago-ev.de/event/bushido-turnier
LOCATION:Vereinsheim 1 (Hegelstraße 1a)\, Hegelstraße 1a\, Bamberg\, Bayern\, 96052\, Germany
CATEGORIES:Tabletop
ATTACH;FMTTYPE=image/png:https://katago-ev.de/wp-content/uploads/2022/08/Bushido-Banner.png
ORGANIZER;CN="Philipp Schmitt":MAILTO:manofmagic88@gmail.com
END:VEVENT
BEGIN:VEVENT
DTSTART;TZID=Europe/Berlin:20221030T140000
DTEND;TZID=Europe/Berlin:20221030T200000
DTSTAMP:20260420T054541
CREATED:20220908T051933Z
LAST-MODIFIED:20221008T093019Z
UID:10002775-1667138400-1667160000@katago-ev.de
SUMMARY:D&D Kampagne EBERRON: Die Schöpfungs Schmiede
DESCRIPTION:Eine Gruppe von Abenteurern versucht die Teile eines alten Relikts zu finden und was es damit auf sich hat. \nDies ist ein geschlossenes Event da alle Plätze in der Gruppe schon belegt sind.
URL:https://katago-ev.de/event/dd-kampagne-eberron-die-schoepfungs-schmiede/2022-10-30
LOCATION:Vereinsheim 1 – Keller (Hegelstraße 1a)\, Hegelstraße 1a\, Bamberg\, Bayern\, 96052\, Germany
CATEGORIES:Dungeons & Dragons,Fantasy,Rollenspiel
ATTACH;FMTTYPE=image/jpeg:https://katago-ev.de/wp-content/uploads/2022/09/20220907_183447.jpg
END:VEVENT
END:VCALENDAR