BEGIN:VCALENDAR
VERSION:2.0
PRODID:-//katago-ev.de - ECPv6.15.0.1//NONSGML v1.0//EN
CALSCALE:GREGORIAN
METHOD:PUBLISH
X-WR-CALNAME:katago-ev.de
X-ORIGINAL-URL:https://katago-ev.de
X-WR-CALDESC:Veranstaltungen für katago-ev.de
REFRESH-INTERVAL;VALUE=DURATION:PT1H
X-Robots-Tag:noindex
X-PUBLISHED-TTL:PT1H
BEGIN:VTIMEZONE
TZID:Europe/Berlin
BEGIN:DAYLIGHT
TZOFFSETFROM:+0100
TZOFFSETTO:+0200
TZNAME:CEST
DTSTART:20220327T010000
END:DAYLIGHT
BEGIN:STANDARD
TZOFFSETFROM:+0200
TZOFFSETTO:+0100
TZNAME:CET
DTSTART:20221030T010000
END:STANDARD
END:VTIMEZONE
BEGIN:VEVENT
DTSTART;TZID=Europe/Berlin:20221107T170000
DTEND;TZID=Europe/Berlin:20221107T200000
DTSTAMP:20260420T053218
CREATED:20221013T161814Z
LAST-MODIFIED:20221013T161814Z
UID:10003002-1667840400-1667851200@katago-ev.de
SUMMARY:Arkham Horror LCG
DESCRIPTION:Dies ist ein geschlossenes Event. \nFür weitere Mitglieder ist der Verein geöffnet.
URL:https://katago-ev.de/event/arkham-horror-lcg-5-2/2022-11-07
LOCATION:Vereinsheim 1 – Keller (Hegelstraße 1a)\, Hegelstraße 1a\, Bamberg\, Bayern\, 96052\, Germany
CATEGORIES:Arkham Horror LCG,Kartenspiele
ATTACH;FMTTYPE=image/png:https://katago-ev.de/wp-content/uploads/2022/09/ahb01_logo.png
END:VEVENT
BEGIN:VEVENT
DTSTART;TZID=Europe/Berlin:20221107T200000
DTEND;TZID=Europe/Berlin:20221107T220000
DTSTAMP:20260420T053218
CREATED:20221004T154257Z
LAST-MODIFIED:20221004T154257Z
UID:10002986-1667851200-1667858400@katago-ev.de
SUMMARY:Open Night: Fabians Werwölfe von Düsterwald
DESCRIPTION:Herzlich willkommen zu unseren Open Night Events im KaTaGO e.V. \n\nDies ist ein offener Spiele Abend an dem Fabian in unser kleines KaTaGO-Dorf einlädt um mit euch Werwölfe zu jagen.\nDas Werwolfspiel ist ein Nettes Gesellschaftsspiel\, das völlig ohne Spielbrett auskommt. Es geht vorallem um Kommunikation in der Gruppe und Strategie\, oder auch einfach wer am besten Lügen kann:).\nZiel des Spiels ist es\, für die Dorfbewohner alle Werwölfe unschädlich zu machen und die Wölfe gewinnen wenn alle Bewohner gefressen wurden.\nGespielt wird mindestens zu 9. (1 Spielleiter + 8 Spieler)\, aber je mehr desto besser.\nSollten wir nicht auf die erforderliche Spieleranzahl kommen wird etwas anderes aus dem Social-Deduction Bereich gespielt wie etwa „Secret Hitler“ wenn wir nur zu 5. sein sollten \n\nEs sind alle eingeladen an der Werwolfjagd teilzunehmen. \n\n\nDies ist ein öffentliches Event und sowohl für Mitglieder als auch für Nichtmitglieder offen. Er kann auch als erste Anlaufstelle dienen um sich den Verein anzuschauen und erste Infos zum Verein einzuhole.\nEine Anmeldung ist nicht zwingend notwendig oder verbindlich\, hilft uns jedoch sehr bei der Planung. Außerdem können wir euch so informieren falls eine Veranstaltung doch mal ausfällt. \n\nBitte beachtet\, dass es nur Mitgliedern gestattet wird eigene Getränke mitzubringen.\nAlle Anderen bedienen sich bitte an den von uns angebotenen Getränken. (2€ pro Getränk im Kühlschrank) \n\nSolltet ihr noch kein Mitglied sein\, aber Interesse an unseren Events oder einer Mitgliedschaft haben\, könnt ihr gerne einen ausgefüllten Mitgliedsantrag zum entsprechenden Event mitbringen und ab da einen kostenlosen Probemonat bei uns starten. Mitgliedsanträge gibt es hier \n\nAufgrund der aktuellen Covid19 Bestimmungen können unsere Events ohne besondere Einschränkungen stattfinden. Einen Covid Test im Vorfeld durchzuführen\, kann jedoch trotzdem helfen das Risiko einer Ansteckung zu reduzieren. Bitte kommt nicht\, wenn ihr euch unwohl fühlt oder Erkältungsymptome aufweist.
URL:https://katago-ev.de/event/open-night-fabians-werwoelfe-von-duesterwald-2/2022-11-07
LOCATION:Vereinsheim 1 – Hauptraum (Hegelstraße 1a)\, Hegelstraße 1a\, Bamberg\, Bayern\, 96052\, Germany
CATEGORIES:Gesellschaftsspiele,Open Night,Social-Deduction-Spiele,Werwölfe von Düsterwald
ATTACH;FMTTYPE=image/jpeg:https://katago-ev.de/wp-content/uploads/2022/09/20220902_121459.jpg
END:VEVENT
BEGIN:VEVENT
DTSTART;TZID=Europe/Berlin:20221108T170000
DTEND;TZID=Europe/Berlin:20221108T190000
DTSTAMP:20260420T053218
CREATED:20221108T105158Z
LAST-MODIFIED:20221108T105158Z
UID:10003074-1667926800-1667934000@katago-ev.de
SUMMARY:Risiko
DESCRIPTION:Die Spieler sind schon gefunden\, doch könnt ihr trotzdem gerne vorbeikommen um das Vereinsheim zu nutzen.
URL:https://katago-ev.de/event/risiko
LOCATION:Vereinsheim 1 (Hegelstraße 1a)\, Hegelstraße 1a\, Bamberg\, Bayern\, 96052\, Germany
CATEGORIES:Brettspiel,Brettspiele,Gesellschaftsspiele
ATTACH;FMTTYPE=image/jpeg:https://katago-ev.de/wp-content/uploads/2022/10/Risiko.jpg
END:VEVENT
BEGIN:VEVENT
DTSTART;TZID=Europe/Berlin:20221109T180000
DTEND;TZID=Europe/Berlin:20221109T220000
DTSTAMP:20260420T053218
CREATED:20221106T173041Z
LAST-MODIFIED:20221106T173041Z
UID:10003073-1668016800-1668031200@katago-ev.de
SUMMARY:Bushido Abend
DESCRIPTION:Bushido Abend
URL:https://katago-ev.de/event/bushido-abend
LOCATION:Vereinsheim 1 (Hegelstraße 1a)\, Hegelstraße 1a\, Bamberg\, Bayern\, 96052\, Germany
CATEGORIES:Tabletop
ATTACH;FMTTYPE=image/png:https://katago-ev.de/wp-content/uploads/2022/09/bush.png
ORGANIZER;CN="Thomas Scheer":MAILTO:thomas.scheer999[AT]googlemail.com
END:VEVENT
BEGIN:VEVENT
DTSTART;TZID=Europe/Berlin:20221110T170000
DTEND;TZID=Europe/Berlin:20221110T200000
DTSTAMP:20260420T053218
CREATED:20220926T061544Z
LAST-MODIFIED:20220926T061545Z
UID:10002930-1668099600-1668110400@katago-ev.de
SUMMARY:Open Night: Marvel Champions
DESCRIPTION:Herzlich willkommen zu unseren Open Night Events im KaTaGO e.V.\n \nDies ist ein offener Spieleabend mit Focus auf dem Marvel Champions LCG.\nEgal ob ihr Veteran seid oder das Spiel kennen lernen wollt\, bei unseren Marvel Champions LCG Open Nights ist jeder Willkommen.\nNeulinge bekommen vorgefertigte Helden gestellt und können sich an der Seite von erfahrenen Spielern berühmten Bösewichten aus der Marvel Welt stellen. Lasst uns gemeinsam die Welt… oder die ganze Galaxie retten! \nDer Spieleabend ist ein öffentliches Event und sowohl für Mitglieder als auch für Nichtmitglieder offen. Er kann auch als erste Anlaufstelle dienen um sich den Verein anzuschauen und erste Infos zum Verein einzuholen.\nEine Anmeldung ist nicht zwingend notwendig oder verbindlich\, hilft uns jedoch sehr bei der Planung. Außerdem können wir euch so informieren falls eine Veranstaltung doch mal ausfällt. \nBitte beachtet\, dass es nur Mitgliedern gestattet wird eigene Getränke mitzubringen.\nAlle Anderen bedienen sich bitte an den von uns angebotenen Getränken. (2€ pro Getränk im Kühlschrank) \nSolltet ihr noch kein Mitglied sein\, aber Interesse an unseren Events oder einer Mitgliedschaft haben\, könnt ihr gerne einen ausgefüllten Mitgliedsantrag zum entsprechenden Event mitbringen und ab da einen kostenlosen Probemonat bei uns starten. Mitgliedsanträge gibt es hier \nAufgrund der aktuellen Covid19 Bestimmungen können unsere Events ohne besondere Einschränkungen stattfinden. Einen Covid Test im Vorfeld durchzuführen\, kann jedoch trotzdem helfen das Risiko einer Ansteckung zu reduzieren. Bitte kommt nicht\, wenn ihr euch unwohl fühlt oder Erkältungssymptome aufweist. \n 
URL:https://katago-ev.de/event/open-night-marvel-champions
LOCATION:Vereinsheim 1 (Hegelstraße 1a)\, Hegelstraße 1a\, Bamberg\, Bayern\, 96052\, Germany
CATEGORIES:Kartenspiele,Marvel Champions
ATTACH;FMTTYPE=image/png:https://katago-ev.de/wp-content/uploads/2022/09/Marvel-Champions-3.png
END:VEVENT
BEGIN:VEVENT
DTSTART;TZID=Europe/Berlin:20221111T120000
DTEND;TZID=Europe/Berlin:20221111T170000
DTSTAMP:20260420T053218
CREATED:20221012T191500Z
LAST-MODIFIED:20221012T191500Z
UID:10002999-1668168000-1668186000@katago-ev.de
SUMMARY:Flesh and Blood Armory - Blood Dynasty Blitz Turnier
DESCRIPTION:Zur Feier des neuen Sets Blood Dynasty gibt es den ganzen Tag Blitz Events bei uns im Verein. \nAls Preise gibt es auf jeden Fall Promokarten. \n 
URL:https://katago-ev.de/event/flesh-and-blood-armory-blood-dynasty-blitz-turnier
LOCATION:Vereinsheim 1 – Hauptraum (Hegelstraße 1a)\, Hegelstraße 1a\, Bamberg\, Bayern\, 96052\, Germany
CATEGORIES:Flesh and Blood TCG,Kartenspiele
ATTACH;FMTTYPE=image/png:https://katago-ev.de/wp-content/uploads/2021/09/logo_fab_stroke_black_750.height-350.width-10000.png
END:VEVENT
BEGIN:VEVENT
DTSTART;TZID=Europe/Berlin:20221111T180000
DTEND;TZID=Europe/Berlin:20221111T230000
DTSTAMP:20260420T053218
CREATED:20221007T091752Z
LAST-MODIFIED:20221012T153829Z
UID:10002991-1668189600-1668207600@katago-ev.de
SUMMARY:Special Flesh and Blood Dynasty Armory Blitz
DESCRIPTION:Special Flesh and Blood Dynasty Armory Blitz.
URL:https://katago-ev.de/event/special-flesh-and-blood-dynasty-armory-blitz-blocker
LOCATION:Vereinsheim 1 (Hegelstraße 1a)\, Hegelstraße 1a\, Bamberg\, Bayern\, 96052\, Germany
CATEGORIES:Flesh and Blood TCG
ATTACH;FMTTYPE=image/png:https://katago-ev.de/wp-content/uploads/2021/09/logo_fab_stroke_black_750.height-350.width-10000.png
ORGANIZER;CN="Thomas Scheer":MAILTO:thomas.scheer999[AT]googlemail.com
END:VEVENT
BEGIN:VEVENT
DTSTART;TZID=Europe/Berlin:20221111T190000
DTEND;TZID=Europe/Berlin:20221111T233000
DTSTAMP:20260420T053218
CREATED:20220910T192435Z
LAST-MODIFIED:20220910T192436Z
UID:10002814-1668193200-1668209400@katago-ev.de
SUMMARY:MTG Modern FNM
DESCRIPTION:Willkommen zu unserem wöchentlichen Modern FNM im KaTaGO e.V. \nDies ist ein öffentliches Event zum dem auch Spieler kommen können die keine Mitglieder des Vereins sind. \nBitte beachtet\, dass es nur Mitgliedern gestattet wird eigene Getränke mitzubringen.\nAlle Anderen bedienen sich bitte an den von uns angebotenen Getränken. \nSolltet ihr noch kein Mitglied sein\, aber Interesse an unseren Events oder einer Mitgliedschaft haben\, könnt ihr gerne einen ausgefüllten Mitgliedsantrag zum entsprechenden Event mitbringen und ab da einen kostenlosen Probemonat bei uns starten. Mitgliedsanträge gibt es hier. \nEventdetails: \nAnmeldung: 18:45 – 19:00 Uhr          (Solltet ihr euch verpäten gebt uns rechtzeitig Bescheid\, wir können auch mal warten) \nFormat: Modern Constructed             (Keine Deckliste notwendig) \nStartgeld: 5€ p.P. \nPreise: cardmarket-Gutscheine. Ausschüttung nach Final Standings im Nachgang per WA \nWir freuen uns auf euch! \nAußerdem bitten wir um euer Verständnis\, dass sich die Umstände aufgrund der aktuellen Situation jederzeit ändern können und wir ggf. vom oben beschriebenen Ablauf abweichen müssen!
URL:https://katago-ev.de/event/mtg-modern-fnm/2022-11-11
LOCATION:Vereinsheim 1 – Hauptraum (Hegelstraße 1a)\, Hegelstraße 1a\, Bamberg\, Bayern\, 96052\, Germany
CATEGORIES:Magic the Gathering
ATTACH;FMTTYPE=image/png:https://katago-ev.de/wp-content/uploads/2022/07/fnm_logo_front_schwarz-e1702314703609.png
END:VEVENT
BEGIN:VEVENT
DTSTART;TZID=Europe/Berlin:20221112T163000
DTEND;TZID=Europe/Berlin:20221112T210000
DTSTAMP:20260420T053218
CREATED:20221003T183940Z
LAST-MODIFIED:20221030T144527Z
UID:10002985-1668270600-1668286800@katago-ev.de
SUMMARY:After Prerelease Draft The Brothers' War I
DESCRIPTION:Willkommen zu unserem After Prerelease Draft zu The Brothers‘ War im KaTaGO e.V. \nDies ist ein öffentliches Event zum dem auch Spieler kommen können die keine Mitglieder des Vereins sind.\nBitte beachtet\, dass es nur Mitgliedern gestattet wird eigene Getränke mitzubringen.\nAlle Anderen bedienen sich bitte an den von uns angebotenen Getränken. \nSolltet ihr noch kein Mitglied sein\, aber Interesse an unseren Events oder einer Mitgliedschaft haben\, könnt ihr gerne einen ausgefüllten Mitgliedsantrag zum entsprechenden Event mitbringen und ab da einen kostenlosen Probemonat bei uns starten. Mitgliedsanträge gibt es hier. \nEventdetails: \nAnmeldung: 16:30 – 16:45 Uhr          (Solltet ihr euch verspäten gebt uns rechtzeitig Bescheid\, wir können auch mal warten) \nFormat: Draft                                          (aktuelle Sets) \nStartgeld: 10€ p.P.                                 (kann je nach Set abweichen) \nPreise: Boosterpreise nach Final Standings \nWir freuen uns auf euch! \nAußerdem bitten wir um euer Verständnis\, dass sich die Umstände aufgrund der aktuellen Situation jederzeit ändern können und wir ggf. vom oben beschriebenen Ablauf abweichen müssen!
URL:https://katago-ev.de/event/after-prerelease-draft
LOCATION:Vereinsheim 1 – Hauptraum (Hegelstraße 1a)\, Hegelstraße 1a\, Bamberg\, Bayern\, 96052\, Germany
CATEGORIES:Kartenspiele,Magic the Gathering
ATTACH;FMTTYPE=image/jpeg:https://katago-ev.de/wp-content/uploads/2022/09/The-Brothers-War-Art.jpg
END:VEVENT
BEGIN:VEVENT
DTSTART;TZID=Europe/Berlin:20221112T200000
DTEND;TZID=Europe/Berlin:20221112T233000
DTSTAMP:20260420T053218
CREATED:20221030T144617Z
LAST-MODIFIED:20221030T144617Z
UID:10003071-1668283200-1668295800@katago-ev.de
SUMMARY:After Prerelease Draft The Brothers' War II
DESCRIPTION:Willkommen zu unserem After Prerelease Draft II zu The Brothers‘ War im KaTaGO e.V. \nDies ist ein öffentliches Event zum dem auch Spieler kommen können die keine Mitglieder des Vereins sind.\nBitte beachtet\, dass es nur Mitgliedern gestattet wird eigene Getränke mitzubringen.\nAlle Anderen bedienen sich bitte an den von uns angebotenen Getränken. \nSolltet ihr noch kein Mitglied sein\, aber Interesse an unseren Events oder einer Mitgliedschaft haben\, könnt ihr gerne einen ausgefüllten Mitgliedsantrag zum entsprechenden Event mitbringen und ab da einen kostenlosen Probemonat bei uns starten. Mitgliedsanträge gibt es hier. \nEventdetails: \nAnmeldung: 20:00 – 20:15 Uhr          (Solltet ihr euch verspäten gebt uns rechtzeitig Bescheid\, wir können auch mal warten) \nFormat: Draft                                          (aktuelle Sets) \nStartgeld: 10€ p.P.                                 (kann je nach Set abweichen) \nPreise: Boosterpreise nach Final Standings \nWir freuen uns auf euch! \nAußerdem bitten wir um euer Verständnis\, dass sich die Umstände aufgrund der aktuellen Situation jederzeit ändern können und wir ggf. vom oben beschriebenen Ablauf abweichen müssen!
URL:https://katago-ev.de/event/after-prerelease-draft-the-brothers-war-ii
LOCATION:Vereinsheim 1 – Hauptraum (Hegelstraße 1a)\, Hegelstraße 1a\, Bamberg\, Bayern\, 96052\, Germany
CATEGORIES:Kartenspiele,Magic the Gathering
ATTACH;FMTTYPE=image/jpeg:https://katago-ev.de/wp-content/uploads/2022/09/The-Brothers-War-Art.jpg
END:VEVENT
BEGIN:VEVENT
DTSTART;TZID=Europe/Berlin:20221113T110000
DTEND;TZID=Europe/Berlin:20221113T170000
DTSTAMP:20260420T053218
CREATED:20221030T143724Z
LAST-MODIFIED:20221030T144623Z
UID:10003069-1668337200-1668358800@katago-ev.de
SUMMARY:Prerelease - The Brothers' War - THG Sealed II
DESCRIPTION:Willkommen zu unserem Prerelease Two Headed Giant Sealed Event im Vereinsheim des KaTaGO e.V. \nDies ist ein öffentliches Event\, zum dem auch Spieler kommen können\, die keine Mitglieder des Vereins sind.\nAufgrund der aktuellen Covid19 Bestimmungen können unsere Events ohne besondere Einschränkungen stattfinden. \nDas Event ist auf 32 Personen beschränkt\, damit wir trotz der Lockerungen ausreichend Platz für alle Spieler bieten können. \nAußerdem möchten wir jeden bitten\, nach Möglichkeit im Vorfeld einen Test irgendeiner Art durchzuführen\, um das Risiko zusätzlich zu reduzieren.\nDieser Test ist freiwillig und muss nicht vorgelegt werden! Bitte kommt nicht\, wenn ihr euch unwohl fühlt oder Erkältungsymptome aufweist. \nAchtet bei Registrierung darauf\, dass ihr eure Emailadresse angebt\, damit wir euch bei Änderungen oder Absagen informieren können.\nPrüft auch bitte am Tag es Events nochmal eure Emails\, ob noch neue Informationen rausgegeben wurden. \nBeim Two Headed Giant spielt ihr zusammen mit einem Partner 2 vs 2 Matches\, wobei Ihr euch aus einem gemeinsamen Kartenpool (bestehend aus 2 Prerelease Kits) zwei Decks baut mit denen ihr gegen eure Gegner antretet. Bitte beachtet\, dass sich auch immer beide Spieler für das Event anmelden/voranmelden müssen. Solltet ihr keinen Partner haben\, möchtet aber gerne mitspielen\, könnt ihr gerne spontan vorbei kommen und schauen\, ob noch andere Spieler einen Partner suchen. Ihr könnt euch aber auch gerne per Mail (an: info@mtgo-ev.de / Betreff: „Prerelease“) an uns wenden und wir versuchen euch einen Partner zuzuweisen.\nParallel wird am Nachmittag auch ein Single Sealed Event angeboten\, für welches kein Partner benötigt wird. \nBitte beachtet\, dass es nur Mitgliedern gestattet wird eigene Getränke mitzubringen.\nAlle Anderen bedienen sich bitte an den von uns angebotenen Getränken. (2€ pro Getränk) \nSolltet ihr noch kein Mitglied sein\, aber Interesse an unseren Events oder einer Mitgliedschaft haben\, könnt ihr gerne einen ausgefüllten Mitgliedsantrag zum entsprechenden Event mitbringen und ab da einen kostenlosen Probemonat bei uns starten. Mitgliedsanträge gibt es hier. \nEventdetails: \nÖffung Vereinsheim: 11:00 Uhr \nAnmeldung:    11:15 – 11:30 Uhr\nDeckbau:          11:30 – 12:30 Uhr\nStart Runde 1:               12:30 Uhr \nFormat: Twoheaded Giant\, maximal 4 Runden \nStartgeld: 35€ p.P. \nPreise: Boosterpreise nach Final Standings\, jeder Spieler erhält mind. ein Preisbooster \nWir freuen uns auf euch! \nAußerdem bitten wir um euer Verständnis\, dass sich die Umstände aufgrund der aktuellen Situation jederzeit ändern können und wir ggf. vom oben beschriebenen Ablauf abweichen müssen!
URL:https://katago-ev.de/event/prerelease-the-brothers-war-thg-sealed-ii
LOCATION:Vereinsheim 1 (Hegelstraße 1a)\, Hegelstraße 1a\, Bamberg\, Bayern\, 96052\, Germany
CATEGORIES:Kartenspiele,Magic the Gathering
ATTACH;FMTTYPE=image/jpeg:https://katago-ev.de/wp-content/uploads/2022/09/The-Brothers-War-Art.jpg
END:VEVENT
BEGIN:VEVENT
DTSTART;TZID=Europe/Berlin:20221113T140000
DTEND;TZID=Europe/Berlin:20221113T200000
DTSTAMP:20260420T053218
CREATED:20220908T051933Z
LAST-MODIFIED:20221008T093019Z
UID:10002776-1668348000-1668369600@katago-ev.de
SUMMARY:D&D Kampagne EBERRON: Die Schöpfungs Schmiede
DESCRIPTION:Eine Gruppe von Abenteurern versucht die Teile eines alten Relikts zu finden und was es damit auf sich hat. \nDies ist ein geschlossenes Event da alle Plätze in der Gruppe schon belegt sind.
URL:https://katago-ev.de/event/dd-kampagne-eberron-die-schoepfungs-schmiede/2022-11-13
LOCATION:Vereinsheim 1 – Keller (Hegelstraße 1a)\, Hegelstraße 1a\, Bamberg\, Bayern\, 96052\, Germany
CATEGORIES:Dungeons & Dragons,Fantasy,Rollenspiel
ATTACH;FMTTYPE=image/jpeg:https://katago-ev.de/wp-content/uploads/2022/09/20220907_183447.jpg
END:VEVENT
END:VCALENDAR