BEGIN:VCALENDAR
VERSION:2.0
PRODID:-//katago-ev.de - ECPv6.15.0.1//NONSGML v1.0//EN
CALSCALE:GREGORIAN
METHOD:PUBLISH
X-WR-CALNAME:katago-ev.de
X-ORIGINAL-URL:https://katago-ev.de
X-WR-CALDESC:Veranstaltungen für katago-ev.de
REFRESH-INTERVAL;VALUE=DURATION:PT1H
X-Robots-Tag:noindex
X-PUBLISHED-TTL:PT1H
BEGIN:VTIMEZONE
TZID:Europe/Berlin
BEGIN:DAYLIGHT
TZOFFSETFROM:+0100
TZOFFSETTO:+0200
TZNAME:CEST
DTSTART:20230326T010000
END:DAYLIGHT
BEGIN:STANDARD
TZOFFSETFROM:+0200
TZOFFSETTO:+0100
TZNAME:CET
DTSTART:20231029T010000
END:STANDARD
END:VTIMEZONE
BEGIN:VEVENT
DTSTART;TZID=Europe/Berlin:20231101T090000
DTEND;TZID=Europe/Berlin:20231101T200000
DTSTAMP:20260420T053254
CREATED:20230804T170752Z
LAST-MODIFIED:20230804T170752Z
UID:10003838-1698829200-1698868800@katago-ev.de
SUMMARY:Infinity Turnier
DESCRIPTION:Infinity Turnier
URL:https://katago-ev.de/event/infinity-turnier
LOCATION:Vereinsheim 1 (Hegelstraße 1a)\, Hegelstraße 1a\, Bamberg\, Bayern\, 96052\, Germany
CATEGORIES:Tabletop
ORGANIZER;CN="Thomas Brandt":MAILTO:advi@hackerspace-bamberg.de
END:VEVENT
BEGIN:VEVENT
DTSTART;TZID=Europe/Berlin:20231101T183000
DTEND;TZID=Europe/Berlin:20231101T230000
DTSTAMP:20260420T053254
CREATED:20231029T230622Z
LAST-MODIFIED:20231029T230622Z
UID:10004251-1698863400-1698879600@katago-ev.de
SUMMARY:Yu-Gi-Oh! - Inhouse
DESCRIPTION:Geschlossenes Event \nDuellanten duellieren sich im Duell
URL:https://katago-ev.de/event/yu-gi-oh-inhouse-35
LOCATION:Vereinsheim 1 – Keller (Hegelstraße 1a)\, Hegelstraße 1a\, Bamberg\, Bayern\, 96052\, Germany
CATEGORIES:Kartenspiele,Yu-Gi-Oh!
END:VEVENT
BEGIN:VEVENT
DTSTART;TZID=Europe/Berlin:20231102T190000
DTEND;TZID=Europe/Berlin:20231102T233000
DTSTAMP:20260420T053254
CREATED:20230527T144749Z
LAST-MODIFIED:20230527T144750Z
UID:10003738-1698951600-1698967800@katago-ev.de
SUMMARY:Open Night: Yu-Gi-Oh!
DESCRIPTION:Willkommen zum YU-GI-OH! Open Night Event bei uns im KaTaGO e.V. \nMindestens zweimal im Monat sind alle Spieler und Interessierten herzlich eingeladen an unseren öffentlichen Yu-Gi-Oh!-Abenden teilzunehmen.\nWir bringen euch gerne das Spiel näher\, testen mit euch neue Decks oder unterhalten uns über Yu-Gi-Oh.\nAlso kommt gerne vorbei\, schaut euch um oder spielt mit uns! \nDer Spieleabend ist ein öffentliches Event und sowohl für Mitglieder als auch für Nichtmitglieder offen.\nEr kann auch als erste Anlaufstelle dienen um sich den Verein anzuschauen und Infos zum Verein einzuholen. \nEine Anmeldung ist nicht zwingend notwendig oder verbindlich\, hilft uns jedoch sehr bei der Planung.\nAußerdem können wir euch so informieren falls eine Veranstaltung doch mal ausfällt. \nBitte beachtet\, dass es nur Mitgliedern gestattet wird eigene Getränke mitzubringen.\nAlle Anderen bedienen sich bitte an den von uns angebotenen Getränken. \nSolltet ihr noch kein Mitglied sein\, aber Interesse an unseren Events oder einer Mitgliedschaft haben\, könnt ihr gerne einen ausgefüllten Mitgliedsantrag zum entsprechenden Event mitbringen und ab da einen kostenlosen Probemonat (Kalendermonat) bei uns starten. Mitgliedsanträge gibt es hier. \nAufgrund der aktuellen Covid19 Bestimmungen können unsere Events ohne besondere Einschränkungen stattfinden. Einen Covid Test im Vorfeld durchzuführen\, kann jedoch trotzdem helfen das Risiko einer Ansteckung zu reduzieren. Bitte kommt nicht\, wenn ihr euch unwohl fühlt oder Erkältungsymptome aufweist. \nBei Fragen wendet euch gerne an: info@mtgo-ev.de
URL:https://katago-ev.de/event/open-night-yu-gi-oh-7/2023-11-02
LOCATION:Vereinsheim 1 – Hauptraum (Hegelstraße 1a)\, Hegelstraße 1a\, Bamberg\, Bayern\, 96052\, Germany
CATEGORIES:Kartenspiele,Open Night,Yu-Gi-Oh!
ATTACH;FMTTYPE=image/jpeg:https://katago-ev.de/wp-content/uploads/2022/09/yugi.jpeg
END:VEVENT
BEGIN:VEVENT
DTSTART;TZID=Europe/Berlin:20231103T190000
DTEND;TZID=Europe/Berlin:20231103T233000
DTSTAMP:20260420T053254
CREATED:20230108T224647Z
LAST-MODIFIED:20231230T221717Z
UID:10003284-1699038000-1699054200@katago-ev.de
SUMMARY:Magic: The Gathering - Friday Night Magic - Modern
DESCRIPTION:Willkommen zu unserem wöchentlichen Modern FNM im KaTaGO e.V. \nDies ist ein öffentliches Event zum dem auch Spieler kommen können die keine Mitglieder des Vereins sind. \nBitte beachtet\, dass es nur Mitgliedern gestattet wird eigene Getränke mitzubringen.\nAlle Anderen bedienen sich bitte an den von uns angebotenen Getränken. \nSolltet ihr noch kein Mitglied sein\, aber Interesse an unseren Events oder einer Mitgliedschaft haben\, könnt ihr gerne einen ausgefüllten Mitgliedsantrag zum entsprechenden Event mitbringen und ab da einen kostenlosen Probemonat bei uns starten. Mitgliedsanträge gibt es hier. \nEventdetails: \nAnmeldung: 18:45 – 19:00 Uhr          (Solltet ihr euch verspäten gebt uns rechtzeitig Bescheid\, wir können auch mal warten) \nFormat: Modern Constructed             (Keine Deckliste notwendig) \nStartgeld: 5 € p. P. \nPreise: Preisausschüttung nach Final Standings: KataGO-Guthaben (einsehbar über die Modern-Whatsapp-Gruppe) \nDa es immer zu spontanen Änderungen kommen kann\, meldet euch bitte mit eurer Emailadresse\, damit wir euch entsprechend informieren können! \nBei Rückfragen wendet euch gerne an magic@katago-ev.de \nFragt uns auch gerne per Mail oder vor Ort nach unserer WhatsApp-Gruppe.\nÜber die Gruppe werden kurzfristige Abstimmungen vorgenommen sowie Infos und Termine kommuniziert. \nWir freuen uns auf euch! \nAußerdem bitten wir um euer Verständnis\, dass sich die Umstände aufgrund der aktuellen Situation jederzeit ändern können und wir ggf. vom oben beschriebenen Ablauf abweichen müssen!
URL:https://katago-ev.de/event/mtg-modern-fnm-3/2023-11-03
LOCATION:Vereinsheim 1 – Hauptraum (Hegelstraße 1a)\, Hegelstraße 1a\, Bamberg\, Bayern\, 96052\, Germany
CATEGORIES:Magic the Gathering
ATTACH;FMTTYPE=image/jpeg:https://katago-ev.de/wp-content/uploads/2023/01/MTG-Modern.jpg
END:VEVENT
BEGIN:VEVENT
DTSTART;TZID=Europe/Berlin:20231104T093000
DTEND;TZID=Europe/Berlin:20231104T170000
DTSTAMP:20260420T053254
CREATED:20231024T195338Z
LAST-MODIFIED:20231024T195747Z
UID:10004244-1699090200-1699117200@katago-ev.de
SUMMARY:25th Anniversary Rarity Collection Event
DESCRIPTION:Es wird wieder Zeit für ein Duell!\nSchnappt euch euer Deck und kommt zum Rarity Collection Event vorbei. \nDie Plätze sind auf 36 limitiert also anmelden!! \nDies ist ein öffentliches Event zu dem auch Spieler kommen können die kein Mitglied des Vereins sind.\nBitte beachtet\, dass es nur Mitgliedern gestattet wird eigene Getränke mitzubringen.\nAlle anderen bedienen sich bitte an den von uns angebotenen Getränken. \nEventdetails: \nAnmeldung: 09:30 – 10:30 Uhr \nStart der 1. Runde: 10:30 Uhr \nFormat: Constructed Advanced \nStartgeld: 10€ p.P \nPreise: Spielmatte und Rarity Collection Booster Packs \nAnmeldebooster: 1xRarity Collection Booster \nWir freuen uns auf euch!
URL:https://katago-ev.de/event/25th-anniversary-rarity-collection-event
LOCATION:Vereinsheim 1 – Hauptraum (Hegelstraße 1a)\, Hegelstraße 1a\, Bamberg\, Bayern\, 96052\, Germany
CATEGORIES:Kartenspiele,Yu-Gi-Oh!
END:VEVENT
BEGIN:VEVENT
DTSTART;TZID=Europe/Berlin:20231105T110000
DTEND;TZID=Europe/Berlin:20231105T140000
DTSTAMP:20260420T053254
CREATED:20231024T211857Z
LAST-MODIFIED:20231024T211857Z
UID:10004245-1699182000-1699192800@katago-ev.de
SUMMARY:Pokemon Kartenspiel für Kids
DESCRIPTION:Willkommen zu unserem Pokemon Kartenspiel Event im KaTaGO e.V. \nDieses Event ist vor allem für die jüngere Generation gedacht\, um die Regeln des Spiels zu erlernen und erste Spielerfahrungen zu sammeln.\nNatürlich können auch erfahrene Spieler vorbei schauen\, am liebsten natürlich um den jüngeren das Spiel näher zu bringen. \nWir spielen vor allem mit vorkonstruierten\, gekauften geeignet für Einsteiger und Fortgeschrittene. Es hat immer jemand Decks dabei die zum Testen und Lernen genutzt werden können\, falls ihr keine eigenen Karten oder Decks habt. \nDies ist ein öffentliches Event zum dem auch Spieler kommen können die keine Mitglieder des Vereins sind.\nBitte beachtet\, dass es nur Mitgliedern gestattet wird eigene Getränke mitzubringen. \nKinder und Jugendliche können sich an diesem Tag gerne ihre eigene Verpflegung mitbringen\, auch ohne Vereinsmitgliedschaft.\nEltern und Begleitpersonen sind natürlich auch willkommen\, bedienen sich aber bitte an den von uns angebotenen Getränken. \nSolltet ihr noch kein Mitglied sein\, aber Interesse an unseren Events oder einer Mitgliedschaft haben\, könnt ihr gerne einen ausgefüllten Mitgliedsantrag zum entsprechenden Event mitbringen und ab da einen kostenlosen Probemonat bei uns starten. Mitgliedsanträge gibt es hier. \n  \nDamit wir euch über Änderungen bzgl. Ort oder Zeit informieren können\, bitten wir euch darum\, euch im Eventkalender für dieses Event anzumelden und eine Emailadresse zu hinterlegen.
URL:https://katago-ev.de/event/pokemon-kartenspiel-fuer-kids-25
LOCATION:Vereinsheim 1 – Hauptraum (Hegelstraße 1a)\, Hegelstraße 1a\, Bamberg\, Bayern\, 96052\, Germany
CATEGORIES:Kartenspiele,Pokemon
ATTACH;FMTTYPE=image/png:https://katago-ev.de/wp-content/uploads/2022/11/Pokemon_Trading_Card_Game_logo.svg_-e1703021422143.png
ORGANIZER;CN="C. Schneider":MAILTO:chris.sneids@web.de
END:VEVENT
BEGIN:VEVENT
DTSTART;TZID=Europe/Berlin:20231105T140000
DTEND;TZID=Europe/Berlin:20231105T180000
DTSTAMP:20260420T053254
CREATED:20230111T193007Z
LAST-MODIFIED:20230315T224500Z
UID:10003563-1699192800-1699207200@katago-ev.de
SUMMARY:Custom 40K (Warhammer 40k)
DESCRIPTION:Geschlossene Veranstaltung\, nur für Mitglieder! \nSolltet ihr noch kein Mitglied sein\, aber Interesse an unseren Events oder einer Mitgliedschaft haben\, könnt ihr gerne einen ausgefüllten Mitgliedsantrag zum entsprechenden Event mitbringen und ab da einen kostenlosen Probemonat bei uns starten. Mitgliedsanträge gibt es hier. \nEinsteiger gern gesehen! \nEs wird Warhammer 40k mit einem eigenen\, von unserer Community entwickelten\, Regelwerk samt Kodizes gespielt. \nFür Details schau bei uns im Discord vorbei\, dort finden alle relevanten Diskussionen dazu statt oder besuch uns direkt.
URL:https://katago-ev.de/event/custom-40k-warhammer-40k-2/2023-11-05
LOCATION:Vereinsheim 1 – Keller (Hegelstraße 1a)\, Hegelstraße 1a\, Bamberg\, Bayern\, 96052\, Germany
CATEGORIES:Tabletop,Warhammer 40k
ATTACH;FMTTYPE=image/jpeg:https://katago-ev.de/wp-content/uploads/2022/10/Warhammer-40K-Logo2-scaled.jpg
END:VEVENT
END:VCALENDAR