BEGIN:VCALENDAR
VERSION:2.0
PRODID:-//katago-ev.de - ECPv6.15.0.1//NONSGML v1.0//EN
CALSCALE:GREGORIAN
METHOD:PUBLISH
X-ORIGINAL-URL:https://katago-ev.de
X-WR-CALDESC:Veranstaltungen für katago-ev.de
REFRESH-INTERVAL;VALUE=DURATION:PT1H
X-Robots-Tag:noindex
X-PUBLISHED-TTL:PT1H
BEGIN:VTIMEZONE
TZID:Europe/Berlin
BEGIN:DAYLIGHT
TZOFFSETFROM:+0100
TZOFFSETTO:+0200
TZNAME:CEST
DTSTART:20230326T010000
END:DAYLIGHT
BEGIN:STANDARD
TZOFFSETFROM:+0200
TZOFFSETTO:+0100
TZNAME:CET
DTSTART:20231029T010000
END:STANDARD
END:VTIMEZONE
BEGIN:VEVENT
DTSTART;TZID=Europe/Berlin:20231113T183000
DTEND;TZID=Europe/Berlin:20231113T230000
DTSTAMP:20260420T205601
CREATED:20231113T104233Z
LAST-MODIFIED:20231113T104233Z
UID:10004271-1699900200-1699916400@katago-ev.de
SUMMARY:Yu-Gi-Oh! - Inhouse
DESCRIPTION:Geschlossenes Event \nDuellanten duellieren sich im Duell
URL:https://katago-ev.de/event/yu-gi-oh-inhouse-37
LOCATION:Vereinsheim 1 – Keller (Hegelstraße 1a)\, Hegelstraße 1a\, Bamberg\, Bayern\, 96052\, Germany
CATEGORIES:Kartenspiele,Yu-Gi-Oh!
END:VEVENT
BEGIN:VEVENT
DTSTART;TZID=Europe/Berlin:20231116T190000
DTEND;TZID=Europe/Berlin:20231116T233000
DTSTAMP:20260420T205601
CREATED:20230527T145023Z
LAST-MODIFIED:20230527T145023Z
UID:10003744-1700161200-1700177400@katago-ev.de
SUMMARY:Open Night: Yu-Gi-Oh!
DESCRIPTION:Willkommen zum YU-GI-OH! Open Night Event bei uns im KaTaGO e.V. \nMindestens zweimal im Monat sind alle Spieler und Interessierten herzlich eingeladen an unseren öffentlichen Yu-Gi-Oh!-Abenden teilzunehmen.\nWir bringen euch gerne das Spiel näher\, testen mit euch neue Decks oder unterhalten uns über Yu-Gi-Oh.\nAlso kommt gerne vorbei\, schaut euch um oder spielt mit uns! \nDer Spieleabend ist ein öffentliches Event und sowohl für Mitglieder als auch für Nichtmitglieder offen.\nEr kann auch als erste Anlaufstelle dienen um sich den Verein anzuschauen und Infos zum Verein einzuholen. \nEine Anmeldung ist nicht zwingend notwendig oder verbindlich\, hilft uns jedoch sehr bei der Planung.\nAußerdem können wir euch so informieren falls eine Veranstaltung doch mal ausfällt. \nBitte beachtet\, dass es nur Mitgliedern gestattet wird eigene Getränke mitzubringen.\nAlle Anderen bedienen sich bitte an den von uns angebotenen Getränken. \nSolltet ihr noch kein Mitglied sein\, aber Interesse an unseren Events oder einer Mitgliedschaft haben\, könnt ihr gerne einen ausgefüllten Mitgliedsantrag zum entsprechenden Event mitbringen und ab da einen kostenlosen Probemonat (Kalendermonat) bei uns starten. Mitgliedsanträge gibt es hier. \nAufgrund der aktuellen Covid19 Bestimmungen können unsere Events ohne besondere Einschränkungen stattfinden. Einen Covid Test im Vorfeld durchzuführen\, kann jedoch trotzdem helfen das Risiko einer Ansteckung zu reduzieren. Bitte kommt nicht\, wenn ihr euch unwohl fühlt oder Erkältungsymptome aufweist. \nBei Fragen wendet euch gerne an: info@mtgo-ev.de
URL:https://katago-ev.de/event/open-night-yu-gi-oh-8/2023-11-16
LOCATION:Vereinsheim 1 – Hauptraum (Hegelstraße 1a)\, Hegelstraße 1a\, Bamberg\, Bayern\, 96052\, Germany
CATEGORIES:Kartenspiele,Open Night,Yu-Gi-Oh!
ATTACH;FMTTYPE=image/jpeg:https://katago-ev.de/wp-content/uploads/2022/09/yugi.jpeg
END:VEVENT
BEGIN:VEVENT
DTSTART;TZID=Europe/Berlin:20231117T190000
DTEND;TZID=Europe/Berlin:20231117T233000
DTSTAMP:20260420T205601
CREATED:20230108T224647Z
LAST-MODIFIED:20231230T221717Z
UID:10003286-1700247600-1700263800@katago-ev.de
SUMMARY:Magic: The Gathering - Friday Night Magic - Modern
DESCRIPTION:Willkommen zu unserem wöchentlichen Modern FNM im KaTaGO e.V. \nDies ist ein öffentliches Event zum dem auch Spieler kommen können die keine Mitglieder des Vereins sind. \nBitte beachtet\, dass es nur Mitgliedern gestattet wird eigene Getränke mitzubringen.\nAlle Anderen bedienen sich bitte an den von uns angebotenen Getränken. \nSolltet ihr noch kein Mitglied sein\, aber Interesse an unseren Events oder einer Mitgliedschaft haben\, könnt ihr gerne einen ausgefüllten Mitgliedsantrag zum entsprechenden Event mitbringen und ab da einen kostenlosen Probemonat bei uns starten. Mitgliedsanträge gibt es hier. \nEventdetails: \nAnmeldung: 18:45 – 19:00 Uhr          (Solltet ihr euch verspäten gebt uns rechtzeitig Bescheid\, wir können auch mal warten) \nFormat: Modern Constructed             (Keine Deckliste notwendig) \nStartgeld: 5 € p. P. \nPreise: Preisausschüttung nach Final Standings: KataGO-Guthaben (einsehbar über die Modern-Whatsapp-Gruppe) \nDa es immer zu spontanen Änderungen kommen kann\, meldet euch bitte mit eurer Emailadresse\, damit wir euch entsprechend informieren können! \nBei Rückfragen wendet euch gerne an magic@katago-ev.de \nFragt uns auch gerne per Mail oder vor Ort nach unserer WhatsApp-Gruppe.\nÜber die Gruppe werden kurzfristige Abstimmungen vorgenommen sowie Infos und Termine kommuniziert. \nWir freuen uns auf euch! \nAußerdem bitten wir um euer Verständnis\, dass sich die Umstände aufgrund der aktuellen Situation jederzeit ändern können und wir ggf. vom oben beschriebenen Ablauf abweichen müssen!
URL:https://katago-ev.de/event/mtg-modern-fnm-3/2023-11-17
LOCATION:Vereinsheim 1 – Hauptraum (Hegelstraße 1a)\, Hegelstraße 1a\, Bamberg\, Bayern\, 96052\, Germany
CATEGORIES:Magic the Gathering
ATTACH;FMTTYPE=image/jpeg:https://katago-ev.de/wp-content/uploads/2023/01/MTG-Modern.jpg
END:VEVENT
BEGIN:VEVENT
DTSTART;TZID=Europe/Berlin:20231117T190000
DTEND;TZID=Europe/Berlin:20231117T233000
DTSTAMP:20260420T205601
CREATED:20231114T113920Z
LAST-MODIFIED:20231114T113947Z
UID:10004273-1700247600-1700263800@katago-ev.de
SUMMARY:MTG Limited FNM - Draft
DESCRIPTION:Willkommen zu unserem wöchentlichen Limited FNM im KaTaGO e.V. \nDies ist ein öffentliches Event zum dem auch Spieler kommen können die keine Mitglieder des Vereins sind.\nBitte beachtet\, dass es nur Mitgliedern gestattet wird eigene Getränke mitzubringen.\nAlle Anderen bedienen sich bitte an den von uns angebotenen Getränken. \nSolltet ihr noch kein Mitglied sein\, aber Interesse an unseren Events oder einer Mitgliedschaft haben\, könnt ihr gerne einen ausgefüllten Mitgliedsantrag zum entsprechenden Event mitbringen und ab da einen kostenlosen Probemonat bei uns starten. Mitgliedsanträge gibt es hier. \nEventdetails: \nAnmeldung: 18:45 – 19:00 Uhr          (Solltet ihr euch verspäten gebt uns rechtzeitig Bescheid\, wir können auch mal warten) \nFormat: Draft                                          (aktuelle Sets) \nStartgeld: 10€ p.P. \nPreise: Boosterpreise nach Final Standings \nWir freuen uns auf euch! \nDa es immer zu spontanen Änderungen kommen kann\, meldet euch bitte mit eurer Emailadresse\, damit wir euch entsprechend informieren können! \nFragt uns auch gerne vor Ort nach unserer whatsapp Gruppe\, falls ihr öfter kommen wollt.
URL:https://katago-ev.de/event/mtg-limited-fnm-draft-27
LOCATION:Vereinsheim 1 – Hauptraum (Hegelstraße 1a)\, Hegelstraße 1a\, Bamberg\, Bayern\, 96052\, Germany
CATEGORIES:Magic the Gathering
ATTACH;FMTTYPE=image/png:https://katago-ev.de/wp-content/uploads/2022/07/fnm_logo_front_schwarz-e1702314703609.png
END:VEVENT
BEGIN:VEVENT
DTSTART;TZID=Europe/Berlin:20231118T090000
DTEND;TZID=Europe/Berlin:20231118T170000
DTSTAMP:20260420T205601
CREATED:20231021T174145Z
LAST-MODIFIED:20231114T191802Z
UID:10004242-1700298000-1700326800@katago-ev.de
SUMMARY:Yu-Gi-Oh! - OTS Championchip
DESCRIPTION:Es wird wieder Zeit für ein Duell!\nWir begrüßen euch herzlich zur OTS CHAMPIONCHIP AGOV Season. \nDie Plätze sind auf 40 limitiert also anmelden!! \nDies ist ein öffentliches Event zu dem auch Spieler kommen können die kein Mitglied des Vereins sind.\nBitte beachtet\, dass es nur Mitgliedern gestattet wird eigene Getränke mitzubringen.\nAlle anderen bedienen sich bitte an den von uns angebotenen Getränken. \nEventdetails: \nAnmeldung: 09:00 – 10:00 Uhr \nPrüfung der Decklisten: 10:00 – 10:30 \nStart der 1. Runde: 10:30 Uhr \nFormat: Constructed Advanced \nStartgeld: 20€ p.P \nAnmeldebooster: 5x AGOV Booster Packs \nPreise: 1. Platz erhält exclusive Spielmatte \nTOP 4 erhalten WCQ European Championchip Invites \nWeitere AGOV Booster werden auf die Topplatzierten verteilt \nNicht vergessen: \n-Deckliste \n-Konami ID \n-Deck \n-Geld \n-etwas zum Essen \n-Spaß und gute Laune \nWir freuen uns auf euch!
URL:https://katago-ev.de/event/yu-gi-oh-ots-championchip-3
LOCATION:Vereinsheim 1 – Hauptraum (Hegelstraße 1a)\, Hegelstraße 1a\, Bamberg\, Bayern\, 96052\, Germany
CATEGORIES:Kartenspiele,OTS Championchip,Yu-Gi-Oh!
ATTACH;FMTTYPE=image/jpeg:https://katago-ev.de/wp-content/uploads/2022/11/20230208_194349.jpg
END:VEVENT
BEGIN:VEVENT
DTSTART;TZID=Europe/Berlin:20231118T130000
DTEND;TZID=Europe/Berlin:20231118T170000
DTSTAMP:20260420T205601
CREATED:20231117T073109Z
LAST-MODIFIED:20231117T073335Z
UID:10004280-1700312400-1700326800@katago-ev.de
SUMMARY:Age of Sigmar - Schlacht
DESCRIPTION:Geschlossenes Event \nTim(NIGHTHAUNT) \nVS \nFux(KRULEBOYS)
URL:https://katago-ev.de/event/age-of-sigmar-schlacht-27
LOCATION:Vereinsheim 1 – Keller (Hegelstraße 1a)\, Hegelstraße 1a\, Bamberg\, Bayern\, 96052\, Germany
CATEGORIES:Age of Sigmar,Tabletop
ATTACH;FMTTYPE=image/jpeg:https://katago-ev.de/wp-content/uploads/2022/07/20220718_210251.jpg
END:VEVENT
BEGIN:VEVENT
DTSTART;TZID=Europe/Berlin:20231118T170000
DTEND;TZID=Europe/Berlin:20231118T210000
DTSTAMP:20260420T205601
CREATED:20231107T123052Z
LAST-MODIFIED:20231116T152345Z
UID:10004268-1700326800-1700341200@katago-ev.de
SUMMARY:Lorcana TCG release Event Rise of the Floodborn
DESCRIPTION:Zeitnah zur Veröffentlichung zu Rise of the Floodborn sind alle eingeladen zu einem gemütlichen Lorcana Abend. Wir werden sealed spielen bei dem Ihr Booster 6 aus dem neuen Set erhaltet und daraus ein Deck erstellt. Alle sind herzlich eingeladen mitzuspielen ob Ihr bereits Lorcana gespielt habt oder aber das Spiel lernen wollt. \nFormat: sealed 6 Booster Rise of the Floodborn (deutsch) \nStartgeld: 40€ \nPreise: Booster \nDies ist ein öffentliches Event und sowohl für Mitglieder als auch für Nichtmitglieder offen. Es kann auch als erste Anlaufstelle dienen um sich den Verein anzuschauen und erste Infos zum Verein einzuholen.\nEine Anmeldung ist nicht zwingend notwendig oder verbindlich\, hilft uns jedoch sehr bei der Planung. Außerdem können wir euch so informieren falls eine Veranstaltung doch mal ausfällt. \nBitte beachtet\, dass es nur Mitgliedern gestattet wird eigene Getränke mitzubringen.\nAlle Anderen bedienen sich bitte an den von uns angebotenen Getränken. (2€ pro Getränk im Kühlschrank) \nSolltet ihr noch kein Mitglied sein\, aber Interesse an unseren Events oder einer Mitgliedschaft haben\, könnt ihr gerne einen ausgefüllten Mitgliedsantrag zum entsprechenden Event mitbringen und ab da einen kostenlosen Probemonat bei uns starten. Mitgliedsanträge gibt es hier
URL:https://katago-ev.de/event/lorcana-tcg-release-event-rise-of-the-floodborn
LOCATION:Vereinsheim 1 (Hegelstraße 1a)\, Hegelstraße 1a\, Bamberg\, Bayern\, 96052\, Germany
CATEGORIES:Kartenspiele,Lorcana TCG
ATTACH;FMTTYPE=image/png:https://katago-ev.de/wp-content/uploads/2023/10/Lorcana-Logo.png
ORGANIZER;CN="Thomas Scheer":MAILTO:thomas.scheer999[AT]googlemail.com
END:VEVENT
BEGIN:VEVENT
DTSTART;TZID=Europe/Berlin:20231119T110000
DTEND;TZID=Europe/Berlin:20231119T140000
DTSTAMP:20260420T205601
CREATED:20231024T211940Z
LAST-MODIFIED:20231024T211940Z
UID:10004246-1700391600-1700402400@katago-ev.de
SUMMARY:Pokemon Kartenspiel für Kids
DESCRIPTION:Willkommen zu unserem Pokemon Kartenspiel Event im KaTaGO e.V. \nDieses Event ist vor allem für die jüngere Generation gedacht\, um die Regeln des Spiels zu erlernen und erste Spielerfahrungen zu sammeln.\nNatürlich können auch erfahrene Spieler vorbei schauen\, am liebsten natürlich um den jüngeren das Spiel näher zu bringen. \nWir spielen vor allem mit vorkonstruierten\, gekauften geeignet für Einsteiger und Fortgeschrittene. Es hat immer jemand Decks dabei die zum Testen und Lernen genutzt werden können\, falls ihr keine eigenen Karten oder Decks habt. \nDies ist ein öffentliches Event zum dem auch Spieler kommen können die keine Mitglieder des Vereins sind.\nBitte beachtet\, dass es nur Mitgliedern gestattet wird eigene Getränke mitzubringen. \nKinder und Jugendliche können sich an diesem Tag gerne ihre eigene Verpflegung mitbringen\, auch ohne Vereinsmitgliedschaft.\nEltern und Begleitpersonen sind natürlich auch willkommen\, bedienen sich aber bitte an den von uns angebotenen Getränken. \nSolltet ihr noch kein Mitglied sein\, aber Interesse an unseren Events oder einer Mitgliedschaft haben\, könnt ihr gerne einen ausgefüllten Mitgliedsantrag zum entsprechenden Event mitbringen und ab da einen kostenlosen Probemonat bei uns starten. Mitgliedsanträge gibt es hier. \n  \nDamit wir euch über Änderungen bzgl. Ort oder Zeit informieren können\, bitten wir euch darum\, euch im Eventkalender für dieses Event anzumelden und eine Emailadresse zu hinterlegen.
URL:https://katago-ev.de/event/pokemon-kartenspiel-fuer-kids-26
LOCATION:Vereinsheim 1 – Hauptraum (Hegelstraße 1a)\, Hegelstraße 1a\, Bamberg\, Bayern\, 96052\, Germany
CATEGORIES:Kartenspiele,Pokemon
ATTACH;FMTTYPE=image/png:https://katago-ev.de/wp-content/uploads/2022/11/Pokemon_Trading_Card_Game_logo.svg_-e1703021422143.png
ORGANIZER;CN="C. Schneider":MAILTO:chris.sneids@web.de
END:VEVENT
BEGIN:VEVENT
DTSTART;TZID=Europe/Berlin:20231119T130000
DTEND;TZID=Europe/Berlin:20231119T190000
DTSTAMP:20260420T205601
CREATED:20230918T141021Z
LAST-MODIFIED:20230918T141703Z
UID:10003949-1700398800-1700420400@katago-ev.de
SUMMARY:Warhammer 40K Liga 10. Edition
DESCRIPTION:Warhammer 40K Liga 10. Edition \nWer Interesse hat einfach über den WhatsApp Link in die Gruppe da gibt es Infos\, ab Oktober läuft die Liga. \nhttps://chat.whatsapp.com/GMRfr1uCmCW9nhha04JQ21
URL:https://katago-ev.de/event/warhammer-40k-liga-10-edition-2
LOCATION:Vereinsheim 1 (Hegelstraße 1a)\, Hegelstraße 1a\, Bamberg\, Bayern\, 96052\, Germany
CATEGORIES:Tabletop,Warhammer 40k
ATTACH;FMTTYPE=image/webp:https://katago-ev.de/wp-content/uploads/2022/09/warhaaa.webp
ORGANIZER;CN="Thomas Scheer":MAILTO:thomas.scheer999[AT]googlemail.com
END:VEVENT
BEGIN:VEVENT
DTSTART;TZID=Europe/Berlin:20231119T140000
DTEND;TZID=Europe/Berlin:20231119T180000
DTSTAMP:20260420T205601
CREATED:20230111T193007Z
LAST-MODIFIED:20230315T224500Z
UID:10003565-1700402400-1700416800@katago-ev.de
SUMMARY:Custom 40K (Warhammer 40k)
DESCRIPTION:Geschlossene Veranstaltung\, nur für Mitglieder! \nSolltet ihr noch kein Mitglied sein\, aber Interesse an unseren Events oder einer Mitgliedschaft haben\, könnt ihr gerne einen ausgefüllten Mitgliedsantrag zum entsprechenden Event mitbringen und ab da einen kostenlosen Probemonat bei uns starten. Mitgliedsanträge gibt es hier. \nEinsteiger gern gesehen! \nEs wird Warhammer 40k mit einem eigenen\, von unserer Community entwickelten\, Regelwerk samt Kodizes gespielt. \nFür Details schau bei uns im Discord vorbei\, dort finden alle relevanten Diskussionen dazu statt oder besuch uns direkt.
URL:https://katago-ev.de/event/custom-40k-warhammer-40k-2/2023-11-19
LOCATION:Vereinsheim 1 – Keller (Hegelstraße 1a)\, Hegelstraße 1a\, Bamberg\, Bayern\, 96052\, Germany
CATEGORIES:Tabletop,Warhammer 40k
ATTACH;FMTTYPE=image/jpeg:https://katago-ev.de/wp-content/uploads/2022/10/Warhammer-40K-Logo2-scaled.jpg
END:VEVENT
END:VCALENDAR