BEGIN:VCALENDAR
VERSION:2.0
PRODID:-//katago-ev.de - ECPv6.15.0.1//NONSGML v1.0//EN
CALSCALE:GREGORIAN
METHOD:PUBLISH
X-ORIGINAL-URL:https://katago-ev.de
X-WR-CALDESC:Veranstaltungen für katago-ev.de
REFRESH-INTERVAL;VALUE=DURATION:PT1H
X-Robots-Tag:noindex
X-PUBLISHED-TTL:PT1H
BEGIN:VTIMEZONE
TZID:Europe/Berlin
BEGIN:DAYLIGHT
TZOFFSETFROM:+0100
TZOFFSETTO:+0200
TZNAME:CEST
DTSTART:20230326T010000
END:DAYLIGHT
BEGIN:STANDARD
TZOFFSETFROM:+0200
TZOFFSETTO:+0100
TZNAME:CET
DTSTART:20231029T010000
END:STANDARD
END:VTIMEZONE
BEGIN:VEVENT
DTSTART;TZID=Europe/Berlin:20231204T200000
DTEND;TZID=Europe/Berlin:20231204T223000
DTSTAMP:20260421T222455
CREATED:20231201T070044Z
LAST-MODIFIED:20231201T070044Z
UID:10004299-1701720000-1701729000@katago-ev.de
SUMMARY:Open Night: Fabians Werwölfe von Düsterwald
DESCRIPTION:Herzlich willkommen zu unseren Open Night Events im KaTaGO e.V. \nDies ist ein offener Spiele Abend an dem Fabian in unser kleines KaTaGO-Dorf einlädt um mit euch Werwölfe zu jagen.\nDas Werwolfspiel ist ein Nettes Gesellschaftsspiel\, das völlig ohne Spielbrett auskommt. Es geht vorallem um Kommunikation in der Gruppe und Strategie\, oder auch einfach wer am besten Lügen kann:).\nZiel des Spiels ist es\, für die Dorfbewohner alle Werwölfe unschädlich zu machen und die Wölfe gewinnen wenn alle Bewohner gefressen wurden.\nGespielt wird mindestens zu 9. (1 Spielleiter + 8 Spieler)\, aber je mehr desto besser. \nEs sind alle eingeladen an der Werwolfjagd teilzunehmen. \nDies ist ein öffentliches Event und sowohl für Mitglieder als auch für Nichtmitglieder offen. Er kann auch als erste Anlaufstelle dienen um sich den Verein anzuschauen und erste Infos zum Verein einzuhole.\nEine Anmeldung ist nicht zwingend notwendig oder verbindlich\, hilft uns jedoch sehr bei der Planung. Außerdem können wir euch so informieren falls eine Veranstaltung doch mal ausfällt. \nBitte beachtet\, dass es nur Mitgliedern gestattet wird eigene Getränke mitzubringen.\nAlle Anderen bedienen sich bitte an den von uns angebotenen Getränken. (2€ pro Getränk im Kühlschrank) \nSolltet ihr noch kein Mitglied sein\, aber Interesse an unseren Events oder einer Mitgliedschaft haben\, könnt ihr gerne einen ausgefüllten Mitgliedsantrag zum entsprechenden Event mitbringen und ab da einen kostenlosen Probemonat bei uns starten. Mitgliedsanträge gibt es hier
URL:https://katago-ev.de/event/open-night-fabians-werwoelfe-von-duesterwald-8
LOCATION:Vereinsheim 1 – Hauptraum (Hegelstraße 1a)\, Hegelstraße 1a\, Bamberg\, Bayern\, 96052\, Germany
CATEGORIES:Open Night,Social-Deduction-Spiele,Werwölfe von Düsterwald
ATTACH;FMTTYPE=image/jpeg:https://katago-ev.de/wp-content/uploads/2022/09/20220902_121459.jpg
END:VEVENT
BEGIN:VEVENT
DTSTART;TZID=Europe/Berlin:20231205T200000
DTEND;TZID=Europe/Berlin:20231205T220000
DTSTAMP:20260421T222455
CREATED:20221003T182106Z
LAST-MODIFIED:20221003T182220Z
UID:10002984-1701806400-1701813600@katago-ev.de
SUMMARY:Open Night: Warhammer 40K
DESCRIPTION:Herzlich willkommen zu unseren Open Night Events im KaTaGO e.V.\n \nDies ist ein offener Spieleabend für alle\, die sich für Warhammer 40.000 als Hobby interessieren oder bereits Spieler und Sammler sind. Bei Warhammer 40k handelt es sich um ein Tabletop\, bei dem zwei Armeen in der Finsternis der fernen Zukunft auf dem Schlachtfeld aufeinandertreffen. Stellt euer strategisches Können unter Beweis als Feldherr von einer aus 19 Fraktionen\, jede mit eigener Geschichte und Modellen.Für ein Testspiel stehen zwei vollwertige Armeen im Verein bereit\, alternativ könnt ihr aber auch eure eigenen Figuren mitbringen. \nWir spielen das vom Verein selbst entworfene Regelwerk „Custom40k“\, welches alternative Aktivierung\, sowie alle Armeen neu ausbalanciert.\nDie Regeln sind kostenfrei hier verfügbar. \nDer Spieleabend ist ein öffentliches Event und sowohl für Mitglieder als auch für Nichtmitglieder offen. Er kann auch als erste Anlaufstelle dienen um sich den Verein anzuschauen und erste Infos zum Verein einzuholen.\nEine Anmeldung ist nicht zwingend notwendig oder verbindlich\, hilft uns jedoch sehr bei der Planung. Außerdem können wir euch so informieren falls eine Veranstaltung doch mal ausfällt. \nBitte beachtet\, dass es nur Mitgliedern gestattet wird eigene Getränke mitzubringen.\nAlle Anderen bedienen sich bitte an den von uns angebotenen Getränken. (2€ pro Getränk im Kühlschrank) \nSolltet ihr noch kein Mitglied sein\, aber Interesse an unseren Events oder einer Mitgliedschaft haben\, könnt ihr gerne einen ausgefüllten Mitgliedsantrag zum entsprechenden Event mitbringen und ab da einen kostenlosen Probemonat bei uns starten. Mitgliedsanträge gibt es hier \nAufgrund der aktuellen Covid19 Bestimmungen können unsere Events ohne besondere Einschränkungen stattfinden. Einen Covid Test im Vorfeld durchzuführen\, kann jedoch trotzdem helfen das Risiko einer Ansteckung zu reduzieren. Bitte kommt nicht\, wenn ihr euch unwohl fühlt oder Erkältungssymptome aufweist. \n 
URL:https://katago-ev.de/event/open-night-warhammer-40k/2023-12-05
LOCATION:Vereinsheim 1 – Hauptraum (Hegelstraße 1a)\, Hegelstraße 1a\, Bamberg\, Bayern\, 96052\, Germany
CATEGORIES:Warhammer 40k
ATTACH;FMTTYPE=image/jpeg:https://katago-ev.de/wp-content/uploads/2022/10/Warhammer-40K-Logo2-scaled.jpg
END:VEVENT
BEGIN:VEVENT
DTSTART;TZID=Europe/Berlin:20231207T190000
DTEND;TZID=Europe/Berlin:20231207T233000
DTSTAMP:20260421T222455
CREATED:20230527T144749Z
LAST-MODIFIED:20230527T144750Z
UID:10003739-1701975600-1701991800@katago-ev.de
SUMMARY:Open Night: Yu-Gi-Oh!
DESCRIPTION:Willkommen zum YU-GI-OH! Open Night Event bei uns im KaTaGO e.V. \nMindestens zweimal im Monat sind alle Spieler und Interessierten herzlich eingeladen an unseren öffentlichen Yu-Gi-Oh!-Abenden teilzunehmen.\nWir bringen euch gerne das Spiel näher\, testen mit euch neue Decks oder unterhalten uns über Yu-Gi-Oh.\nAlso kommt gerne vorbei\, schaut euch um oder spielt mit uns! \nDer Spieleabend ist ein öffentliches Event und sowohl für Mitglieder als auch für Nichtmitglieder offen.\nEr kann auch als erste Anlaufstelle dienen um sich den Verein anzuschauen und Infos zum Verein einzuholen. \nEine Anmeldung ist nicht zwingend notwendig oder verbindlich\, hilft uns jedoch sehr bei der Planung.\nAußerdem können wir euch so informieren falls eine Veranstaltung doch mal ausfällt. \nBitte beachtet\, dass es nur Mitgliedern gestattet wird eigene Getränke mitzubringen.\nAlle Anderen bedienen sich bitte an den von uns angebotenen Getränken. \nSolltet ihr noch kein Mitglied sein\, aber Interesse an unseren Events oder einer Mitgliedschaft haben\, könnt ihr gerne einen ausgefüllten Mitgliedsantrag zum entsprechenden Event mitbringen und ab da einen kostenlosen Probemonat (Kalendermonat) bei uns starten. Mitgliedsanträge gibt es hier. \nAufgrund der aktuellen Covid19 Bestimmungen können unsere Events ohne besondere Einschränkungen stattfinden. Einen Covid Test im Vorfeld durchzuführen\, kann jedoch trotzdem helfen das Risiko einer Ansteckung zu reduzieren. Bitte kommt nicht\, wenn ihr euch unwohl fühlt oder Erkältungsymptome aufweist. \nBei Fragen wendet euch gerne an: info@mtgo-ev.de
URL:https://katago-ev.de/event/open-night-yu-gi-oh-7/2023-12-07
LOCATION:Vereinsheim 1 – Hauptraum (Hegelstraße 1a)\, Hegelstraße 1a\, Bamberg\, Bayern\, 96052\, Germany
CATEGORIES:Kartenspiele,Open Night,Yu-Gi-Oh!
ATTACH;FMTTYPE=image/jpeg:https://katago-ev.de/wp-content/uploads/2022/09/yugi.jpeg
END:VEVENT
BEGIN:VEVENT
DTSTART;TZID=Europe/Berlin:20231208T190000
DTEND;TZID=Europe/Berlin:20231208T190000
DTSTAMP:20260421T222455
CREATED:20231116T200613Z
LAST-MODIFIED:20231212T101818Z
UID:10004279-1702062000-1702062000@katago-ev.de
SUMMARY:Magic: The Gathering - Store Championship - Lost Caverns of Ixalan
DESCRIPTION:Willkommen zu unseren MTG Limited Events im KaTaGO e.V. \nDiese Woche spielen wir Lost Caverns of Ixalan Draft als Store Championship. \nDies ist ein öffentliches Event zum dem auch Spieler kommen können die keine Mitglieder des Vereins sind.\nBitte beachtet\, dass es nur Mitgliedern gestattet wird eigene Getränke mitzubringen.\nAlle Anderen bedienen sich bitte an den von uns angebotenen Getränken. \nSolltet ihr noch kein Mitglied sein\, aber Interesse an unseren Events oder einer Mitgliedschaft haben\, könnt ihr gerne einen ausgefüllten Mitgliedsantrag zum entsprechenden Event mitbringen und ab da einen kostenlosen Probemonat bei uns starten. Mitgliedsanträge gibt es hier. \nEventdetails: \nAnmeldung: 11:00 – 11:15  Uhr          (Solltet ihr euch verspäten gebt uns rechtzeitig Bescheid\, wir können auch mal warten) \nFormat: Draft\, Schweizer System \nStartgeld: 15€ p.P. \nPreise: Boosterpreise und Promos nach Final Standings \nWir freuen uns auf euch! \nAußerdem bitten wir um euer Verständnis\, dass sich die Umständer jederzeit ändern können und wir ggf. vom oben beschriebenen Ablauf abweichen müssen!
URL:https://katago-ev.de/event/mtg-store-championship-lci
LOCATION:Vereinsheim 1 – Hauptraum (Hegelstraße 1a)\, Hegelstraße 1a\, Bamberg\, Bayern\, 96052\, Germany
CATEGORIES:Kartenspiele,Magic the Gathering
ATTACH;FMTTYPE=image/webp:https://katago-ev.de/wp-content/uploads/2023/11/Store_Championships_logo.webp
END:VEVENT
BEGIN:VEVENT
DTSTART;TZID=Europe/Berlin:20231208T190000
DTEND;TZID=Europe/Berlin:20231208T233000
DTSTAMP:20260421T222455
CREATED:20230108T224647Z
LAST-MODIFIED:20231230T221717Z
UID:10003289-1702062000-1702078200@katago-ev.de
SUMMARY:Magic: The Gathering - Friday Night Magic - Modern
DESCRIPTION:Willkommen zu unserem wöchentlichen Modern FNM im KaTaGO e.V. \nDies ist ein öffentliches Event zum dem auch Spieler kommen können die keine Mitglieder des Vereins sind. \nBitte beachtet\, dass es nur Mitgliedern gestattet wird eigene Getränke mitzubringen.\nAlle Anderen bedienen sich bitte an den von uns angebotenen Getränken. \nSolltet ihr noch kein Mitglied sein\, aber Interesse an unseren Events oder einer Mitgliedschaft haben\, könnt ihr gerne einen ausgefüllten Mitgliedsantrag zum entsprechenden Event mitbringen und ab da einen kostenlosen Probemonat bei uns starten. Mitgliedsanträge gibt es hier. \nEventdetails: \nAnmeldung: 18:45 – 19:00 Uhr          (Solltet ihr euch verspäten gebt uns rechtzeitig Bescheid\, wir können auch mal warten) \nFormat: Modern Constructed             (Keine Deckliste notwendig) \nStartgeld: 5 € p. P. \nPreise: Preisausschüttung nach Final Standings: KataGO-Guthaben (einsehbar über die Modern-Whatsapp-Gruppe) \nDa es immer zu spontanen Änderungen kommen kann\, meldet euch bitte mit eurer Emailadresse\, damit wir euch entsprechend informieren können! \nBei Rückfragen wendet euch gerne an magic@katago-ev.de \nFragt uns auch gerne per Mail oder vor Ort nach unserer WhatsApp-Gruppe.\nÜber die Gruppe werden kurzfristige Abstimmungen vorgenommen sowie Infos und Termine kommuniziert. \nWir freuen uns auf euch! \nAußerdem bitten wir um euer Verständnis\, dass sich die Umstände aufgrund der aktuellen Situation jederzeit ändern können und wir ggf. vom oben beschriebenen Ablauf abweichen müssen!
URL:https://katago-ev.de/event/mtg-modern-fnm-3/2023-12-08
LOCATION:Vereinsheim 1 – Hauptraum (Hegelstraße 1a)\, Hegelstraße 1a\, Bamberg\, Bayern\, 96052\, Germany
CATEGORIES:Magic the Gathering
ATTACH;FMTTYPE=image/jpeg:https://katago-ev.de/wp-content/uploads/2023/01/MTG-Modern.jpg
END:VEVENT
BEGIN:VEVENT
DTSTART;TZID=Europe/Berlin:20231208T190000
DTEND;TZID=Europe/Berlin:20231208T233000
DTSTAMP:20260421T222455
CREATED:20231114T114024Z
LAST-MODIFIED:20231114T114024Z
UID:10004275-1702062000-1702078200@katago-ev.de
SUMMARY:MTG Limited FNM - Draft
DESCRIPTION:Willkommen zu unserem wöchentlichen Limited FNM im KaTaGO e.V. \nDies ist ein öffentliches Event zum dem auch Spieler kommen können die keine Mitglieder des Vereins sind.\nBitte beachtet\, dass es nur Mitgliedern gestattet wird eigene Getränke mitzubringen.\nAlle Anderen bedienen sich bitte an den von uns angebotenen Getränken. \nSolltet ihr noch kein Mitglied sein\, aber Interesse an unseren Events oder einer Mitgliedschaft haben\, könnt ihr gerne einen ausgefüllten Mitgliedsantrag zum entsprechenden Event mitbringen und ab da einen kostenlosen Probemonat bei uns starten. Mitgliedsanträge gibt es hier. \nEventdetails: \nAnmeldung: 18:45 – 19:00 Uhr          (Solltet ihr euch verspäten gebt uns rechtzeitig Bescheid\, wir können auch mal warten) \nFormat: Draft                                          (aktuelle Sets) \nStartgeld: 10€ p.P. \nPreise: Boosterpreise nach Final Standings \nWir freuen uns auf euch! \nDa es immer zu spontanen Änderungen kommen kann\, meldet euch bitte mit eurer Emailadresse\, damit wir euch entsprechend informieren können! \nFragt uns auch gerne vor Ort nach unserer whatsapp Gruppe\, falls ihr öfter kommen wollt.
URL:https://katago-ev.de/event/mtg-limited-fnm-draft-29
LOCATION:Vereinsheim 1 – Hauptraum (Hegelstraße 1a)\, Hegelstraße 1a\, Bamberg\, Bayern\, 96052\, Germany
CATEGORIES:Magic the Gathering
ATTACH;FMTTYPE=image/png:https://katago-ev.de/wp-content/uploads/2022/07/fnm_logo_front_schwarz-e1702314703609.png
END:VEVENT
BEGIN:VEVENT
DTSTART;TZID=Europe/Berlin:20231209T100000
DTEND;TZID=Europe/Berlin:20231209T190000
DTSTAMP:20260421T222455
CREATED:20230918T141209Z
LAST-MODIFIED:20231208T152912Z
UID:10003950-1702116000-1702148400@katago-ev.de
SUMMARY:Warhammer 40K Liga 10. Edition
DESCRIPTION:Warhammer 40K Liga 10. Edition
URL:https://katago-ev.de/event/warhammer-40k-liga-10-edition-3
LOCATION:Vereinsheim 1 (Hegelstraße 1a)\, Hegelstraße 1a\, Bamberg\, Bayern\, 96052\, Germany
CATEGORIES:Tabletop,Turnierserie,Warhammer 40k
ATTACH;FMTTYPE=image/webp:https://katago-ev.de/wp-content/uploads/2022/09/warhaaa.webp
ORGANIZER;CN="Thomas Scheer":MAILTO:thomas.scheer999[AT]googlemail.com
END:VEVENT
BEGIN:VEVENT
DTSTART;TZID=Europe/Berlin:20231210T093000
DTEND;TZID=Europe/Berlin:20231210T160000
DTSTAMP:20260421T222455
CREATED:20231026T202047Z
LAST-MODIFIED:20231206T112724Z
UID:10004250-1702200600-1702224000@katago-ev.de
SUMMARY:Yu-Gi-Oh! Structure Deck: FIRE KINGS Event
DESCRIPTION:Es wird wieder Zeit für ein Duell!\nKauft euch bei uns das neueste Structure Deck und zeigt wer der King of Fire ist. \nDie Plätze sind auf 18 limitiert also anmelden!! \nDies ist ein öffentliches Event zu dem auch Spieler kommen können die kein Mitglied des Vereins sind.\nBitte beachtet\, dass es nur Mitgliedern gestattet wird eigene Getränke mitzubringen.\nAlle anderen bedienen sich bitte an den von uns angebotenen Getränken. \nEventdetails: \nAnmeldung: 09:30 – 10:30 Uhr \nStart der 1. Runde: 10:30 Uhr \nFormat: Structure Deck \nStartgeld: 10€ p.P \nPreise: Der Gewinner erhält eine Spielmatte\, sowie drei weitere werden unter allen Teilnehmern verlost. \nWir freuen uns auf euch!
URL:https://katago-ev.de/event/yu-gi-oh-structure-deck-fire-kings
LOCATION:Vereinsheim 1 – Hauptraum (Hegelstraße 1a)\, Hegelstraße 1a\, Bamberg\, Bayern\, 96052\, Germany
CATEGORIES:Kartenspiele,Structure Deck,Yu-Gi-Oh!
END:VEVENT
BEGIN:VEVENT
DTSTART;TZID=Europe/Berlin:20231210T140000
DTEND;TZID=Europe/Berlin:20231210T180000
DTSTAMP:20260421T222455
CREATED:20230111T193007Z
LAST-MODIFIED:20230315T224500Z
UID:10003568-1702216800-1702231200@katago-ev.de
SUMMARY:Custom 40K (Warhammer 40k)
DESCRIPTION:Geschlossene Veranstaltung\, nur für Mitglieder! \nSolltet ihr noch kein Mitglied sein\, aber Interesse an unseren Events oder einer Mitgliedschaft haben\, könnt ihr gerne einen ausgefüllten Mitgliedsantrag zum entsprechenden Event mitbringen und ab da einen kostenlosen Probemonat bei uns starten. Mitgliedsanträge gibt es hier. \nEinsteiger gern gesehen! \nEs wird Warhammer 40k mit einem eigenen\, von unserer Community entwickelten\, Regelwerk samt Kodizes gespielt. \nFür Details schau bei uns im Discord vorbei\, dort finden alle relevanten Diskussionen dazu statt oder besuch uns direkt.
URL:https://katago-ev.de/event/custom-40k-warhammer-40k-2/2023-12-10
LOCATION:Vereinsheim 1 – Keller (Hegelstraße 1a)\, Hegelstraße 1a\, Bamberg\, Bayern\, 96052\, Germany
CATEGORIES:Tabletop,Warhammer 40k
ATTACH;FMTTYPE=image/jpeg:https://katago-ev.de/wp-content/uploads/2022/10/Warhammer-40K-Logo2-scaled.jpg
END:VEVENT
END:VCALENDAR