BEGIN:VCALENDAR
VERSION:2.0
PRODID:-//katago-ev.de - ECPv6.15.0.1//NONSGML v1.0//EN
CALSCALE:GREGORIAN
METHOD:PUBLISH
X-ORIGINAL-URL:https://katago-ev.de
X-WR-CALDESC:Veranstaltungen für katago-ev.de
REFRESH-INTERVAL;VALUE=DURATION:PT1H
X-Robots-Tag:noindex
X-PUBLISHED-TTL:PT1H
BEGIN:VTIMEZONE
TZID:Europe/Berlin
BEGIN:DAYLIGHT
TZOFFSETFROM:+0100
TZOFFSETTO:+0200
TZNAME:CEST
DTSTART:20260329T010000
END:DAYLIGHT
BEGIN:STANDARD
TZOFFSETFROM:+0200
TZOFFSETTO:+0100
TZNAME:CET
DTSTART:20261025T010000
END:STANDARD
END:VTIMEZONE
BEGIN:VEVENT
DTSTART;TZID=Europe/Berlin:20260204T180000
DTEND;TZID=Europe/Berlin:20260204T220000
DTSTAMP:20260425T033326
CREATED:20250903T190049Z
LAST-MODIFIED:20260107T173637Z
UID:10010023-1770228000-1770242400@katago-ev.de
SUMMARY:Mittwochs Magic Rotation
DESCRIPTION:Es werden abwechselnd folgende Formate gespielt: \n1. Mittwoch im Monat: Draft (Start 19.00 Uhr)\n2. Mittwoch im Monat: Modern\n(3. Mittwoch im Monat: Pauper) findet bis auf weiteres nicht statt\, bis sich ein Organisator für das Event gefunden hat\n4. Mittwoch im Monat: Legacy\n(5. Mittwoch im Monat: frei zur Abstimmung) \n  \nFür Modern\, Pauper und Legacy dürft ihr an den Mittwochsterminen auch Proxies spielen. \n  \nDraft wird entsprechend des Sets einen buy in haben\, alle anderen Formate werden keinen buy in haben. \n  \nWeitere Infos und ob das Event zustande kommt wird in unseren WhatsApp Gruppen kommuniziert! \n  \n 
URL:https://katago-ev.de/event/mittwochs-magic-rotation/2026-02-04
LOCATION:Vereinsheim 2 (Hegelstraße 11a)\, Hegelstraße 11a\, Bamberg\, Bayern\, 96052\, Germany
ATTACH;FMTTYPE=image/png:https://katago-ev.de/wp-content/uploads/2023/12/cropped-Magic-The-Gathering-logo.png
END:VEVENT
BEGIN:VEVENT
DTSTART;TZID=Europe/Berlin:20260204T190000
DTEND;TZID=Europe/Berlin:20260204T233000
DTSTAMP:20260425T033326
CREATED:20260120T163126Z
LAST-MODIFIED:20260210T212200Z
UID:10011319-1770231600-1770247800@katago-ev.de
SUMMARY:Mittwochs Magic - Draft
DESCRIPTION:Willkommen zu unserem monatlichen Mittwochs Draft im KaTaGO e.V.\nDies ist ein öffentliches Event zum dem auch Spieler kommen können die keine Mitglieder des Vereins sind.\nBitte beachtet\, dass es nur Mitgliedern gestattet wird eigene Getränke mitzubringen.\nAlle Anderen bedienen sich bitte an den von uns angebotenen Getränken. \nSolltet ihr noch kein Mitglied sein\, aber Interesse an unseren Events oder einer Mitgliedschaft haben\, könnt ihr gerne einen ausgefüllten Mitgliedsantrag zum entsprechenden Event mitbringen und ab da einen kostenlosen Probemonat bei uns starten. Mitgliedsanträge gibt es hier. \nEventdetails:\nAnmeldung: 18:45 – 19:00 Uhr          (Solltet ihr euch verspäten gebt uns rechtzeitig Bescheid\, wir können auch mal warten) \nFormat: Draft \nEdition: aktuelle Sets \nStartgeld: 15€ p.P. (für 3 Booster und die Preise für die ersten Plätze) \nPreise: Boosterpreise nach Final Standings \nMax. Teilnehmer: Oft auf 16 begrenzt deswegen lieber anmelden \n  \nEs gibt Länder\, Hüllen und Spielmatten zum Ausleihen im Verein! Also ihr könnt auch unvorbereitet vorbeikommen und es Mal ausprobieren. \nDa es immer zu spontanen Änderungen kommen kann\, meldet euch bitte mit eurer E-Mail-Adresse\, damit wir euch entsprechend informieren können! \nBei Rückfragen wendet euch gerne an magic@katago-ev.de \nFragt uns auch gerne per Mail oder vor Ort nach unserer WhatsApp-Gruppe.\nÜber die Gruppe werden kurzfirstige Abstimmungen vorgenommen\, Infos und Termine kommuniziert. \nWir freuen uns auf euch!
URL:https://katago-ev.de/event/mittwochs-magic-draft/2026-02-04
LOCATION:Vereinsheim 1 – Hauptraum (Hegelstraße 1a)\, Hegelstraße 1a\, Bamberg\, Bayern\, 96052\, Germany
CATEGORIES:Magic the Gathering,Öffentliches Event
ATTACH;FMTTYPE=image/png:https://katago-ev.de/wp-content/uploads/2023/11/MTG-Draft-e1702377495306.png
END:VEVENT
BEGIN:VEVENT
DTSTART;TZID=Europe/Berlin:20260206T190000
DTEND;TZID=Europe/Berlin:20260206T233000
DTSTAMP:20260425T033326
CREATED:20240312T091227Z
LAST-MODIFIED:20240312T092221Z
UID:10003402-1770404400-1770420600@katago-ev.de
SUMMARY:Magic: The Gathering - Friday Night Magic - Modern
DESCRIPTION:Willkommen zu unserem wöchentlichen Modern FNM im KaTaGO e.V.\nDies ist ein öffentliches Event zum dem auch Spieler kommen können die keine Mitglieder des Vereins sind. \nBitte beachtet\, dass es nur Mitgliedern gestattet wird eigene Getränke mitzubringen.\nAlle Anderen bedienen sich bitte an den von uns angebotenen Getränken. \nSolltet ihr noch kein Mitglied sein\, aber Interesse an unseren Events oder einer Mitgliedschaft haben\, könnt ihr gerne einen ausgefüllten Mitgliedsantrag zum entsprechenden Event mitbringen und ab da einen kostenlosen Probemonat bei uns starten. Mitgliedsanträge gibt es hier. \n \nEventdetails:\nAnmeldung:      18:45 – 19:00 Uhr \n(Solltet ihr euch verspäten gebt uns rechtzeitig Bescheid\, wir können auch mal warten) \nFormat:              Modern Constructed \n(Keine Deckliste notwendig) \nStartgeld:          5 € p. P. \nPreise:                Preisausschüttung nach Final Standings: KataGO-Guthaben \n(einsehbar über die Modern-Whatsapp-Gruppe) \n  \nDa es immer zu spontanen Änderungen kommen kann\, meldet euch bitte mit eurer Emailadresse\, damit wir euch entsprechend informieren können! \nBei Rückfragen wendet euch gerne an magic@katago-ev.de \nFragt uns auch gerne per Mail oder vor Ort nach unserer WhatsApp-Gruppe.\nÜber die Gruppe werden kurzfristige Abstimmungen vorgenommen sowie Infos und Termine kommuniziert. \nWir freuen uns auf euch! \nAußerdem bitten wir um euer Verständnis\, dass sich die Umstände aufgrund der aktuellen Situation jederzeit ändern können und wir ggf. vom oben beschriebenen Ablauf abweichen müssen!
URL:https://katago-ev.de/event/mtg-modern-fnm-3-3/2026-02-06
LOCATION:Vereinsheim 1 – Hauptraum (Hegelstraße 1a)\, Hegelstraße 1a\, Bamberg\, Bayern\, 96052\, Germany
CATEGORIES:Magic the Gathering
ATTACH;FMTTYPE=image/jpeg:https://katago-ev.de/wp-content/uploads/2023/01/MTG-Modern.jpg
END:VEVENT
BEGIN:VEVENT
DTSTART;TZID=Europe/Berlin:20260206T190000
DTEND;TZID=Europe/Berlin:20260206T233000
DTSTAMP:20260425T033326
CREATED:20260119T103408Z
LAST-MODIFIED:20260119T103412Z
UID:10005363-1770404400-1770420600@katago-ev.de
SUMMARY:Magic: The Gathering - Friday Night Magic - Draft
DESCRIPTION:Willkommen zu unserem wöchentlichen FNM Draft im KaTaGO e.V. \nDies ist ein öffentliches Event zum dem auch Spieler kommen können die keine Mitglieder des Vereins sind.\nBitte beachtet\, dass es nur Mitgliedern gestattet wird eigene Getränke mitzubringen.\nAlle Anderen bedienen sich bitte an den von uns angebotenen Getränken. \nSolltet ihr noch kein Mitglied sein\, aber Interesse an unseren Events oder einer Mitgliedschaft haben\, könnt ihr gerne einen ausgefüllten Mitgliedsantrag zum entsprechenden Event mitbringen und ab da einen kostenlosen Probemonat bei uns starten. Mitgliedsanträge gibt es hier. \nEventdetails: \nAnmeldung: 18:45 – 19:00 Uhr          (Solltet ihr euch verspäten gebt uns rechtzeitig Bescheid\, wir können auch mal warten) \nFormat: Draft \nEdition: aktuelle Sets \nStartgeld: 15€ p.P. \nPreise: Boosterpreise nach Final Standings \nDa es immer zu spontanen Änderungen kommen kann\, meldet euch bitte mit eurer Emailadresse\, damit wir euch entsprechend informieren können! \nBei Rückfragen wendet euch gerne an magic@katago-ev.de \nFragt uns auch gerne per Mail oder vor Ort nach unserer whatsapp Gruppe.\nÜber die Gruppe werden kurzfirstige Abstimmungen vorgenommen\, Infos und Termine kommuniziert. \nWir freuen uns auf euch!
URL:https://katago-ev.de/event/magic-the-gathering-friday-night-magic-draft-12-13
LOCATION:Vereinsheim 1 – Hauptraum (Hegelstraße 1a)\, Hegelstraße 1a\, Bamberg\, Bayern\, 96052\, Germany
CATEGORIES:Magic the Gathering
ATTACH;FMTTYPE=image/png:https://katago-ev.de/wp-content/uploads/2023/11/MTG-Draft-e1702377495306.png
END:VEVENT
BEGIN:VEVENT
DTSTART;TZID=Europe/Berlin:20260207T173000
DTEND;TZID=Europe/Berlin:20260207T220000
DTSTAMP:20260425T033326
CREATED:20251006T180800Z
LAST-MODIFIED:20260210T205116Z
UID:10010297-1770485400-1770501600@katago-ev.de
SUMMARY:MTG Commander Stammtisch Samstag
DESCRIPTION:Willkommen zum MTG Commander Stammtisch im KaTaGO e.V.\nAlle Spieler und Interessierten herzlich eingeladen an unserem öffentlichen Commander Stammtisch teilzunehmen! \nWir bringen euch gerne das Spiel näher\, testen mit euch neue Decks\, traden oder unterhalten uns über Magic the Gathering™ und Commander. Ihr könnt auch ein Deck von Jemanden ausleihen und es mal ausprobieren. \nAlso kommt gerne vorbei\, schaut euch um oder spielt mit uns! \nWir sind eine ständig wachsende\, freundliche Community und freuen uns über alle Neuzugänge! \nDer Spieleabend ist ein öffentliches Event und sowohl für Mitglieder als auch für Nichtmitglieder offen.\nEr kann auch als erste Anlaufstelle dienen um sich den Verein anzuschauen und Infos zum Verein einzuholen. \nEine Anmeldung ist nicht zwingend notwendig oder verbindlich\, hilft uns jedoch sehr bei der Planung.\nAußerdem können wir euch so informieren falls eine Veranstaltung doch mal ausfällt. \nBei Fragen wendet euch gerne an: magic@katago-ev.de \n  \nAllgemeine Infos:\nBitte beachtet\, dass es nur Mitgliedern gestattet wird eigene Getränke mitzubringen.\nAlle Anderen bedienen sich bitte an den von uns angebotenen Getränken. \nSolltet ihr noch kein Mitglied sein\, aber Interesse an unseren Events oder einer Mitgliedschaft haben\, könnt ihr gerne einen ausgefüllten Mitgliedsantrag zum entsprechenden Event mitbringen und ab da einen kostenlosen Probemonat (Kalendermonat) bei uns starten. Mitgliedsanträge gibt es hier. \nAn alle Autofahrer\, bitte parkt nur auf unseren Parkplätzen (direkt vor den Schaufenstern) oder auf den öffentlichen Parkplätzen in der Wagenburgstraße\, dem Troppauplatz und Feldkirchenstraße mit Parkscheibe und nicht gegenüber den beiden Vereinsheimen\, da diese Anwohnerparkplätze sind.
URL:https://katago-ev.de/event/katago-commander-stammtisch-samstag/2026-02-07
LOCATION:Vereinsheim 1 – Hauptraum (Hegelstraße 1a)\, Hegelstraße 1a\, Bamberg\, Bayern\, 96052\, Germany
CATEGORIES:Kartenspiele,Magic the Gathering,Öffentliches Event,Open Night
ATTACH;FMTTYPE=image/jpeg:https://katago-ev.de/wp-content/uploads/2022/09/commander.jpg
END:VEVENT
BEGIN:VEVENT
DTSTART;TZID=Europe/Berlin:20260208T100000
DTEND;TZID=Europe/Berlin:20260208T140000
DTSTAMP:20260425T033326
CREATED:20251103T125203Z
LAST-MODIFIED:20260119T091727Z
UID:10010429-1770544800-1770559200@katago-ev.de
SUMMARY:Magic: The Gathering - Einsteiger-Event
DESCRIPTION:Herzlich Willkommen zu unserem Einsteiger-Event für Magic: The Gathering. \nDu wolltest schon immer mal das wohl berühmtestes Trading-Card-Game Magic: The Gathering ausprobieren? \nKeiner deiner Freunde spielt dieses Spiel\, du würdest jedoch gerne? \nDu hast bisher keine Einsteiger-Möglichkeit gesehen? \nDann ist genau das jetzt deine Chance! \n \nWir bieten dir eine Veranstaltung\, bei der wir mit den Grundlagen von Magic anfangen (wie funktioniert es\, Kartentypen\, Farben\, wichtigste Begriffe usw.) \nIm Anschluss daran bekommt ihr von uns entsprechende Decks gestellt und könnt loslegen. Ihr werdet natürlich von uns bei euren Spielen betreut und wir helfen euch\, in das Spiel einzusteigen. Denn auch hier gilt: Learning by Doing \nNach dieser Erst-Veranstaltung wird es einen wöchentlichen Abend nach gemeinsamer Abstimmung geben\, bei dem ihr immer wieder das Spielen vertiefen könnt. Auch hier sind wir als eure Mentoren mit vor Ort\, um zu unterstützen. \n  \nWas kostet euch das Ganze? – Nichts! \nDieses Angebot wird kostenfrei von uns gestellt. \nDie Übungsdeck wurden ebenfalls von Vereinsseite gestellt. Spielmatten\, Würfel usw.\, eben alles was ihr zum Spielen braucht\, erhaltet ihr auch vor Ort. \nIhr braucht also nichts außer Interesse am Spiel und gute Laune mitzubringen. \n  \nMeldet euch gerne für diese Veranstaltung an\, sodass wir die Teilnehmerzahl einplanen können. \nWir freuen uns auf euch \n  \nEuer Flo & Jörg
URL:https://katago-ev.de/event/magic-the-gathering-einsteiger-event-3
LOCATION:Vereinsheim 1 – Hauptraum (Hegelstraße 1a)\, Hegelstraße 1a\, Bamberg\, Bayern\, 96052\, Germany
ATTACH;FMTTYPE=image/jpeg:https://katago-ev.de/wp-content/uploads/2025/11/Titelbild.jpg
END:VEVENT
END:VCALENDAR