BEGIN:VCALENDAR
VERSION:2.0
PRODID:-//katago-ev.de - ECPv6.15.0.1//NONSGML v1.0//EN
CALSCALE:GREGORIAN
METHOD:PUBLISH
X-WR-CALNAME:katago-ev.de
X-ORIGINAL-URL:https://katago-ev.de
X-WR-CALDESC:Veranstaltungen für katago-ev.de
REFRESH-INTERVAL;VALUE=DURATION:PT1H
X-Robots-Tag:noindex
X-PUBLISHED-TTL:PT1H
BEGIN:VTIMEZONE
TZID:Europe/Berlin
BEGIN:DAYLIGHT
TZOFFSETFROM:+0100
TZOFFSETTO:+0200
TZNAME:CEST
DTSTART:20270328T010000
END:DAYLIGHT
BEGIN:STANDARD
TZOFFSETFROM:+0200
TZOFFSETTO:+0100
TZNAME:CET
DTSTART:20271031T010000
END:STANDARD
END:VTIMEZONE
BEGIN:VEVENT
DTSTART;TZID=Europe/Berlin:20270411T140000
DTEND;TZID=Europe/Berlin:20270411T190000
DTSTAMP:20260420T071038
CREATED:20250425T075636Z
LAST-MODIFIED:20250425T133711Z
UID:10009063-1807452000-1807470000@katago-ev.de
SUMMARY:Custom40k - A Warhammer 40.000 Homebrew
DESCRIPTION:Einsteiger gern gesehen! \nEs wird Warhammer 40k mit einem eigenen\, von unserer Community entwickelten Regelwerk samt Codizes gespielt. \nFür Details schau bei uns im Discord vorbei\, dort finden alle relevanten Diskussionen dazu statt oder besuch uns direkt.
URL:https://katago-ev.de/event/custom40k-a-warhammer-40-000-homebrew-2/2027-04-11
LOCATION:Vereinsheim 1 – Keller (Hegelstraße 1a)\, Hegelstraße 1a\, Bamberg\, Bayern\, 96052\, Germany
CATEGORIES:Tabletop,Warhammer 40k
ATTACH;FMTTYPE=image/jpeg:https://katago-ev.de/wp-content/uploads/2025/04/40k_3rdEditionLogo.jpg
END:VEVENT
BEGIN:VEVENT
DTSTART;TZID=Europe/Berlin:20270418T140000
DTEND;TZID=Europe/Berlin:20270418T190000
DTSTAMP:20260420T071038
CREATED:20250425T075636Z
LAST-MODIFIED:20250425T133711Z
UID:10009064-1808056800-1808074800@katago-ev.de
SUMMARY:Custom40k - A Warhammer 40.000 Homebrew
DESCRIPTION:Einsteiger gern gesehen! \nEs wird Warhammer 40k mit einem eigenen\, von unserer Community entwickelten Regelwerk samt Codizes gespielt. \nFür Details schau bei uns im Discord vorbei\, dort finden alle relevanten Diskussionen dazu statt oder besuch uns direkt.
URL:https://katago-ev.de/event/custom40k-a-warhammer-40-000-homebrew-2/2027-04-18
LOCATION:Vereinsheim 1 – Keller (Hegelstraße 1a)\, Hegelstraße 1a\, Bamberg\, Bayern\, 96052\, Germany
CATEGORIES:Tabletop,Warhammer 40k
ATTACH;FMTTYPE=image/jpeg:https://katago-ev.de/wp-content/uploads/2025/04/40k_3rdEditionLogo.jpg
END:VEVENT
BEGIN:VEVENT
DTSTART;TZID=Europe/Berlin:20270425T140000
DTEND;TZID=Europe/Berlin:20270425T190000
DTSTAMP:20260420T071038
CREATED:20250425T075636Z
LAST-MODIFIED:20250425T133711Z
UID:10009065-1808661600-1808679600@katago-ev.de
SUMMARY:Custom40k - A Warhammer 40.000 Homebrew
DESCRIPTION:Einsteiger gern gesehen! \nEs wird Warhammer 40k mit einem eigenen\, von unserer Community entwickelten Regelwerk samt Codizes gespielt. \nFür Details schau bei uns im Discord vorbei\, dort finden alle relevanten Diskussionen dazu statt oder besuch uns direkt.
URL:https://katago-ev.de/event/custom40k-a-warhammer-40-000-homebrew-2/2027-04-25
LOCATION:Vereinsheim 1 – Keller (Hegelstraße 1a)\, Hegelstraße 1a\, Bamberg\, Bayern\, 96052\, Germany
CATEGORIES:Tabletop,Warhammer 40k
ATTACH;FMTTYPE=image/jpeg:https://katago-ev.de/wp-content/uploads/2025/04/40k_3rdEditionLogo.jpg
END:VEVENT
BEGIN:VEVENT
DTSTART;TZID=Europe/Berlin:20270502T140000
DTEND;TZID=Europe/Berlin:20270502T190000
DTSTAMP:20260420T071038
CREATED:20250425T075636Z
LAST-MODIFIED:20250425T133711Z
UID:10009066-1809266400-1809284400@katago-ev.de
SUMMARY:Custom40k - A Warhammer 40.000 Homebrew
DESCRIPTION:Einsteiger gern gesehen! \nEs wird Warhammer 40k mit einem eigenen\, von unserer Community entwickelten Regelwerk samt Codizes gespielt. \nFür Details schau bei uns im Discord vorbei\, dort finden alle relevanten Diskussionen dazu statt oder besuch uns direkt.
URL:https://katago-ev.de/event/custom40k-a-warhammer-40-000-homebrew-2/2027-05-02
LOCATION:Vereinsheim 1 – Keller (Hegelstraße 1a)\, Hegelstraße 1a\, Bamberg\, Bayern\, 96052\, Germany
CATEGORIES:Tabletop,Warhammer 40k
ATTACH;FMTTYPE=image/jpeg:https://katago-ev.de/wp-content/uploads/2025/04/40k_3rdEditionLogo.jpg
END:VEVENT
BEGIN:VEVENT
DTSTART;TZID=Europe/Berlin:20270509T140000
DTEND;TZID=Europe/Berlin:20270509T190000
DTSTAMP:20260420T071038
CREATED:20250425T075636Z
LAST-MODIFIED:20250425T133711Z
UID:10009067-1809871200-1809889200@katago-ev.de
SUMMARY:Custom40k - A Warhammer 40.000 Homebrew
DESCRIPTION:Einsteiger gern gesehen! \nEs wird Warhammer 40k mit einem eigenen\, von unserer Community entwickelten Regelwerk samt Codizes gespielt. \nFür Details schau bei uns im Discord vorbei\, dort finden alle relevanten Diskussionen dazu statt oder besuch uns direkt.
URL:https://katago-ev.de/event/custom40k-a-warhammer-40-000-homebrew-2/2027-05-09
LOCATION:Vereinsheim 1 – Keller (Hegelstraße 1a)\, Hegelstraße 1a\, Bamberg\, Bayern\, 96052\, Germany
CATEGORIES:Tabletop,Warhammer 40k
ATTACH;FMTTYPE=image/jpeg:https://katago-ev.de/wp-content/uploads/2025/04/40k_3rdEditionLogo.jpg
END:VEVENT
BEGIN:VEVENT
DTSTART;TZID=Europe/Berlin:20270516T140000
DTEND;TZID=Europe/Berlin:20270516T190000
DTSTAMP:20260420T071038
CREATED:20250425T075636Z
LAST-MODIFIED:20250425T133711Z
UID:10009068-1810476000-1810494000@katago-ev.de
SUMMARY:Custom40k - A Warhammer 40.000 Homebrew
DESCRIPTION:Einsteiger gern gesehen! \nEs wird Warhammer 40k mit einem eigenen\, von unserer Community entwickelten Regelwerk samt Codizes gespielt. \nFür Details schau bei uns im Discord vorbei\, dort finden alle relevanten Diskussionen dazu statt oder besuch uns direkt.
URL:https://katago-ev.de/event/custom40k-a-warhammer-40-000-homebrew-2/2027-05-16
LOCATION:Vereinsheim 1 – Keller (Hegelstraße 1a)\, Hegelstraße 1a\, Bamberg\, Bayern\, 96052\, Germany
CATEGORIES:Tabletop,Warhammer 40k
ATTACH;FMTTYPE=image/jpeg:https://katago-ev.de/wp-content/uploads/2025/04/40k_3rdEditionLogo.jpg
END:VEVENT
BEGIN:VEVENT
DTSTART;TZID=Europe/Berlin:20270523T140000
DTEND;TZID=Europe/Berlin:20270523T190000
DTSTAMP:20260420T071038
CREATED:20250425T075636Z
LAST-MODIFIED:20250425T133711Z
UID:10009069-1811080800-1811098800@katago-ev.de
SUMMARY:Custom40k - A Warhammer 40.000 Homebrew
DESCRIPTION:Einsteiger gern gesehen! \nEs wird Warhammer 40k mit einem eigenen\, von unserer Community entwickelten Regelwerk samt Codizes gespielt. \nFür Details schau bei uns im Discord vorbei\, dort finden alle relevanten Diskussionen dazu statt oder besuch uns direkt.
URL:https://katago-ev.de/event/custom40k-a-warhammer-40-000-homebrew-2/2027-05-23
LOCATION:Vereinsheim 1 – Keller (Hegelstraße 1a)\, Hegelstraße 1a\, Bamberg\, Bayern\, 96052\, Germany
CATEGORIES:Tabletop,Warhammer 40k
ATTACH;FMTTYPE=image/jpeg:https://katago-ev.de/wp-content/uploads/2025/04/40k_3rdEditionLogo.jpg
END:VEVENT
BEGIN:VEVENT
DTSTART;TZID=Europe/Berlin:20270530T140000
DTEND;TZID=Europe/Berlin:20270530T190000
DTSTAMP:20260420T071038
CREATED:20250425T075636Z
LAST-MODIFIED:20250425T133711Z
UID:10009070-1811685600-1811703600@katago-ev.de
SUMMARY:Custom40k - A Warhammer 40.000 Homebrew
DESCRIPTION:Einsteiger gern gesehen! \nEs wird Warhammer 40k mit einem eigenen\, von unserer Community entwickelten Regelwerk samt Codizes gespielt. \nFür Details schau bei uns im Discord vorbei\, dort finden alle relevanten Diskussionen dazu statt oder besuch uns direkt.
URL:https://katago-ev.de/event/custom40k-a-warhammer-40-000-homebrew-2/2027-05-30
LOCATION:Vereinsheim 1 – Keller (Hegelstraße 1a)\, Hegelstraße 1a\, Bamberg\, Bayern\, 96052\, Germany
CATEGORIES:Tabletop,Warhammer 40k
ATTACH;FMTTYPE=image/jpeg:https://katago-ev.de/wp-content/uploads/2025/04/40k_3rdEditionLogo.jpg
END:VEVENT
BEGIN:VEVENT
DTSTART;TZID=Europe/Berlin:20270606T140000
DTEND;TZID=Europe/Berlin:20270606T190000
DTSTAMP:20260420T071038
CREATED:20250425T075636Z
LAST-MODIFIED:20250425T133711Z
UID:10009071-1812290400-1812308400@katago-ev.de
SUMMARY:Custom40k - A Warhammer 40.000 Homebrew
DESCRIPTION:Einsteiger gern gesehen! \nEs wird Warhammer 40k mit einem eigenen\, von unserer Community entwickelten Regelwerk samt Codizes gespielt. \nFür Details schau bei uns im Discord vorbei\, dort finden alle relevanten Diskussionen dazu statt oder besuch uns direkt.
URL:https://katago-ev.de/event/custom40k-a-warhammer-40-000-homebrew-2/2027-06-06
LOCATION:Vereinsheim 1 – Keller (Hegelstraße 1a)\, Hegelstraße 1a\, Bamberg\, Bayern\, 96052\, Germany
CATEGORIES:Tabletop,Warhammer 40k
ATTACH;FMTTYPE=image/jpeg:https://katago-ev.de/wp-content/uploads/2025/04/40k_3rdEditionLogo.jpg
END:VEVENT
BEGIN:VEVENT
DTSTART;TZID=Europe/Berlin:20270613T140000
DTEND;TZID=Europe/Berlin:20270613T190000
DTSTAMP:20260420T071038
CREATED:20250425T075636Z
LAST-MODIFIED:20250425T133711Z
UID:10009072-1812895200-1812913200@katago-ev.de
SUMMARY:Custom40k - A Warhammer 40.000 Homebrew
DESCRIPTION:Einsteiger gern gesehen! \nEs wird Warhammer 40k mit einem eigenen\, von unserer Community entwickelten Regelwerk samt Codizes gespielt. \nFür Details schau bei uns im Discord vorbei\, dort finden alle relevanten Diskussionen dazu statt oder besuch uns direkt.
URL:https://katago-ev.de/event/custom40k-a-warhammer-40-000-homebrew-2/2027-06-13
LOCATION:Vereinsheim 1 – Keller (Hegelstraße 1a)\, Hegelstraße 1a\, Bamberg\, Bayern\, 96052\, Germany
CATEGORIES:Tabletop,Warhammer 40k
ATTACH;FMTTYPE=image/jpeg:https://katago-ev.de/wp-content/uploads/2025/04/40k_3rdEditionLogo.jpg
END:VEVENT
BEGIN:VEVENT
DTSTART;TZID=Europe/Berlin:20270620T140000
DTEND;TZID=Europe/Berlin:20270620T190000
DTSTAMP:20260420T071038
CREATED:20250425T075636Z
LAST-MODIFIED:20250425T133711Z
UID:10009073-1813500000-1813518000@katago-ev.de
SUMMARY:Custom40k - A Warhammer 40.000 Homebrew
DESCRIPTION:Einsteiger gern gesehen! \nEs wird Warhammer 40k mit einem eigenen\, von unserer Community entwickelten Regelwerk samt Codizes gespielt. \nFür Details schau bei uns im Discord vorbei\, dort finden alle relevanten Diskussionen dazu statt oder besuch uns direkt.
URL:https://katago-ev.de/event/custom40k-a-warhammer-40-000-homebrew-2/2027-06-20
LOCATION:Vereinsheim 1 – Keller (Hegelstraße 1a)\, Hegelstraße 1a\, Bamberg\, Bayern\, 96052\, Germany
CATEGORIES:Tabletop,Warhammer 40k
ATTACH;FMTTYPE=image/jpeg:https://katago-ev.de/wp-content/uploads/2025/04/40k_3rdEditionLogo.jpg
END:VEVENT
BEGIN:VEVENT
DTSTART;TZID=Europe/Berlin:20270627T140000
DTEND;TZID=Europe/Berlin:20270627T190000
DTSTAMP:20260420T071038
CREATED:20250425T075636Z
LAST-MODIFIED:20250425T133711Z
UID:10009074-1814104800-1814122800@katago-ev.de
SUMMARY:Custom40k - A Warhammer 40.000 Homebrew
DESCRIPTION:Einsteiger gern gesehen! \nEs wird Warhammer 40k mit einem eigenen\, von unserer Community entwickelten Regelwerk samt Codizes gespielt. \nFür Details schau bei uns im Discord vorbei\, dort finden alle relevanten Diskussionen dazu statt oder besuch uns direkt.
URL:https://katago-ev.de/event/custom40k-a-warhammer-40-000-homebrew-2/2027-06-27
LOCATION:Vereinsheim 1 – Keller (Hegelstraße 1a)\, Hegelstraße 1a\, Bamberg\, Bayern\, 96052\, Germany
CATEGORIES:Tabletop,Warhammer 40k
ATTACH;FMTTYPE=image/jpeg:https://katago-ev.de/wp-content/uploads/2025/04/40k_3rdEditionLogo.jpg
END:VEVENT
BEGIN:VEVENT
DTSTART;TZID=Europe/Berlin:20270704T140000
DTEND;TZID=Europe/Berlin:20270704T190000
DTSTAMP:20260420T071038
CREATED:20250425T075636Z
LAST-MODIFIED:20250425T133711Z
UID:10009075-1814709600-1814727600@katago-ev.de
SUMMARY:Custom40k - A Warhammer 40.000 Homebrew
DESCRIPTION:Einsteiger gern gesehen! \nEs wird Warhammer 40k mit einem eigenen\, von unserer Community entwickelten Regelwerk samt Codizes gespielt. \nFür Details schau bei uns im Discord vorbei\, dort finden alle relevanten Diskussionen dazu statt oder besuch uns direkt.
URL:https://katago-ev.de/event/custom40k-a-warhammer-40-000-homebrew-2/2027-07-04
LOCATION:Vereinsheim 1 – Keller (Hegelstraße 1a)\, Hegelstraße 1a\, Bamberg\, Bayern\, 96052\, Germany
CATEGORIES:Tabletop,Warhammer 40k
ATTACH;FMTTYPE=image/jpeg:https://katago-ev.de/wp-content/uploads/2025/04/40k_3rdEditionLogo.jpg
END:VEVENT
BEGIN:VEVENT
DTSTART;TZID=Europe/Berlin:20270711T140000
DTEND;TZID=Europe/Berlin:20270711T190000
DTSTAMP:20260420T071038
CREATED:20250425T075636Z
LAST-MODIFIED:20250425T133711Z
UID:10009076-1815314400-1815332400@katago-ev.de
SUMMARY:Custom40k - A Warhammer 40.000 Homebrew
DESCRIPTION:Einsteiger gern gesehen! \nEs wird Warhammer 40k mit einem eigenen\, von unserer Community entwickelten Regelwerk samt Codizes gespielt. \nFür Details schau bei uns im Discord vorbei\, dort finden alle relevanten Diskussionen dazu statt oder besuch uns direkt.
URL:https://katago-ev.de/event/custom40k-a-warhammer-40-000-homebrew-2/2027-07-11
LOCATION:Vereinsheim 1 – Keller (Hegelstraße 1a)\, Hegelstraße 1a\, Bamberg\, Bayern\, 96052\, Germany
CATEGORIES:Tabletop,Warhammer 40k
ATTACH;FMTTYPE=image/jpeg:https://katago-ev.de/wp-content/uploads/2025/04/40k_3rdEditionLogo.jpg
END:VEVENT
BEGIN:VEVENT
DTSTART;TZID=Europe/Berlin:20270718T140000
DTEND;TZID=Europe/Berlin:20270718T190000
DTSTAMP:20260420T071038
CREATED:20250425T075636Z
LAST-MODIFIED:20250425T133711Z
UID:10009077-1815919200-1815937200@katago-ev.de
SUMMARY:Custom40k - A Warhammer 40.000 Homebrew
DESCRIPTION:Einsteiger gern gesehen! \nEs wird Warhammer 40k mit einem eigenen\, von unserer Community entwickelten Regelwerk samt Codizes gespielt. \nFür Details schau bei uns im Discord vorbei\, dort finden alle relevanten Diskussionen dazu statt oder besuch uns direkt.
URL:https://katago-ev.de/event/custom40k-a-warhammer-40-000-homebrew-2/2027-07-18
LOCATION:Vereinsheim 1 – Keller (Hegelstraße 1a)\, Hegelstraße 1a\, Bamberg\, Bayern\, 96052\, Germany
CATEGORIES:Tabletop,Warhammer 40k
ATTACH;FMTTYPE=image/jpeg:https://katago-ev.de/wp-content/uploads/2025/04/40k_3rdEditionLogo.jpg
END:VEVENT
BEGIN:VEVENT
DTSTART;TZID=Europe/Berlin:20270725T140000
DTEND;TZID=Europe/Berlin:20270725T190000
DTSTAMP:20260420T071038
CREATED:20250425T075636Z
LAST-MODIFIED:20250425T133711Z
UID:10009078-1816524000-1816542000@katago-ev.de
SUMMARY:Custom40k - A Warhammer 40.000 Homebrew
DESCRIPTION:Einsteiger gern gesehen! \nEs wird Warhammer 40k mit einem eigenen\, von unserer Community entwickelten Regelwerk samt Codizes gespielt. \nFür Details schau bei uns im Discord vorbei\, dort finden alle relevanten Diskussionen dazu statt oder besuch uns direkt.
URL:https://katago-ev.de/event/custom40k-a-warhammer-40-000-homebrew-2/2027-07-25
LOCATION:Vereinsheim 1 – Keller (Hegelstraße 1a)\, Hegelstraße 1a\, Bamberg\, Bayern\, 96052\, Germany
CATEGORIES:Tabletop,Warhammer 40k
ATTACH;FMTTYPE=image/jpeg:https://katago-ev.de/wp-content/uploads/2025/04/40k_3rdEditionLogo.jpg
END:VEVENT
BEGIN:VEVENT
DTSTART;TZID=Europe/Berlin:20270801T140000
DTEND;TZID=Europe/Berlin:20270801T190000
DTSTAMP:20260420T071038
CREATED:20250425T075636Z
LAST-MODIFIED:20250425T133711Z
UID:10009079-1817128800-1817146800@katago-ev.de
SUMMARY:Custom40k - A Warhammer 40.000 Homebrew
DESCRIPTION:Einsteiger gern gesehen! \nEs wird Warhammer 40k mit einem eigenen\, von unserer Community entwickelten Regelwerk samt Codizes gespielt. \nFür Details schau bei uns im Discord vorbei\, dort finden alle relevanten Diskussionen dazu statt oder besuch uns direkt.
URL:https://katago-ev.de/event/custom40k-a-warhammer-40-000-homebrew-2/2027-08-01
LOCATION:Vereinsheim 1 – Keller (Hegelstraße 1a)\, Hegelstraße 1a\, Bamberg\, Bayern\, 96052\, Germany
CATEGORIES:Tabletop,Warhammer 40k
ATTACH;FMTTYPE=image/jpeg:https://katago-ev.de/wp-content/uploads/2025/04/40k_3rdEditionLogo.jpg
END:VEVENT
BEGIN:VEVENT
DTSTART;TZID=Europe/Berlin:20270808T140000
DTEND;TZID=Europe/Berlin:20270808T190000
DTSTAMP:20260420T071038
CREATED:20250425T075636Z
LAST-MODIFIED:20250425T133711Z
UID:10009080-1817733600-1817751600@katago-ev.de
SUMMARY:Custom40k - A Warhammer 40.000 Homebrew
DESCRIPTION:Einsteiger gern gesehen! \nEs wird Warhammer 40k mit einem eigenen\, von unserer Community entwickelten Regelwerk samt Codizes gespielt. \nFür Details schau bei uns im Discord vorbei\, dort finden alle relevanten Diskussionen dazu statt oder besuch uns direkt.
URL:https://katago-ev.de/event/custom40k-a-warhammer-40-000-homebrew-2/2027-08-08
LOCATION:Vereinsheim 1 – Keller (Hegelstraße 1a)\, Hegelstraße 1a\, Bamberg\, Bayern\, 96052\, Germany
CATEGORIES:Tabletop,Warhammer 40k
ATTACH;FMTTYPE=image/jpeg:https://katago-ev.de/wp-content/uploads/2025/04/40k_3rdEditionLogo.jpg
END:VEVENT
BEGIN:VEVENT
DTSTART;TZID=Europe/Berlin:20270815T140000
DTEND;TZID=Europe/Berlin:20270815T190000
DTSTAMP:20260420T071038
CREATED:20250425T075636Z
LAST-MODIFIED:20250425T133711Z
UID:10009081-1818338400-1818356400@katago-ev.de
SUMMARY:Custom40k - A Warhammer 40.000 Homebrew
DESCRIPTION:Einsteiger gern gesehen! \nEs wird Warhammer 40k mit einem eigenen\, von unserer Community entwickelten Regelwerk samt Codizes gespielt. \nFür Details schau bei uns im Discord vorbei\, dort finden alle relevanten Diskussionen dazu statt oder besuch uns direkt.
URL:https://katago-ev.de/event/custom40k-a-warhammer-40-000-homebrew-2/2027-08-15
LOCATION:Vereinsheim 1 – Keller (Hegelstraße 1a)\, Hegelstraße 1a\, Bamberg\, Bayern\, 96052\, Germany
CATEGORIES:Tabletop,Warhammer 40k
ATTACH;FMTTYPE=image/jpeg:https://katago-ev.de/wp-content/uploads/2025/04/40k_3rdEditionLogo.jpg
END:VEVENT
BEGIN:VEVENT
DTSTART;TZID=Europe/Berlin:20270822T140000
DTEND;TZID=Europe/Berlin:20270822T190000
DTSTAMP:20260420T071038
CREATED:20250425T075636Z
LAST-MODIFIED:20250425T133711Z
UID:10009082-1818943200-1818961200@katago-ev.de
SUMMARY:Custom40k - A Warhammer 40.000 Homebrew
DESCRIPTION:Einsteiger gern gesehen! \nEs wird Warhammer 40k mit einem eigenen\, von unserer Community entwickelten Regelwerk samt Codizes gespielt. \nFür Details schau bei uns im Discord vorbei\, dort finden alle relevanten Diskussionen dazu statt oder besuch uns direkt.
URL:https://katago-ev.de/event/custom40k-a-warhammer-40-000-homebrew-2/2027-08-22
LOCATION:Vereinsheim 1 – Keller (Hegelstraße 1a)\, Hegelstraße 1a\, Bamberg\, Bayern\, 96052\, Germany
CATEGORIES:Tabletop,Warhammer 40k
ATTACH;FMTTYPE=image/jpeg:https://katago-ev.de/wp-content/uploads/2025/04/40k_3rdEditionLogo.jpg
END:VEVENT
BEGIN:VEVENT
DTSTART;TZID=Europe/Berlin:20270829T140000
DTEND;TZID=Europe/Berlin:20270829T190000
DTSTAMP:20260420T071038
CREATED:20250425T075636Z
LAST-MODIFIED:20250425T133711Z
UID:10009083-1819548000-1819566000@katago-ev.de
SUMMARY:Custom40k - A Warhammer 40.000 Homebrew
DESCRIPTION:Einsteiger gern gesehen! \nEs wird Warhammer 40k mit einem eigenen\, von unserer Community entwickelten Regelwerk samt Codizes gespielt. \nFür Details schau bei uns im Discord vorbei\, dort finden alle relevanten Diskussionen dazu statt oder besuch uns direkt.
URL:https://katago-ev.de/event/custom40k-a-warhammer-40-000-homebrew-2/2027-08-29
LOCATION:Vereinsheim 1 – Keller (Hegelstraße 1a)\, Hegelstraße 1a\, Bamberg\, Bayern\, 96052\, Germany
CATEGORIES:Tabletop,Warhammer 40k
ATTACH;FMTTYPE=image/jpeg:https://katago-ev.de/wp-content/uploads/2025/04/40k_3rdEditionLogo.jpg
END:VEVENT
BEGIN:VEVENT
DTSTART;TZID=Europe/Berlin:20270905T140000
DTEND;TZID=Europe/Berlin:20270905T190000
DTSTAMP:20260420T071038
CREATED:20250425T075636Z
LAST-MODIFIED:20250425T133711Z
UID:10009084-1820152800-1820170800@katago-ev.de
SUMMARY:Custom40k - A Warhammer 40.000 Homebrew
DESCRIPTION:Einsteiger gern gesehen! \nEs wird Warhammer 40k mit einem eigenen\, von unserer Community entwickelten Regelwerk samt Codizes gespielt. \nFür Details schau bei uns im Discord vorbei\, dort finden alle relevanten Diskussionen dazu statt oder besuch uns direkt.
URL:https://katago-ev.de/event/custom40k-a-warhammer-40-000-homebrew-2/2027-09-05
LOCATION:Vereinsheim 1 – Keller (Hegelstraße 1a)\, Hegelstraße 1a\, Bamberg\, Bayern\, 96052\, Germany
CATEGORIES:Tabletop,Warhammer 40k
ATTACH;FMTTYPE=image/jpeg:https://katago-ev.de/wp-content/uploads/2025/04/40k_3rdEditionLogo.jpg
END:VEVENT
BEGIN:VEVENT
DTSTART;TZID=Europe/Berlin:20270912T140000
DTEND;TZID=Europe/Berlin:20270912T190000
DTSTAMP:20260420T071038
CREATED:20250425T075636Z
LAST-MODIFIED:20250425T133711Z
UID:10009085-1820757600-1820775600@katago-ev.de
SUMMARY:Custom40k - A Warhammer 40.000 Homebrew
DESCRIPTION:Einsteiger gern gesehen! \nEs wird Warhammer 40k mit einem eigenen\, von unserer Community entwickelten Regelwerk samt Codizes gespielt. \nFür Details schau bei uns im Discord vorbei\, dort finden alle relevanten Diskussionen dazu statt oder besuch uns direkt.
URL:https://katago-ev.de/event/custom40k-a-warhammer-40-000-homebrew-2/2027-09-12
LOCATION:Vereinsheim 1 – Keller (Hegelstraße 1a)\, Hegelstraße 1a\, Bamberg\, Bayern\, 96052\, Germany
CATEGORIES:Tabletop,Warhammer 40k
ATTACH;FMTTYPE=image/jpeg:https://katago-ev.de/wp-content/uploads/2025/04/40k_3rdEditionLogo.jpg
END:VEVENT
BEGIN:VEVENT
DTSTART;TZID=Europe/Berlin:20270919T140000
DTEND;TZID=Europe/Berlin:20270919T190000
DTSTAMP:20260420T071038
CREATED:20250425T075636Z
LAST-MODIFIED:20250425T133711Z
UID:10009086-1821362400-1821380400@katago-ev.de
SUMMARY:Custom40k - A Warhammer 40.000 Homebrew
DESCRIPTION:Einsteiger gern gesehen! \nEs wird Warhammer 40k mit einem eigenen\, von unserer Community entwickelten Regelwerk samt Codizes gespielt. \nFür Details schau bei uns im Discord vorbei\, dort finden alle relevanten Diskussionen dazu statt oder besuch uns direkt.
URL:https://katago-ev.de/event/custom40k-a-warhammer-40-000-homebrew-2/2027-09-19
LOCATION:Vereinsheim 1 – Keller (Hegelstraße 1a)\, Hegelstraße 1a\, Bamberg\, Bayern\, 96052\, Germany
CATEGORIES:Tabletop,Warhammer 40k
ATTACH;FMTTYPE=image/jpeg:https://katago-ev.de/wp-content/uploads/2025/04/40k_3rdEditionLogo.jpg
END:VEVENT
BEGIN:VEVENT
DTSTART;TZID=Europe/Berlin:20270926T140000
DTEND;TZID=Europe/Berlin:20270926T190000
DTSTAMP:20260420T071038
CREATED:20250425T075636Z
LAST-MODIFIED:20250425T133711Z
UID:10009087-1821967200-1821985200@katago-ev.de
SUMMARY:Custom40k - A Warhammer 40.000 Homebrew
DESCRIPTION:Einsteiger gern gesehen! \nEs wird Warhammer 40k mit einem eigenen\, von unserer Community entwickelten Regelwerk samt Codizes gespielt. \nFür Details schau bei uns im Discord vorbei\, dort finden alle relevanten Diskussionen dazu statt oder besuch uns direkt.
URL:https://katago-ev.de/event/custom40k-a-warhammer-40-000-homebrew-2/2027-09-26
LOCATION:Vereinsheim 1 – Keller (Hegelstraße 1a)\, Hegelstraße 1a\, Bamberg\, Bayern\, 96052\, Germany
CATEGORIES:Tabletop,Warhammer 40k
ATTACH;FMTTYPE=image/jpeg:https://katago-ev.de/wp-content/uploads/2025/04/40k_3rdEditionLogo.jpg
END:VEVENT
BEGIN:VEVENT
DTSTART;TZID=Europe/Berlin:20271003T140000
DTEND;TZID=Europe/Berlin:20271003T190000
DTSTAMP:20260420T071038
CREATED:20250425T075636Z
LAST-MODIFIED:20250425T133711Z
UID:10009088-1822572000-1822590000@katago-ev.de
SUMMARY:Custom40k - A Warhammer 40.000 Homebrew
DESCRIPTION:Einsteiger gern gesehen! \nEs wird Warhammer 40k mit einem eigenen\, von unserer Community entwickelten Regelwerk samt Codizes gespielt. \nFür Details schau bei uns im Discord vorbei\, dort finden alle relevanten Diskussionen dazu statt oder besuch uns direkt.
URL:https://katago-ev.de/event/custom40k-a-warhammer-40-000-homebrew-2/2027-10-03
LOCATION:Vereinsheim 1 – Keller (Hegelstraße 1a)\, Hegelstraße 1a\, Bamberg\, Bayern\, 96052\, Germany
CATEGORIES:Tabletop,Warhammer 40k
ATTACH;FMTTYPE=image/jpeg:https://katago-ev.de/wp-content/uploads/2025/04/40k_3rdEditionLogo.jpg
END:VEVENT
BEGIN:VEVENT
DTSTART;TZID=Europe/Berlin:20271010T140000
DTEND;TZID=Europe/Berlin:20271010T190000
DTSTAMP:20260420T071038
CREATED:20250425T075636Z
LAST-MODIFIED:20250425T133711Z
UID:10009089-1823176800-1823194800@katago-ev.de
SUMMARY:Custom40k - A Warhammer 40.000 Homebrew
DESCRIPTION:Einsteiger gern gesehen! \nEs wird Warhammer 40k mit einem eigenen\, von unserer Community entwickelten Regelwerk samt Codizes gespielt. \nFür Details schau bei uns im Discord vorbei\, dort finden alle relevanten Diskussionen dazu statt oder besuch uns direkt.
URL:https://katago-ev.de/event/custom40k-a-warhammer-40-000-homebrew-2/2027-10-10
LOCATION:Vereinsheim 1 – Keller (Hegelstraße 1a)\, Hegelstraße 1a\, Bamberg\, Bayern\, 96052\, Germany
CATEGORIES:Tabletop,Warhammer 40k
ATTACH;FMTTYPE=image/jpeg:https://katago-ev.de/wp-content/uploads/2025/04/40k_3rdEditionLogo.jpg
END:VEVENT
BEGIN:VEVENT
DTSTART;TZID=Europe/Berlin:20271017T140000
DTEND;TZID=Europe/Berlin:20271017T190000
DTSTAMP:20260420T071038
CREATED:20250425T075636Z
LAST-MODIFIED:20250425T133711Z
UID:10009090-1823781600-1823799600@katago-ev.de
SUMMARY:Custom40k - A Warhammer 40.000 Homebrew
DESCRIPTION:Einsteiger gern gesehen! \nEs wird Warhammer 40k mit einem eigenen\, von unserer Community entwickelten Regelwerk samt Codizes gespielt. \nFür Details schau bei uns im Discord vorbei\, dort finden alle relevanten Diskussionen dazu statt oder besuch uns direkt.
URL:https://katago-ev.de/event/custom40k-a-warhammer-40-000-homebrew-2/2027-10-17
LOCATION:Vereinsheim 1 – Keller (Hegelstraße 1a)\, Hegelstraße 1a\, Bamberg\, Bayern\, 96052\, Germany
CATEGORIES:Tabletop,Warhammer 40k
ATTACH;FMTTYPE=image/jpeg:https://katago-ev.de/wp-content/uploads/2025/04/40k_3rdEditionLogo.jpg
END:VEVENT
BEGIN:VEVENT
DTSTART;TZID=Europe/Berlin:20271024T140000
DTEND;TZID=Europe/Berlin:20271024T190000
DTSTAMP:20260420T071038
CREATED:20250425T075636Z
LAST-MODIFIED:20250425T133711Z
UID:10009091-1824386400-1824404400@katago-ev.de
SUMMARY:Custom40k - A Warhammer 40.000 Homebrew
DESCRIPTION:Einsteiger gern gesehen! \nEs wird Warhammer 40k mit einem eigenen\, von unserer Community entwickelten Regelwerk samt Codizes gespielt. \nFür Details schau bei uns im Discord vorbei\, dort finden alle relevanten Diskussionen dazu statt oder besuch uns direkt.
URL:https://katago-ev.de/event/custom40k-a-warhammer-40-000-homebrew-2/2027-10-24
LOCATION:Vereinsheim 1 – Keller (Hegelstraße 1a)\, Hegelstraße 1a\, Bamberg\, Bayern\, 96052\, Germany
CATEGORIES:Tabletop,Warhammer 40k
ATTACH;FMTTYPE=image/jpeg:https://katago-ev.de/wp-content/uploads/2025/04/40k_3rdEditionLogo.jpg
END:VEVENT
BEGIN:VEVENT
DTSTART;TZID=Europe/Berlin:20271031T140000
DTEND;TZID=Europe/Berlin:20271031T190000
DTSTAMP:20260420T071038
CREATED:20250425T075636Z
LAST-MODIFIED:20250425T133711Z
UID:10009092-1824991200-1825009200@katago-ev.de
SUMMARY:Custom40k - A Warhammer 40.000 Homebrew
DESCRIPTION:Einsteiger gern gesehen! \nEs wird Warhammer 40k mit einem eigenen\, von unserer Community entwickelten Regelwerk samt Codizes gespielt. \nFür Details schau bei uns im Discord vorbei\, dort finden alle relevanten Diskussionen dazu statt oder besuch uns direkt.
URL:https://katago-ev.de/event/custom40k-a-warhammer-40-000-homebrew-2/2027-10-31
LOCATION:Vereinsheim 1 – Keller (Hegelstraße 1a)\, Hegelstraße 1a\, Bamberg\, Bayern\, 96052\, Germany
CATEGORIES:Tabletop,Warhammer 40k
ATTACH;FMTTYPE=image/jpeg:https://katago-ev.de/wp-content/uploads/2025/04/40k_3rdEditionLogo.jpg
END:VEVENT
END:VCALENDAR