BEGIN:VCALENDAR
VERSION:2.0
PRODID:-//katago-ev.de - ECPv6.15.0.1//NONSGML v1.0//EN
CALSCALE:GREGORIAN
METHOD:PUBLISH
X-ORIGINAL-URL:https://katago-ev.de
X-WR-CALDESC:Veranstaltungen für katago-ev.de
REFRESH-INTERVAL;VALUE=DURATION:PT1H
X-Robots-Tag:noindex
X-PUBLISHED-TTL:PT1H
BEGIN:VTIMEZONE
TZID:Europe/Berlin
BEGIN:DAYLIGHT
TZOFFSETFROM:+0100
TZOFFSETTO:+0200
TZNAME:CEST
DTSTART:20250330T010000
END:DAYLIGHT
BEGIN:STANDARD
TZOFFSETFROM:+0200
TZOFFSETTO:+0100
TZNAME:CET
DTSTART:20251026T010000
END:STANDARD
END:VTIMEZONE
BEGIN:VEVENT
DTSTART;TZID=Europe/Berlin:20250724T190000
DTEND;TZID=Europe/Berlin:20250724T220000
DTSTAMP:20260424T001431
CREATED:20241231T112138Z
LAST-MODIFIED:20241231T112138Z
UID:10007957-1753383600-1753394400@katago-ev.de
SUMMARY:Open Night: Tabletop-Skirmish-Abend
DESCRIPTION:Liebe Tabletop-Freundinnen\, Freunde und alles dazwischen und außerhalb\,\nwir laden euch herzlich zu unserem Tabletop-Skrimish-Abend ein\, der an jedem 2. Donnerstag des Monats stattfindet. \nDer Abend soll ein Anlaufpunkt sein\, um neue Spiele kennenzulernen\, bekannte Systeme zu spielen\, über Bemalung zu sprechen und andere Leute mit ähnlichen Interessen kennenzulernen. \nGespielt werden können alle Tabletopsysteme mit wenig Figuren. Es gibt keinen speziellen Fokus auf ein System\, sondern hier können alle Spielsysteme mitgebracht werden\, die wenig Modelle haben. \nIhr wollt Beispiele?\nGerne (diese Liste ist nicht abschließend):\n– Bushido – Risen Sun\,\n– Moonstone\,\n– Cyberpunk: Red Combat Zone\,\n– Infinity the Game\,\n– Warhammer 40.000: Kill Team \nMeldet euch einfach kurz bei uns und schreibt was ihr mitbringen wollt oder bringt eure Mitspieler einfach gleich mit. Natürlich dürft ihr auch sehr gerne zu Probespielen oder nur zum Zuschauen und quatschen vorbeikommen. Kommt gerne auch vorbei\, wenn ihr absolute Anfänger seid und Tabletop generell einfach ausprobieren wollt. \nWir freuen uns auf Euch.
URL:https://katago-ev.de/event/open-night-tabletop-skirmish-abend-4/2025-07-24
LOCATION:Vereinsheim 1 (Hegelstraße 1a)\, Hegelstraße 1a\, Bamberg\, Bayern\, 96052\, Germany
CATEGORIES:Open Night,Skirmish,Tabletop
END:VEVENT
BEGIN:VEVENT
DTSTART;TZID=Europe/Berlin:20250724T183000
DTEND;TZID=Europe/Berlin:20250724T220000
DTSTAMP:20260424T001431
CREATED:20250614T065954Z
LAST-MODIFIED:20250616T173345Z
UID:10009423-1753381800-1753394400@katago-ev.de
SUMMARY:Commander Party Final Fantasy Juli
DESCRIPTION:Im Juli gibt es wieder eine Commander Party\, dieses Mal zu Universes Beyond Final Fantasy. \nDie Mechanik dieses Mal sind Quests\, die wir für Loot den wir im Spiel nutzen können\, abschließen. Es gibt natürlich auch wieder Promokarten\, diesmal sogar zwei. \nWir werden für das Juli Event “Despark” in Final Fantasy Non-Foil ausgeben. \n \nBitte beachtet\, dass wir nur einen begrenzten Vorrat der Promokarte haben und wir nur so lange der Vorrat reicht diese ausgeben können! \nDieses Event ist im Vereinsheim 2! \nBitte achtet darauf\, nur auf unseren Parkplätzen\, oder den öffentlichen Parkplätzen zu parken\, z.B.: Troppauplatz. Die Parkplätze gegenüber unseren Vereinsheimen sind Anwohnerparkplätze und müssen freigehalten werden\, da die Anwohner für diese zahlen. \nAuch wenn es sich um ein öffentliches Event handelt\, bei dem auch Nichtmitglieder teilnehmen können\, gilt\, dass nur Mitglieder eigene Getränke mitbringen dürfen. Nichtmitglieder müssten Getränke dann vor Ort in unserem Vereinsheim erwerben. \nCompanion App Code: 3J5DG8Y
URL:https://katago-ev.de/event/commander-party-final-fantasy-juli
LOCATION:Vereinsheim 2 (Hegelstraße 11a)\, Hegelstraße 11a\, Bamberg\, Bayern\, 96052\, Germany
CATEGORIES:Magic the Gathering
ATTACH;FMTTYPE=image/jpeg:https://katago-ev.de/wp-content/uploads/2025/06/wp12742417-final-fantasy-vii-4k-wallpapers-scaled.jpg
END:VEVENT
BEGIN:VEVENT
DTSTART;TZID=Europe/Berlin:20250723T180000
DTEND;TZID=Europe/Berlin:20250723T220000
DTSTAMP:20260424T001431
CREATED:20250609T095954Z
LAST-MODIFIED:20250609T095955Z
UID:10009286-1753293600-1753308000@katago-ev.de
SUMMARY:Eclipse Phase
DESCRIPTION:Geschlossene Veranstaltung \nPen and Paper
URL:https://katago-ev.de/event/eclipse-phase/2025-07-23
LOCATION:Vereinsheim 1 (Hegelstraße 1a)\, Hegelstraße 1a\, Bamberg\, Bayern\, 96052\, Germany
CATEGORIES:Rollenspiel
END:VEVENT
BEGIN:VEVENT
DTSTART;TZID=Europe/Berlin:20250721T170000
DTEND;TZID=Europe/Berlin:20250721T203000
DTSTAMP:20260424T001431
CREATED:20250716T155106Z
LAST-MODIFIED:20250716T155848Z
UID:10009446-1753117200-1753129800@katago-ev.de
SUMMARY:Age of Sigmar Schlacht
DESCRIPTION:2000p \nSERAPHON vs MAGGOTKIN OF NURGLE \nSYLVANETH vs NIGHTHAUNT
URL:https://katago-ev.de/event/age-of-sigmar-schlacht-38
LOCATION:Vereinsheim 1 – Keller (Hegelstraße 1a)\, Hegelstraße 1a\, Bamberg\, Bayern\, 96052\, Germany
CATEGORIES:Age of Sigmar,Tabletop
ATTACH;FMTTYPE=image/jpeg:https://katago-ev.de/wp-content/uploads/2022/07/20220718_210251.jpg
END:VEVENT
BEGIN:VEVENT
DTSTART;TZID=Europe/Berlin:20250721T080000
DTEND;TZID=Europe/Berlin:20250721T110000
DTSTAMP:20260424T001431
CREATED:20240626T211336Z
LAST-MODIFIED:20240626T211506Z
UID:10006301-1753084800-1753095600@katago-ev.de
SUMMARY:Reinigung Vereinsheim
DESCRIPTION:
URL:https://katago-ev.de/event/reinigung-vereinsheim/2025-07-21
LOCATION:Beide Gebäude (Hegelstraße 1a & 11a)\, Hegelstraße 1a\, Bamberg\, 96052\, Germany
END:VEVENT
BEGIN:VEVENT
DTSTART;TZID=Europe/Berlin:20250720T190000
DTEND;TZID=Europe/Berlin:20250720T230000
DTSTAMP:20260424T001431
CREATED:20250514T150746Z
LAST-MODIFIED:20250714T100101Z
UID:10009252-1753038000-1753052400@katago-ev.de
SUMMARY:Hüttendraft Nr.6 - Abschlussdraft
DESCRIPTION:Willkommen zu Draft Nr. 6 an unserem Hüttenwochenende. Es handelt sich um eine geschlossene Veranstaltung. Teilnahme ist nur nach vorheriger Absprache möglich. Für Rückfragen und die genaue Korrdination tretet bitte unserer Whatsappgruppe bei. (Ansprechperson: C.Schneider) \nWo?  \nVilla Sonnenschein\, Hauptstraße 3\, Rauhenebrach \nWann? \nSo 20.7. um ca. 19 Uhr \nFormat? \nWir stimmen nochmal ab! \n 
URL:https://katago-ev.de/event/huettendraft-nr-6-abschlussdraft
LOCATION:Hütte
END:VEVENT
BEGIN:VEVENT
DTSTART;TZID=Europe/Berlin:20250720T140000
DTEND;TZID=Europe/Berlin:20250720T190000
DTSTAMP:20260424T001431
CREATED:20241108T143551Z
LAST-MODIFIED:20241108T143551Z
UID:10007801-1753020000-1753038000@katago-ev.de
SUMMARY:Dungeons&Dragons DRAGONLANCE: Im Schatten der Drachenkönigin
DESCRIPTION:In einer vom Krieg verwüsteten Welt können die Taten von neuen Helden weltverändernde Folgen haben.  \nVerteidigt das Volk von Solamnia gegen einen scheinbar unüberwindlichen Feind\, während Krynn sich auf den Krieg vorbereitet. \n  \nFragen an: dnd@katago-ev.de
URL:https://katago-ev.de/event/dungeonsdragons-dragonlance-im-schatten-der-drachenkoenigin-3/2025-07-20
LOCATION:Vereinsheim 2 (Hegelstraße 11a)\, Hegelstraße 11a\, Bamberg\, Bayern\, 96052\, Germany
CATEGORIES:Dragonlance,Dungeons & Dragons,Fantasy,Rollenspiel
ATTACH;FMTTYPE=image/jpeg:https://katago-ev.de/wp-content/uploads/2024/06/20240617_182553.jpg
END:VEVENT
BEGIN:VEVENT
DTSTART;TZID=Europe/Berlin:20250720T110000
DTEND;TZID=Europe/Berlin:20250720T170000
DTSTAMP:20260424T001431
CREATED:20250514T150503Z
LAST-MODIFIED:20250714T100137Z
UID:10009251-1753009200-1753030800@katago-ev.de
SUMMARY:Hüttendraft Nr.5 - CCS Final Fantasy
DESCRIPTION:Willkommen zu Draft Nr. 5 an unserem Hüttenwochenende. Es handelt sich um eine geschlossene Veranstaltung. Teilnahme ist nur nach vorheriger Absprache möglich. Für Rückfragen und die genaue Korrdination tretet bitte unserer Whatsappgruppe bei. (Ansprechperson: C.Schneider) \nWo?  \nVilla Sonnenschein\, Hauptstraße 3\, Rauhenebrach \nWann? \nSo 20.7. um ca. 11 Uhr \nFormat? \nFinal Fantasy Draft \n 
URL:https://katago-ev.de/event/huettendraft-nr-5-ccs-final-fantasy
LOCATION:Hütte
END:VEVENT
BEGIN:VEVENT
DTSTART;TZID=Europe/Berlin:20250719T200000
DTEND;TZID=Europe/Berlin:20250719T233000
DTSTAMP:20260424T001431
CREATED:20250514T145459Z
LAST-MODIFIED:20250714T100229Z
UID:10009249-1752955200-1752967800@katago-ev.de
SUMMARY:Hüttendraft Nr.4 - Chaos Draft
DESCRIPTION:Willkommen zu Draft Nr. 4 an unserem Hüttenwochenende. Es handelt sich um eine geschlossene Veranstaltung. Teilnahme ist nur nach vorheriger Absprache möglich. Für Rückfragen und die genaue Korrdination tretet bitte unserer Whatsappgruppe bei. (Ansprechperson: C.Schneider) \nWo?  \nVilla Sonnenschein\, Hauptstraße 3\, Rauhenebrach \nWann? \nSa 19.7. um ca. 20 Uhr \nFormat? \nChaos Draft (pay what you pick) \n  \n 
URL:https://katago-ev.de/event/huettendraft-nr-3-ccs-tarkir-dragonstorm
LOCATION:Hütte
END:VEVENT
BEGIN:VEVENT
DTSTART;TZID=Europe/Berlin:20250719T100000
DTEND;TZID=Europe/Berlin:20250719T160000
DTSTAMP:20260424T001431
CREATED:20250718T162036Z
LAST-MODIFIED:20250718T162036Z
UID:10009612-1752919200-1752940800@katago-ev.de
SUMMARY:Star Wars unlimited constructed
DESCRIPTION:Star Wars unlimited constructed
URL:https://katago-ev.de/event/star-wars-unlimited-constructed
LOCATION:Vereinsheim 1 – Keller (Hegelstraße 1a)\, Hegelstraße 1a\, Bamberg\, Bayern\, 96052\, Germany
CATEGORIES:Star Wars Unlimited
END:VEVENT
BEGIN:VEVENT
DTSTART;TZID=Europe/Berlin:20250718T200000
DTEND;TZID=Europe/Berlin:20250718T233000
DTSTAMP:20260424T001431
CREATED:20250514T144625Z
LAST-MODIFIED:20250514T144910Z
UID:10009248-1752868800-1752881400@katago-ev.de
SUMMARY:Hüttendraft Nr.2.1 - Alternativ-Draft
DESCRIPTION:Willkommen zu Draft Nr. 2.1 an unserem Hüttenwochenende. Es handelt sich um eine geschlossene Veranstaltung. Teilnahme ist nur nach vorheriger Absprache möglich. Für Rückfragen und die genaue Korrdination tretet bitte unserer Whatsappgruppe bei. (Ansprechperson: C.Schneider) \nWo?  \nVilla Sonnenschein\, Hauptstraße 3\, Rauhenebrach \nWann? \nFr. 18.7. um ca. 20 Uhr \nFormat? \nDas Format wird vor Ort aus vorhandenen Editionen abgestimmt \nDies ist die Alternative zum parallel stattfindenden Collector Draft. \n 
URL:https://katago-ev.de/event/huettendraft-nr-2-1-alternativ-draft
LOCATION:Hütte
END:VEVENT
BEGIN:VEVENT
DTSTART;TZID=Europe/Berlin:20250718T200000
DTEND;TZID=Europe/Berlin:20250718T230000
DTSTAMP:20260424T001431
CREATED:20250513T160046Z
LAST-MODIFIED:20250714T100306Z
UID:10009243-1752868800-1752879600@katago-ev.de
SUMMARY:Hüttendraft Nr.2 - FF Draft
DESCRIPTION:Willkommen zu Draft Nr. 2 an unserem Hüttenwochenende. Es handelt sich um eine geschlossene Veranstaltung. Teilnahme ist nur nach vorheriger Absprache möglich. Für Rückfragen und die genaue Korrdination tretet bitte unserer Whatsappgruppe bei. (Ansprechperson: C.Schneider) \nWo?  \nVilla Sonnenschein\, Hauptstraße 3\, Rauhenebrach \nWann? \nFr. 18.7. um ca. 20 Uhr \nFormat? \nFinal Fantasy Collector Draft (1x Collector 2x Play Booster) \nMaximale Teilnehmerzahl: 12 Personen \nAlternativ wird parallel auch ein anderer Draft oder Cube angeboten. \n 
URL:https://katago-ev.de/event/huettendraft-nr-2-ff-collector-draft
LOCATION:Hütte
END:VEVENT
BEGIN:VEVENT
DTSTART;TZID=Europe/Berlin:20250718T150000
DTEND;TZID=Europe/Berlin:20250718T190000
DTSTAMP:20260424T001431
CREATED:20250513T155653Z
LAST-MODIFIED:20250714T100333Z
UID:10009242-1752850800-1752865200@katago-ev.de
SUMMARY:Hüttendraft Nr.1 - Altes Set
DESCRIPTION:Willkommen zu Draft Nr. 1 an unserem Hüttenwochenende. Es handelt sich um eine geschlossene Veranstaltung. Teilnahme ist nur nach vorheriger Absprache möglich. Für Rückfragen und die genaue Korrdination tretet bitte unserer Whatsappgruppe bei. (Ansprechperson: C.Schneider) \nWo?  \nVilla Sonnenschein\, Hauptstraße 3\, Rauhenebrach \nWann? \nFr. 18.7. um 15 Uhr \nFormat? \nWird vor Ort aus verschiedenen Sets ausgewählt/abgestimmt
URL:https://katago-ev.de/event/huettendraft-nr-1-altes-set
LOCATION:Hütte
END:VEVENT
BEGIN:VEVENT
DTSTART;TZID=Europe/Berlin:20250718T080000
DTEND;TZID=Europe/Berlin:20250718T110000
DTSTAMP:20260424T001431
CREATED:20240626T211540Z
LAST-MODIFIED:20240626T211540Z
UID:10006822-1752825600-1752836400@katago-ev.de
SUMMARY:Reinigung Vereinsheim
DESCRIPTION:
URL:https://katago-ev.de/event/reinigung-vereinsheim-2/2025-07-18
LOCATION:Beide Gebäude (Hegelstraße 1a & 11a)\, Hegelstraße 1a\, Bamberg\, 96052\, Germany
END:VEVENT
BEGIN:VEVENT
DTSTART;TZID=Europe/Berlin:20250717T170000
DTEND;TZID=Europe/Berlin:20250717T220000
DTSTAMP:20260424T001431
CREATED:20241108T141209Z
LAST-MODIFIED:20241108T141209Z
UID:10007762-1752771600-1752789600@katago-ev.de
SUMMARY:Open Night: Yu-Gi-Oh!
DESCRIPTION:Willkommen zum YU-GI-OH! Open Night Event bei uns im KaTaGO e.V. \nMindestens zweimal im Monat sind alle Spieler und Interessierten herzlich eingeladen an unseren öffentlichen Yu-Gi-Oh!-Abenden teilzunehmen.\nWir bringen euch gerne das Spiel näher\, testen mit euch neue Decks oder unterhalten uns über Yu-Gi-Oh.\nAlso kommt gerne vorbei\, schaut euch um oder spielt mit uns! \nDer Spieleabend ist ein öffentliches Event und sowohl für Mitglieder als auch für Nichtmitglieder offen.\nEr kann auch als erste Anlaufstelle dienen um sich den Verein anzuschauen und Infos zum Verein einzuholen. \nBitte beachtet\, dass es nur Mitgliedern gestattet wird eigene Getränke mitzubringen.\nAlle Anderen bedienen sich bitte an den von uns angebotenen Getränken. \nSolltet ihr noch kein Mitglied sein\, aber Interesse an unseren Events oder einer Mitgliedschaft haben\, könnt ihr gerne einen ausgefüllten Mitgliedsantrag zum entsprechenden Event mitbringen und ab da einen kostenlosen Probemonat (Kalendermonat) bei uns starten. Mitgliedsanträge gibt es hier. \nFragen an: yu-gi-oh@katago-ev.de
URL:https://katago-ev.de/event/open-night-yu-gi-oh-16/2025-07-17
LOCATION:Vereinsheim 1 – Hauptraum (Hegelstraße 1a)\, Hegelstraße 1a\, Bamberg\, Bayern\, 96052\, Germany
CATEGORIES:Kartenspiele,Open Night,Yu-Gi-Oh!
ATTACH;FMTTYPE=image/jpeg:https://katago-ev.de/wp-content/uploads/2022/09/yugi.jpeg
END:VEVENT
BEGIN:VEVENT
DTSTART;TZID=Europe/Berlin:20250714T183000
DTEND;TZID=Europe/Berlin:20250714T220000
DTSTAMP:20260424T001431
CREATED:20250107T141551Z
LAST-MODIFIED:20260215T153454Z
UID:10008728-1752517800-1752530400@katago-ev.de
SUMMARY:MTG Commander Stammtisch Open Night
DESCRIPTION:Willkommen zum MTG Commander Stammtisch im KaTaGO e.V.\nAlle Spieler und Interessierten herzlich eingeladen an unserem öffentlichen Commander Stammtisch teilzunehmen! \nWir bringen euch gerne das Spiel näher\, testen mit euch neue Decks\, traden oder unterhalten uns über Magic the Gathering™ und Commander. Ihr könnt auch ein Deck von Jemanden ausleihen und es mal ausprobieren. \nAlso kommt gerne vorbei\, schaut euch um oder spielt mit uns! \nWir sind eine ständig wachsende\, freundliche Community und freuen uns über alle Neuzugänge! \nDer Spieleabend ist ein öffentliches Event und sowohl für Mitglieder als auch für Nichtmitglieder offen.\nEr kann auch als erste Anlaufstelle dienen um sich den Verein anzuschauen und Infos zum Verein einzuholen. \nEine Anmeldung ist nicht zwingend notwendig oder verbindlich\, hilft uns jedoch sehr bei der Planung.\nAußerdem können wir euch so informieren falls eine Veranstaltung doch mal ausfällt. \nBei Fragen wendet euch gerne an: magic@katago-ev.de \n  \nAllgemeine Infos:\nBitte beachtet\, dass es nur Mitgliedern gestattet wird eigene Getränke mitzubringen.\nAlle Anderen bedienen sich bitte an den von uns angebotenen Getränken. \nSolltet ihr noch kein Mitglied sein\, aber Interesse an unseren Events oder einer Mitgliedschaft haben\, könnt ihr gerne einen ausgefüllten Mitgliedsantrag zum entsprechenden Event mitbringen und ab da einen kostenlosen Probemonat (Kalendermonat) bei uns starten. Mitgliedsanträge gibt es hier. \nAn alle Autofahrer\, bitte parkt nur auf unseren Parkplätzen (direkt vor den Schaufenstern) oder auf den öffentlichen Parkplätzen in der Wagenburgstraße\, dem Troppauplatz und Feldkirchenstraße mit Parkscheibe und nicht gegenüber den beiden Vereinsheimen\, da diese Anwohnerparkplätze sind.
URL:https://katago-ev.de/event/mtg-commander-stammtisch-open-night/2025-07-14
LOCATION:Vereinsheim 1 – Hauptraum (Hegelstraße 1a)\, Hegelstraße 1a\, Bamberg\, Bayern\, 96052\, Germany
CATEGORIES:Kartenspiele,Magic the Gathering,Öffentliches Event,Open Night
ATTACH;FMTTYPE=image/jpeg:https://katago-ev.de/wp-content/uploads/2022/09/commander.jpg
END:VEVENT
BEGIN:VEVENT
DTSTART;TZID=Europe/Berlin:20250714T080000
DTEND;TZID=Europe/Berlin:20250714T110000
DTSTAMP:20260424T001431
CREATED:20240626T211336Z
LAST-MODIFIED:20240626T211506Z
UID:10006300-1752480000-1752490800@katago-ev.de
SUMMARY:Reinigung Vereinsheim
DESCRIPTION:
URL:https://katago-ev.de/event/reinigung-vereinsheim/2025-07-14
LOCATION:Beide Gebäude (Hegelstraße 1a & 11a)\, Hegelstraße 1a\, Bamberg\, 96052\, Germany
END:VEVENT
BEGIN:VEVENT
DTSTART;TZID=Europe/Berlin:20250713T150000
DTEND;TZID=Europe/Berlin:20250713T213000
DTSTAMP:20260424T001431
CREATED:20250629T171634Z
LAST-MODIFIED:20250629T171634Z
UID:10009433-1752418800-1752442200@katago-ev.de
SUMMARY:Dungeons and Dragons Einstiegsabenteuer
DESCRIPTION:Wir veranstalten eine Runde für Anfänger der neuen Edition und führen euch durch ein Abenteuer \nInfo: dnd@katago-ev.de 
URL:https://katago-ev.de/event/dungeons-and-dragons-einstiegsabenteuer-2
LOCATION:Vereinsheim 2 (Hegelstraße 11a)\, Hegelstraße 11a\, Bamberg\, Bayern\, 96052\, Germany
CATEGORIES:Dungeons & Dragons,Rollenspiel
ATTACH;FMTTYPE=image/jpeg:https://katago-ev.de/wp-content/uploads/2025/01/20250120_123337.jpg
END:VEVENT
BEGIN:VEVENT
DTSTART;TZID=Europe/Berlin:20250712T180000
DTEND;TZID=Europe/Berlin:20250712T220000
DTSTAMP:20260424T001431
CREATED:20250507T103426Z
LAST-MODIFIED:20250704T123702Z
UID:10009235-1752343200-1752357600@katago-ev.de
SUMMARY:Star Wars Unlimited Prerelease Legends of the Force
DESCRIPTION:„Ich bin der wiedergeborene Revan… und vor mir seid ihr nichts.“\n– Darth Revan \nDatum: 12.07.2025\nBeginn: 18:00 Uhr\nEnde: 22:00 Uhr\nKosten: 35 €\nPreise: Booster\, Promo\, OP-Booster usw. \nWir freuen uns auf euch! \nEs war einmal vor langer Zeit\, in einem weit\, weit entfernten Verein…\nKommt zu unserem Star Wars-Turnier vorbei und lasst uns eine gute Zeit haben.\nDies ist ein öffentliches Event zu dem auch Spieler kommen können\, die kein Mitglied des Vereins sind.\nBitte beachtet\, dass es nur Mitgliedern gestattet wird eigene Getränke mitzubringen.\nAlle anderen bedienen sich bitte an den von uns angebotenen Getränken.
URL:https://katago-ev.de/event/star-wars-unlimited-prerelease-legends-of-the-force
LOCATION:Vereinsheim 2 (Hegelstraße 11a)\, Hegelstraße 11a\, Bamberg\, Bayern\, 96052\, Germany
CATEGORIES:Kartenspiele,Star Wars Unlimited
END:VEVENT
BEGIN:VEVENT
DTSTART;TZID=Europe/Berlin:20250711T080000
DTEND;TZID=Europe/Berlin:20250711T110000
DTSTAMP:20260424T001431
CREATED:20240626T211540Z
LAST-MODIFIED:20240626T211540Z
UID:10006821-1752220800-1752231600@katago-ev.de
SUMMARY:Reinigung Vereinsheim
DESCRIPTION:
URL:https://katago-ev.de/event/reinigung-vereinsheim-2/2025-07-11
LOCATION:Beide Gebäude (Hegelstraße 1a & 11a)\, Hegelstraße 1a\, Bamberg\, 96052\, Germany
END:VEVENT
BEGIN:VEVENT
DTSTART;TZID=Europe/Berlin:20250710T190000
DTEND;TZID=Europe/Berlin:20250710T220000
DTSTAMP:20260424T001431
CREATED:20241231T111859Z
LAST-MODIFIED:20241231T111900Z
UID:10007945-1752174000-1752184800@katago-ev.de
SUMMARY:Open Night: Tabletop-Skirmish-Abend
DESCRIPTION:Liebe Tabletop-Freundinnen\, Freunde und alles dazwischen und außerhalb\,\nwir laden euch herzlich zu unserem Tabletop-Skrimish-Abend ein\, der an jedem 2. Donnerstag des Monats stattfindet. \nDer Abend soll ein Anlaufpunkt sein\, um neue Spiele kennenzulernen\, bekannte Systeme zu spielen\, über Bemalung zu sprechen und andere Leute mit ähnlichen Interessen kennenzulernen. \nGespielt werden können alle Tabletopsysteme mit wenig Figuren. Es gibt keinen speziellen Fokus auf ein System\, sondern hier können alle Spielsysteme mitgebracht werden\, die wenig Modelle haben. \nIhr wollt Beispiele?\nGerne (diese Liste ist nicht abschließend):\n– Bushido – Risen Sun\,\n– Moonstone\,\n– Cyberpunk: Red Combat Zone\,\n– Infinity the Game\,\n– Warhammer 40.000: Kill Team \nMeldet euch einfach kurz bei uns und schreibt was ihr mitbringen wollt oder bringt eure Mitspieler einfach gleich mit. Natürlich dürft ihr auch sehr gerne zu Probespielen oder nur zum Zuschauen und quatschen vorbeikommen. Kommt gerne auch vorbei\, wenn ihr absolute Anfänger seid und Tabletop generell einfach ausprobieren wollt. \nWir freuen uns auf Euch.
URL:https://katago-ev.de/event/open-night-tabletop-skirmish-abend-3/2025-07-10
LOCATION:Vereinsheim 1 (Hegelstraße 1a)\, Hegelstraße 1a\, Bamberg\, Bayern\, 96052\, Germany
CATEGORIES:Open Night,Skirmish,Tabletop
END:VEVENT
BEGIN:VEVENT
DTSTART;TZID=Europe/Berlin:20250709T180000
DTEND;TZID=Europe/Berlin:20250709T220000
DTSTAMP:20260424T001431
CREATED:20250609T095954Z
LAST-MODIFIED:20250609T095955Z
UID:10009285-1752084000-1752098400@katago-ev.de
SUMMARY:Eclipse Phase
DESCRIPTION:Geschlossene Veranstaltung \nPen and Paper
URL:https://katago-ev.de/event/eclipse-phase/2025-07-09
LOCATION:Vereinsheim 1 (Hegelstraße 1a)\, Hegelstraße 1a\, Bamberg\, Bayern\, 96052\, Germany
CATEGORIES:Rollenspiel
END:VEVENT
BEGIN:VEVENT
DTSTART;TZID=Europe/Berlin:20250709T180000
DTEND;TZID=Europe/Berlin:20250709T220000
DTSTAMP:20260424T001431
CREATED:20241108T141644Z
LAST-MODIFIED:20241108T142319Z
UID:10007774-1752084000-1752098400@katago-ev.de
SUMMARY:Open Night: Age of Sigmar Stammtisch
DESCRIPTION:Willkommen zum Warhammer Age of Sigmar Stammtisch bei uns im KaTaGO e.V. \nZweimal im Monat sind alle Spieler und Interessierten herzlich eingeladen an unseren öffentlichen Age of Sigmar-Abenden teilzunehmen.\nWir bringen euch gerne das Spiel näher\, testen Armee-Listen und tauschen uns über Strategien aus.\nAlso kommt gerne vorbei\, schaut euch um oder spielt einfach mit! \nDer Spieleabend ist ein öffentliches Event und sowohl für Mitglieder als auch für Nichtmitglieder offen.\nEr kann auch als erste Anlaufstelle dienen um sich den Verein anzuschauen und Infos zum Verein einzuholen. ageofsigmar@katago-ev.de \nBitte beachtet\, dass es nur Mitgliedern gestattet wird eigene Getränke mitzubringen.\nAlle Anderen bedienen sich bitte an den von uns angebotenen Getränken. \nSolltet ihr noch kein Mitglied sein\, aber Interesse an unseren Events oder einer Mitgliedschaft haben\, könnt ihr gerne einen ausgefüllten Mitgliedsantrag zum entsprechenden Event mitbringen und ab da einen kostenlosen Probemonat (Kalendermonat) bei uns starten. Mitgliedsanträge gibt es hier. \nFragen an: ageofsigmar@katago-ev.de 
URL:https://katago-ev.de/event/open-night-age-of-sigmar-stammtisch-7/2025-07-09
LOCATION:Vereinsheim 1 – Hauptraum (Hegelstraße 1a)\, Hegelstraße 1a\, Bamberg\, Bayern\, 96052\, Germany
CATEGORIES:Age of Sigmar,Fantasy,Tabletop
ATTACH;FMTTYPE=image/jpeg:https://katago-ev.de/wp-content/uploads/2023/01/20230109_164454-e1682339313687.jpg
END:VEVENT
BEGIN:VEVENT
DTSTART;TZID=Europe/Berlin:20250707T080000
DTEND;TZID=Europe/Berlin:20250707T110000
DTSTAMP:20260424T001431
CREATED:20240626T211336Z
LAST-MODIFIED:20240626T211506Z
UID:10006299-1751875200-1751886000@katago-ev.de
SUMMARY:Reinigung Vereinsheim
DESCRIPTION:
URL:https://katago-ev.de/event/reinigung-vereinsheim/2025-07-07
LOCATION:Beide Gebäude (Hegelstraße 1a & 11a)\, Hegelstraße 1a\, Bamberg\, 96052\, Germany
END:VEVENT
BEGIN:VEVENT
DTSTART;TZID=Europe/Berlin:20250706T140000
DTEND;TZID=Europe/Berlin:20250706T190000
DTSTAMP:20260424T001431
CREATED:20241108T143551Z
LAST-MODIFIED:20241108T143551Z
UID:10007800-1751810400-1751828400@katago-ev.de
SUMMARY:Dungeons&Dragons DRAGONLANCE: Im Schatten der Drachenkönigin
DESCRIPTION:In einer vom Krieg verwüsteten Welt können die Taten von neuen Helden weltverändernde Folgen haben.  \nVerteidigt das Volk von Solamnia gegen einen scheinbar unüberwindlichen Feind\, während Krynn sich auf den Krieg vorbereitet. \n  \nFragen an: dnd@katago-ev.de
URL:https://katago-ev.de/event/dungeonsdragons-dragonlance-im-schatten-der-drachenkoenigin-3/2025-07-06
LOCATION:Vereinsheim 2 (Hegelstraße 11a)\, Hegelstraße 11a\, Bamberg\, Bayern\, 96052\, Germany
CATEGORIES:Dragonlance,Dungeons & Dragons,Fantasy,Rollenspiel
ATTACH;FMTTYPE=image/jpeg:https://katago-ev.de/wp-content/uploads/2024/06/20240617_182553.jpg
END:VEVENT
BEGIN:VEVENT
DTSTART;TZID=Europe/Berlin:20250705T100000
DTEND;TZID=Europe/Berlin:20250705T163000
DTSTAMP:20260424T001431
CREATED:20250522T182743Z
LAST-MODIFIED:20250522T182743Z
UID:10007740-1751709600-1751733000@katago-ev.de
SUMMARY:Yu-Gi-Oh - Turnier
DESCRIPTION:Es wird wieder Zeit für ein Duell!\nSchnappt euch euer Deck und kommt bei unserem Yu-Gi-Oh!-Turnier vorbei. \nDie Plätze sind auf 32 limitiert also anmelden!! \nDies ist ein öffentliches Event zu dem auch Spieler kommen können die kein Mitglied des Vereins sind.\nBitte beachtet\, dass es nur Mitgliedern gestattet wird eigene Getränke mitzubringen.\nAlle anderen bedienen sich bitte an den von uns angebotenen Getränken. \nEventdetails: \nAnmeldung: 10:00 – 10:55 Uhr \nStart der 1. Runde: 11:00 Uhr \nFormat: Constructed Advanced \nStartgeld: 5€ p.P \nPreise: OTS Booster Packs \nWir freuen uns auf euch! \nFragen an: yu-gi-oh@katago-ev.de
URL:https://katago-ev.de/event/yu-gi-oh-turnier-26-2/2025-07-05
LOCATION:Vereinsheim 1 – Hauptraum (Hegelstraße 1a)\, Hegelstraße 1a\, Bamberg\, Bayern\, 96052\, Germany
CATEGORIES:Kartenspiele,Turnierserie,Yu-Gi-Oh!
ATTACH;FMTTYPE=image/jpeg:https://katago-ev.de/wp-content/uploads/2022/08/20220326_124705.jpg
END:VEVENT
BEGIN:VEVENT
DTSTART;TZID=Europe/Berlin:20250704T080000
DTEND;TZID=Europe/Berlin:20250704T110000
DTSTAMP:20260424T001431
CREATED:20240626T211540Z
LAST-MODIFIED:20240626T211540Z
UID:10006820-1751616000-1751626800@katago-ev.de
SUMMARY:Reinigung Vereinsheim
DESCRIPTION:
URL:https://katago-ev.de/event/reinigung-vereinsheim-2/2025-07-04
LOCATION:Beide Gebäude (Hegelstraße 1a & 11a)\, Hegelstraße 1a\, Bamberg\, 96052\, Germany
END:VEVENT
BEGIN:VEVENT
DTSTART;TZID=Europe/Berlin:20250703T170000
DTEND;TZID=Europe/Berlin:20250703T220000
DTSTAMP:20260424T001431
CREATED:20241108T140921Z
LAST-MODIFIED:20241108T140921Z
UID:10007751-1751562000-1751580000@katago-ev.de
SUMMARY:Open Night: Yu-Gi-Oh!
DESCRIPTION:Willkommen zum YU-GI-OH! Open Night Event bei uns im KaTaGO e.V. \nMindestens zweimal im Monat sind alle Spieler und Interessierten herzlich eingeladen an unseren öffentlichen Yu-Gi-Oh!-Abenden teilzunehmen.\nWir bringen euch gerne das Spiel näher\, testen mit euch neue Decks oder unterhalten uns über Yu-Gi-Oh.\nAlso kommt gerne vorbei\, schaut euch um oder spielt mit uns! \nDer Spieleabend ist ein öffentliches Event und sowohl für Mitglieder als auch für Nichtmitglieder offen.\nEr kann auch als erste Anlaufstelle dienen um sich den Verein anzuschauen und Infos zum Verein einzuholen. \nBitte beachtet\, dass es nur Mitgliedern gestattet wird eigene Getränke mitzubringen.\nAlle Anderen bedienen sich bitte an den von uns angebotenen Getränken. \nSolltet ihr noch kein Mitglied sein\, aber Interesse an unseren Events oder einer Mitgliedschaft haben\, könnt ihr gerne einen ausgefüllten Mitgliedsantrag zum entsprechenden Event mitbringen und ab da einen kostenlosen Probemonat (Kalendermonat) bei uns starten. Mitgliedsanträge gibt es hier. \nFragen an: yu-gi-oh@katago-ev.de
URL:https://katago-ev.de/event/open-night-yu-gi-oh-15/2025-07-03
LOCATION:Vereinsheim 1 – Hauptraum (Hegelstraße 1a)\, Hegelstraße 1a\, Bamberg\, Bayern\, 96052\, Germany
CATEGORIES:Kartenspiele,Open Night,Yu-Gi-Oh!
ATTACH;FMTTYPE=image/jpeg:https://katago-ev.de/wp-content/uploads/2022/09/yugi.jpeg
END:VEVENT
BEGIN:VEVENT
DTSTART;TZID=Europe/Berlin:20250701T180000
DTEND;TZID=Europe/Berlin:20250701T220000
DTSTAMP:20260424T001431
CREATED:20250602T134004Z
LAST-MODIFIED:20250627T120507Z
UID:10009280-1751392800-1751407200@katago-ev.de
SUMMARY:Star Wars unlimited Liga 2
DESCRIPTION:Star Wars unlimited Liga 2 – Termin musste leider auf 01.07.2025 verschoben werden.
URL:https://katago-ev.de/event/star-wars-unlimited-liga-2-3
LOCATION:Vereinsheim 2 (Hegelstraße 11a)\, Hegelstraße 11a\, Bamberg\, Bayern\, 96052\, Germany
CATEGORIES:Star Wars Unlimited
ATTACH;FMTTYPE=image/jpeg:https://katago-ev.de/wp-content/uploads/2025/01/SWU-JTL.jpg
END:VEVENT
BEGIN:VEVENT
DTSTART;TZID=Europe/Berlin:20250630T080000
DTEND;TZID=Europe/Berlin:20250630T110000
DTSTAMP:20260424T001431
CREATED:20240626T211336Z
LAST-MODIFIED:20240626T211506Z
UID:10006298-1751270400-1751281200@katago-ev.de
SUMMARY:Reinigung Vereinsheim
DESCRIPTION:
URL:https://katago-ev.de/event/reinigung-vereinsheim/2025-06-30
LOCATION:Beide Gebäude (Hegelstraße 1a & 11a)\, Hegelstraße 1a\, Bamberg\, 96052\, Germany
END:VEVENT
END:VCALENDAR