BEGIN:VCALENDAR
VERSION:2.0
PRODID:-//katago-ev.de - ECPv6.15.0.1//NONSGML v1.0//EN
CALSCALE:GREGORIAN
METHOD:PUBLISH
X-WR-CALNAME:katago-ev.de
X-ORIGINAL-URL:https://katago-ev.de
X-WR-CALDESC:Veranstaltungen für katago-ev.de
REFRESH-INTERVAL;VALUE=DURATION:PT1H
X-Robots-Tag:noindex
X-PUBLISHED-TTL:PT1H
BEGIN:VTIMEZONE
TZID:Europe/Berlin
BEGIN:DAYLIGHT
TZOFFSETFROM:+0100
TZOFFSETTO:+0200
TZNAME:CEST
DTSTART:20230326T010000
END:DAYLIGHT
BEGIN:STANDARD
TZOFFSETFROM:+0200
TZOFFSETTO:+0100
TZNAME:CET
DTSTART:20231029T010000
END:STANDARD
BEGIN:DAYLIGHT
TZOFFSETFROM:+0100
TZOFFSETTO:+0200
TZNAME:CEST
DTSTART:20240331T010000
END:DAYLIGHT
BEGIN:STANDARD
TZOFFSETFROM:+0200
TZOFFSETTO:+0100
TZNAME:CET
DTSTART:20241027T010000
END:STANDARD
BEGIN:DAYLIGHT
TZOFFSETFROM:+0100
TZOFFSETTO:+0200
TZNAME:CEST
DTSTART:20250330T010000
END:DAYLIGHT
BEGIN:STANDARD
TZOFFSETFROM:+0200
TZOFFSETTO:+0100
TZNAME:CET
DTSTART:20251026T010000
END:STANDARD
END:VTIMEZONE
BEGIN:VEVENT
DTSTART;TZID=Europe/Berlin:20250218T180000
DTEND;TZID=Europe/Berlin:20250218T220000
DTSTAMP:20260423T154301
CREATED:20241106T105458Z
LAST-MODIFIED:20241108T190847Z
UID:10007820-1739901600-1739916000@katago-ev.de
SUMMARY:Flesh and Blood Armory
DESCRIPTION:Flesh and Blood Armory \n  \nDies ist ein öffentliches Event zu dem auch Spieler kommen können\, die kein Mitglied des Vereins sind.\nBitte beachtet\, dass es nur Mitgliedern gestattet wird eigene Getränke mitzubringen.\nAlle anderen bedienen sich bitte an den von uns angebotenen Getränken.
URL:https://katago-ev.de/event/flesh-and-blood-armory-27/2025-02-18
LOCATION:Vereinsheim 2 (Hegelstraße 11a)\, Hegelstraße 11a\, Bamberg\, Bayern\, 96052\, Germany
CATEGORIES:Flesh and Blood TCG
ATTACH;FMTTYPE=image/png:https://katago-ev.de/wp-content/uploads/2021/09/logo_fab_stroke_black_750.height-350.width-10000.png
END:VEVENT
BEGIN:VEVENT
DTSTART;TZID=Europe/Berlin:20250204T180000
DTEND;TZID=Europe/Berlin:20250204T220000
DTSTAMP:20260423T154301
CREATED:20241106T105458Z
LAST-MODIFIED:20241108T190847Z
UID:10007819-1738692000-1738706400@katago-ev.de
SUMMARY:Flesh and Blood Armory
DESCRIPTION:Flesh and Blood Armory \n  \nDies ist ein öffentliches Event zu dem auch Spieler kommen können\, die kein Mitglied des Vereins sind.\nBitte beachtet\, dass es nur Mitgliedern gestattet wird eigene Getränke mitzubringen.\nAlle anderen bedienen sich bitte an den von uns angebotenen Getränken.
URL:https://katago-ev.de/event/flesh-and-blood-armory-27/2025-02-04
LOCATION:Vereinsheim 2 (Hegelstraße 11a)\, Hegelstraße 11a\, Bamberg\, Bayern\, 96052\, Germany
CATEGORIES:Flesh and Blood TCG
ATTACH;FMTTYPE=image/png:https://katago-ev.de/wp-content/uploads/2021/09/logo_fab_stroke_black_750.height-350.width-10000.png
END:VEVENT
BEGIN:VEVENT
DTSTART;TZID=Europe/Berlin:20250126T120000
DTEND;TZID=Europe/Berlin:20250126T170000
DTSTAMP:20260423T154301
CREATED:20241113T103836Z
LAST-MODIFIED:20241113T103836Z
UID:10007848-1737892800-1737910800@katago-ev.de
SUMMARY:Prelease Flesh and Blood The Hunted
DESCRIPTION:Prelease Flesh and Blood The Hunted
URL:https://katago-ev.de/event/prelease-flesh-and-blood-the-hunted
LOCATION:Vereinsheim 1 (Hegelstraße 1a)\, Hegelstraße 1a\, Bamberg\, Bayern\, 96052\, Germany
ATTACH;FMTTYPE=image/png:https://katago-ev.de/wp-content/uploads/2021/09/logo_fab_stroke_black_750.height-350.width-10000.png
END:VEVENT
BEGIN:VEVENT
DTSTART;TZID=Europe/Berlin:20250121T180000
DTEND;TZID=Europe/Berlin:20250121T220000
DTSTAMP:20260423T154301
CREATED:20241106T105458Z
LAST-MODIFIED:20241108T190847Z
UID:10007818-1737482400-1737496800@katago-ev.de
SUMMARY:Flesh and Blood Armory
DESCRIPTION:Flesh and Blood Armory \n  \nDies ist ein öffentliches Event zu dem auch Spieler kommen können\, die kein Mitglied des Vereins sind.\nBitte beachtet\, dass es nur Mitgliedern gestattet wird eigene Getränke mitzubringen.\nAlle anderen bedienen sich bitte an den von uns angebotenen Getränken.
URL:https://katago-ev.de/event/flesh-and-blood-armory-27/2025-01-21
LOCATION:Vereinsheim 2 (Hegelstraße 11a)\, Hegelstraße 11a\, Bamberg\, Bayern\, 96052\, Germany
CATEGORIES:Flesh and Blood TCG
ATTACH;FMTTYPE=image/png:https://katago-ev.de/wp-content/uploads/2021/09/logo_fab_stroke_black_750.height-350.width-10000.png
END:VEVENT
BEGIN:VEVENT
DTSTART;TZID=Europe/Berlin:20250107T180000
DTEND;TZID=Europe/Berlin:20250107T220000
DTSTAMP:20260423T154301
CREATED:20241106T105458Z
LAST-MODIFIED:20241108T190847Z
UID:10007817-1736272800-1736287200@katago-ev.de
SUMMARY:Flesh and Blood Armory
DESCRIPTION:Flesh and Blood Armory \n  \nDies ist ein öffentliches Event zu dem auch Spieler kommen können\, die kein Mitglied des Vereins sind.\nBitte beachtet\, dass es nur Mitgliedern gestattet wird eigene Getränke mitzubringen.\nAlle anderen bedienen sich bitte an den von uns angebotenen Getränken.
URL:https://katago-ev.de/event/flesh-and-blood-armory-27/2025-01-07
LOCATION:Vereinsheim 2 (Hegelstraße 11a)\, Hegelstraße 11a\, Bamberg\, Bayern\, 96052\, Germany
CATEGORIES:Flesh and Blood TCG
ATTACH;FMTTYPE=image/png:https://katago-ev.de/wp-content/uploads/2021/09/logo_fab_stroke_black_750.height-350.width-10000.png
END:VEVENT
BEGIN:VEVENT
DTSTART;TZID=Europe/Berlin:20241224T180000
DTEND;TZID=Europe/Berlin:20241224T220000
DTSTAMP:20260423T154301
CREATED:20241106T105458Z
LAST-MODIFIED:20241108T190847Z
UID:10007816-1735063200-1735077600@katago-ev.de
SUMMARY:Flesh and Blood Armory
DESCRIPTION:Flesh and Blood Armory \n  \nDies ist ein öffentliches Event zu dem auch Spieler kommen können\, die kein Mitglied des Vereins sind.\nBitte beachtet\, dass es nur Mitgliedern gestattet wird eigene Getränke mitzubringen.\nAlle anderen bedienen sich bitte an den von uns angebotenen Getränken.
URL:https://katago-ev.de/event/flesh-and-blood-armory-27/2024-12-24
LOCATION:Vereinsheim 2 (Hegelstraße 11a)\, Hegelstraße 11a\, Bamberg\, Bayern\, 96052\, Germany
CATEGORIES:Flesh and Blood TCG
ATTACH;FMTTYPE=image/png:https://katago-ev.de/wp-content/uploads/2021/09/logo_fab_stroke_black_750.height-350.width-10000.png
END:VEVENT
BEGIN:VEVENT
DTSTART;TZID=Europe/Berlin:20241210T180000
DTEND;TZID=Europe/Berlin:20241210T220000
DTSTAMP:20260423T154301
CREATED:20241106T105458Z
LAST-MODIFIED:20241108T190847Z
UID:10007815-1733853600-1733868000@katago-ev.de
SUMMARY:Flesh and Blood Armory
DESCRIPTION:Flesh and Blood Armory \n  \nDies ist ein öffentliches Event zu dem auch Spieler kommen können\, die kein Mitglied des Vereins sind.\nBitte beachtet\, dass es nur Mitgliedern gestattet wird eigene Getränke mitzubringen.\nAlle anderen bedienen sich bitte an den von uns angebotenen Getränken.
URL:https://katago-ev.de/event/flesh-and-blood-armory-27/2024-12-10
LOCATION:Vereinsheim 2 (Hegelstraße 11a)\, Hegelstraße 11a\, Bamberg\, Bayern\, 96052\, Germany
CATEGORIES:Flesh and Blood TCG
ATTACH;FMTTYPE=image/png:https://katago-ev.de/wp-content/uploads/2021/09/logo_fab_stroke_black_750.height-350.width-10000.png
END:VEVENT
BEGIN:VEVENT
DTSTART;TZID=Europe/Berlin:20241126T180000
DTEND;TZID=Europe/Berlin:20241126T220000
DTSTAMP:20260423T154301
CREATED:20241106T105458Z
LAST-MODIFIED:20241108T190847Z
UID:10007814-1732644000-1732658400@katago-ev.de
SUMMARY:Flesh and Blood Armory
DESCRIPTION:Flesh and Blood Armory \n  \nDies ist ein öffentliches Event zu dem auch Spieler kommen können\, die kein Mitglied des Vereins sind.\nBitte beachtet\, dass es nur Mitgliedern gestattet wird eigene Getränke mitzubringen.\nAlle anderen bedienen sich bitte an den von uns angebotenen Getränken.
URL:https://katago-ev.de/event/flesh-and-blood-armory-27/2024-11-26
LOCATION:Vereinsheim 2 (Hegelstraße 11a)\, Hegelstraße 11a\, Bamberg\, Bayern\, 96052\, Germany
CATEGORIES:Flesh and Blood TCG
ATTACH;FMTTYPE=image/png:https://katago-ev.de/wp-content/uploads/2021/09/logo_fab_stroke_black_750.height-350.width-10000.png
END:VEVENT
BEGIN:VEVENT
DTSTART;TZID=Europe/Berlin:20241112T180000
DTEND;TZID=Europe/Berlin:20241112T220000
DTSTAMP:20260423T154301
CREATED:20241106T105458Z
LAST-MODIFIED:20241108T190847Z
UID:10007813-1731434400-1731448800@katago-ev.de
SUMMARY:Flesh and Blood Armory
DESCRIPTION:Flesh and Blood Armory \n  \nDies ist ein öffentliches Event zu dem auch Spieler kommen können\, die kein Mitglied des Vereins sind.\nBitte beachtet\, dass es nur Mitgliedern gestattet wird eigene Getränke mitzubringen.\nAlle anderen bedienen sich bitte an den von uns angebotenen Getränken.
URL:https://katago-ev.de/event/flesh-and-blood-armory-27/2024-11-12
LOCATION:Vereinsheim 2 (Hegelstraße 11a)\, Hegelstraße 11a\, Bamberg\, Bayern\, 96052\, Germany
CATEGORIES:Flesh and Blood TCG
ATTACH;FMTTYPE=image/png:https://katago-ev.de/wp-content/uploads/2021/09/logo_fab_stroke_black_750.height-350.width-10000.png
END:VEVENT
BEGIN:VEVENT
DTSTART;TZID=Europe/Berlin:20240915T100000
DTEND;TZID=Europe/Berlin:20240915T170000
DTSTAMP:20260423T154301
CREATED:20240617T115259Z
LAST-MODIFIED:20240617T115259Z
UID:10005585-1726394400-1726419600@katago-ev.de
SUMMARY:Flesh and Blood pre release Rosetta
DESCRIPTION:Flesh and Blood pre release Rosetta
URL:https://katago-ev.de/event/flesh-and-blood-pre-release-rosetta
LOCATION:Vereinsheim 1 (Hegelstraße 1a)\, Hegelstraße 1a\, Bamberg\, Bayern\, 96052\, Germany
CATEGORIES:Flesh and Blood TCG
ATTACH;FMTTYPE=image/png:https://katago-ev.de/wp-content/uploads/2021/09/logo_fab_stroke_black_750.height-350.width-10000.png
END:VEVENT
BEGIN:VEVENT
DTSTART;TZID=Europe/Berlin:20240526T110000
DTEND;TZID=Europe/Berlin:20240526T160000
DTSTAMP:20260423T154301
CREATED:20240330T145449Z
LAST-MODIFIED:20240418T131935Z
UID:10005257-1716721200-1716739200@katago-ev.de
SUMMARY:Flesh and Blood " Part the Mistveil Pre-Release"
DESCRIPTION:Wo?: Hegelstraße 1a\, 96052 Bamberg (Im Vereinsheim des KaTaGo e.V) \nDatum: 26.05.2024 \nZeit: Anmeldung 11:00 Uhr\, Start 11:15 Uhr\, bitte beachtet wir haben 2 Pre-Release an dem Tag im Anschluss findet ein weiteres Pre-Release nach kurzer Pause statt. \nFormat: Sealed Deck (8 Packs) \nEintritt: 35€ \nJeder Spieler erhält ein Part the Mistveil 10-card pre-release pack. Dieses enthält: \n1 random equipment (Rainbow Foil) Promo Card (14 different variants)\n1 random (Cold Foil) Promo Card (3 different variants)\n2  (Rainbow Foil Extended Art) Promo Cards\n6 Token Cards \nBitte meldet euch über folgendem Link an damit wir besser planen können. Zudem ist das Event auf 16 Spieler begrenzt! \nhttps://gem.fabtcg.com/gem/join/statuesque-herring/ \nHier handelt es sich um ein Öffentliches Event das für alle\, auch nicht Mitgliedern zugänglich ist.\nNicht-Mitgliedern ist nicht gestattet selbst Getränke mitzunehmen. Ihr könnt aber vor Ort Getränke erwerben.
URL:https://katago-ev.de/event/flesh-and-blood-part-the-mistveil-pre-release
LOCATION:Vereinsheim 1 (Hegelstraße 1a)\, Hegelstraße 1a\, Bamberg\, Bayern\, 96052\, Germany
CATEGORIES:Flesh and Blood TCG
ATTACH;FMTTYPE=image/png:https://katago-ev.de/wp-content/uploads/2021/09/logo_fab_stroke_black_750.height-350.width-10000.png
END:VEVENT
BEGIN:VEVENT
DTSTART;TZID=Europe/Berlin:20240225T093000
DTEND;TZID=Europe/Berlin:20240225T220000
DTSTAMP:20260423T154301
CREATED:20231201T151202Z
LAST-MODIFIED:20231216T101948Z
UID:10004300-1708853400-1708898400@katago-ev.de
SUMMARY:Flesh and Blood Comix Art  Road to Nationals
DESCRIPTION:Wann: 25.02.24 ab 9:30 Uhr Anmeldung\, 10:00 Uhr Start\nWo: Hegelstraße 1a\, 96052 Bamberg (Im Vereinsheim des KaTaGo e.V) \nFormat: Classic Constructed\nRundenanzahl: bis zu 5 Runden (nach Teilnehemeranzahl)\, anschließend Top Cut (bei mehr als 8 Spielern) \nStartgebühr: 35€ (Bezahlt wird nur vor Ort nur in Bar!)\nSpielercap: max. 32 \nPreise: \n1. Platz: 1x Random Drop Gold Cold Foil Card (Common or Rare or Majestic)\, 1x Road to Nationals 2024 Playmat\, 1x Rainbow Foil Hero Promo Card\, Quali für die Nationals 2024 \n2. Platz: 1x Road to Nationals 2024 Playmat\, 1x Rainbow Foil Hero Promo Card\, Quali für die Nationals 2024 \n3.-4. Platz: 1x Rainbow Foil Hero Promo Card\, Quali für die Nationals 2024 \n5.-8. Platz: 1x Rainbow Foil Hero Promo Card \nZudem erhält jeder Teilnehmer Booster je nach Platzierung. Keiner geht Leer aus! \nBei diesem Event handelt es sich um eine Möglichkeit euch für die kommenden Nationals zu Qualifizieren! \nDa es sich um ein Event auf competetive Level handelt seit ihr dazu verpflichtet eine Deckliste von eurem Deck mitzubringen. \nBitte meldet euch an da wir das Turnier auf 32 Spieler\, aufgrund von Platzmangel begrenzen müssen.\nBitte meldet euch auch wieder ab falls ihr doch nicht kommen könnt\, damit andere Spieler noch die Chance haben sich anzumelden. Dies könnt ihr machen indem ihr auf „Bereits angemeldet?“ neben den Anmelde button klickt. \nHier handelt es sich um ein Öffentliches Event das für alle\, auch nicht Mitgliedern zugänglich ist.\nNicht-Mitgliedern ist nicht gestattet selbst Getränke mitzunehmen. Ihr könnt aber vor Ort Getränke erwerben. \n 
URL:https://katago-ev.de/event/fab-blocker
LOCATION:Vereinsheim 1 (Hegelstraße 1a)\, Hegelstraße 1a\, Bamberg\, Bayern\, 96052\, Germany
CATEGORIES:Flesh and Blood TCG
ATTACH;FMTTYPE=image/png:https://katago-ev.de/wp-content/uploads/2021/09/logo_fab_stroke_black_750.height-350.width-10000.png
END:VEVENT
BEGIN:VEVENT
DTSTART;TZID=Europe/Berlin:20240128T110000
DTEND;TZID=Europe/Berlin:20240128T170000
DTSTAMP:20260423T154301
CREATED:20231123T194437Z
LAST-MODIFIED:20231216T102302Z
UID:10004284-1706439600-1706461200@katago-ev.de
SUMMARY:Flesh and Blood PreRelease Heavy Hitters
DESCRIPTION:Wo?: Hegelstraße 1a\, 96052 Bamberg (Im Vereinsheim des KaTaGo e.V) \nDatum: 28.01.2024 \nZeit: Anmeldung 11:00 Uhr\, Start 11:15 Uhr \nEintritt: 30€ \nJeder Spieler erhält ein Heavy Hitters 9-card pre-release pack. Dieses enthält: \n1 Extended Art Cold Foil Promo Card (Card to be revealed soon)\n2 Rainbow Foil Double Faced Token Promo Cards (Cards to be revealed soon)\n6 Hero/Weapon Tokens \nBitte meldet euch an damit wir besser planen können. \nHier handelt es sich um ein Öffentliches Event das für alle\, auch nicht Mitgliedern zugänglich ist.\nNicht-Mitgliedern ist nicht gestattet selbst Getränke mitzunehmen. Ihr könnt aber vor Ort Getränke erwerben.
URL:https://katago-ev.de/event/fab-prerelease-heavy-hitters
LOCATION:Vereinsheim 1 (Hegelstraße 1a)\, Hegelstraße 1a\, Bamberg\, Bayern\, 96052\, Germany
CATEGORIES:Flesh and Blood TCG
ATTACH;FMTTYPE=image/png:https://katago-ev.de/wp-content/uploads/2021/09/logo_fab_stroke_black_750.height-350.width-10000.png
END:VEVENT
BEGIN:VEVENT
DTSTART;TZID=Europe/Berlin:20231126T100000
DTEND;TZID=Europe/Berlin:20231126T140000
DTSTAMP:20260423T154301
CREATED:20231109T190730Z
LAST-MODIFIED:20231109T190731Z
UID:10004270-1700992800-1701007200@katago-ev.de
SUMMARY:Flesh and Blood Skirmish
DESCRIPTION:Wann: 26.11.23 10:00 Uhr\nWo: Hegelstraße 1a 96052 Bamberg (Im Vereinsheim des KaTaGo e.V)\nFormat: Bright Lights Sealed Deck\, Swiss System\nRundenanzahl: 3-6 Runden je nach Teilnehemeranzahl\, anschließend Top Cut (bei mehr als 8 Spielern)\nStartgebühr: 32€ \nPreise: \n1.Platz:\n1x Teklo Core (Cold Foil)\, 1x „Ironsong Versus“ Spielmatte \n2. Platz:\n1x „Ironsong Versus“ Spielmatte \nJeder Teilnehmer erhält zusätzlich RF Promokarten und Booster je nach Teilnehmerzahl und Platzierung. Zudem Werden 2 Teklo Core (Cold Foil) unter allen Teilnehmenden verlost. \nBitte meldet euch an damit wir besser planen können. (nicht Pflicht aber wünschenswert) \nHier handelt es sich um ein Öffentliches Event das für alle\, auch nicht Mitgliedern zugänglich ist.\nNicht-Mitgliedern ist nicht gestattet selbst Getränke mitzunehmen. Ihr könnt aber vor Ort Getränke erwerben.
URL:https://katago-ev.de/event/flesh-and-blood-skirmish
LOCATION:Vereinsheim 1 (Hegelstraße 1a)\, Hegelstraße 1a\, Bamberg\, Bayern\, 96052\, Germany
CATEGORIES:Flesh and Blood TCG
ATTACH;FMTTYPE=image/png:https://katago-ev.de/wp-content/uploads/2021/09/logo_fab_stroke_black_750.height-350.width-10000.png
END:VEVENT
BEGIN:VEVENT
DTSTART;TZID=Europe/Berlin:20231001T100000
DTEND;TZID=Europe/Berlin:20231001T170000
DTSTAMP:20260423T154301
CREATED:20230802T194218Z
LAST-MODIFIED:20230929T065838Z
UID:10003836-1696154400-1696179600@katago-ev.de
SUMMARY:Flesh and Blood PreRelease bright lights
DESCRIPTION:Flesh and Blood PreRelease bright lights
URL:https://katago-ev.de/event/fab-blocker-prerelease
LOCATION:Vereinsheim 1 (Hegelstraße 1a)\, Hegelstraße 1a\, Bamberg\, Bayern\, 96052\, Germany
CATEGORIES:Flesh and Blood TCG
ATTACH;FMTTYPE=image/png:https://katago-ev.de/wp-content/uploads/2021/09/logo_fab_stroke_black_750.height-350.width-10000.png
END:VEVENT
BEGIN:VEVENT
DTSTART;TZID=Europe/Berlin:20230916T180000
DTEND;TZID=Europe/Berlin:20230916T220000
DTSTAMP:20260423T154302
CREATED:20230913T063109Z
LAST-MODIFIED:20230913T063109Z
UID:10003944-1694887200-1694901600@katago-ev.de
SUMMARY:Flesh and Blood Armory Commoner
DESCRIPTION:Flesh and Blood Armory Commoner
URL:https://katago-ev.de/event/flesh-and-blood-armory-commoner-2
LOCATION:Vereinsheim 1 (Hegelstraße 1a)\, Hegelstraße 1a\, Bamberg\, Bayern\, 96052\, Germany
CATEGORIES:Flesh and Blood TCG
ATTACH;FMTTYPE=image/png:https://katago-ev.de/wp-content/uploads/2021/09/logo_fab_stroke_black_750.height-350.width-10000.png
END:VEVENT
BEGIN:VEVENT
DTSTART;TZID=Europe/Berlin:20230829T163000
DTEND;TZID=Europe/Berlin:20230829T200000
DTSTAMP:20260423T154302
CREATED:20230827T113728Z
LAST-MODIFIED:20230827T113728Z
UID:10003863-1693326600-1693339200@katago-ev.de
SUMMARY:Flesh and Blood Armory Commoner
DESCRIPTION:Flesh and Blood Armory Commoner
URL:https://katago-ev.de/event/flesh-and-blood-armory-commoner
LOCATION:Vereinsheim 1 (Hegelstraße 1a)\, Hegelstraße 1a\, Bamberg\, Bayern\, 96052\, Germany
CATEGORIES:Flesh and Blood TCG
ATTACH;FMTTYPE=image/png:https://katago-ev.de/wp-content/uploads/2021/09/logo_fab_stroke_black_750.height-350.width-10000.png
END:VEVENT
BEGIN:VEVENT
DTSTART;TZID=Europe/Berlin:20230812T180000
DTEND;TZID=Europe/Berlin:20230812T220000
DTSTAMP:20260423T154302
CREATED:20230808T122917Z
LAST-MODIFIED:20230808T123242Z
UID:10003842-1691863200-1691877600@katago-ev.de
SUMMARY:Flesh and Blood Commoner
DESCRIPTION:Wo?: Hegelstraße 1a\, 96052 Bamberg (Im Vereinsheim des KaTaGo e.V) \nDatum: 12.08.2023 \nZeit: Anmeldung 18:00 Uhr\, Start 18:15 Uhr \nEintritt: Frei! \nPreise werden aus dem aktuellen Armory-Kit nach LSS Richtlinien verteilt. \nBitte meldet euch an damit wir besser planen können. (nicht Pflicht aber wünschenswert) \nHier handelt es sich um ein Öffentliches Event das für alle\, auch nicht Mitgliedern zugänglich ist.\nNicht-Mitgliedern ist nicht gestattet selbst Getränke mitzunehmen. Ihr könnt aber vor Ort Getränke erwerben. \nDa wir ein Event für Anfänger als auch für Veteranen veranstalten wollen ist es Spielern\, die gegeneinander gematcht werden auch gestattet\, stattdessen CC oder Blitz zu spielen\, falls beide zustimmen. Aber hauptsächlich ist das als Commoner Event gedacht.
URL:https://katago-ev.de/event/flesh-and-blood-commoner
LOCATION:Vereinsheim 1 (Hegelstraße 1a)\, Hegelstraße 1a\, Bamberg\, Bayern\, 96052\, Germany
CATEGORIES:Flesh and Blood TCG
ATTACH;FMTTYPE=image/png:https://katago-ev.de/wp-content/uploads/2021/09/logo_fab_stroke_black_750.height-350.width-10000.png
END:VEVENT
BEGIN:VEVENT
DTSTART;TZID=Europe/Berlin:20230805T160000
DTEND;TZID=Europe/Berlin:20230805T220000
DTSTAMP:20260423T154302
CREATED:20230731T110831Z
LAST-MODIFIED:20230801T152850Z
UID:10003820-1691251200-1691272800@katago-ev.de
SUMMARY:FaB Armory Commoner
DESCRIPTION:Wo?: Hegelstraße 1a\, 96052 Bamberg (Im Vereinsheim des KaTaGo e.V) \nDatum: 05.08.2023 \nZeit: Anmeldung 16:00 Uhr\, Start 16:15 Uhr \nEintritt: Frei! \nPreise werden aus dem aktuellen Armory-Kit nach LSS Richtlinien verteilt. \nBitte meldet euch an damit wir besser planen können. (nicht Pflicht aber wünschenswert) \nHier handelt es sich um ein Öffentliches Event das für alle\, auch nicht Mitgliedern zugänglich ist.\nNicht-Mitgliedern ist nicht gestattet selbst Getränke mitzunehmen. Ihr könnt aber vor Ort Getränke erwerben. \nDa wir ein Event für Anfänger als auch für Veteranen veranstalten wollen ist es Spielern\, die gegeneinander gematcht werden auch gestattet\, stattdessen CC oder Blitz zu spielen\, falls beide zustimmen. Aber hauptsächlich ist das als Commoner Event gedacht.
URL:https://katago-ev.de/event/fab-armory-commoner
LOCATION:Vereinsheim 1 (Hegelstraße 1a)\, Hegelstraße 1a\, Bamberg\, Bayern\, 96052\, Germany
CATEGORIES:Flesh and Blood TCG
ATTACH;FMTTYPE=image/png:https://katago-ev.de/wp-content/uploads/2021/09/logo_fab_stroke_black_750.height-350.width-10000.png
END:VEVENT
END:VCALENDAR