BEGIN:VCALENDAR
VERSION:2.0
PRODID:-//katago-ev.de - ECPv6.15.0.1//NONSGML v1.0//EN
CALSCALE:GREGORIAN
METHOD:PUBLISH
X-WR-CALNAME:katago-ev.de
X-ORIGINAL-URL:https://katago-ev.de
X-WR-CALDESC:Veranstaltungen für katago-ev.de
REFRESH-INTERVAL;VALUE=DURATION:PT1H
X-Robots-Tag:noindex
X-PUBLISHED-TTL:PT1H
BEGIN:VTIMEZONE
TZID:Europe/Berlin
BEGIN:DAYLIGHT
TZOFFSETFROM:+0100
TZOFFSETTO:+0200
TZNAME:CEST
DTSTART:20240331T010000
END:DAYLIGHT
BEGIN:STANDARD
TZOFFSETFROM:+0200
TZOFFSETTO:+0100
TZNAME:CET
DTSTART:20241027T010000
END:STANDARD
BEGIN:DAYLIGHT
TZOFFSETFROM:+0100
TZOFFSETTO:+0200
TZNAME:CEST
DTSTART:20250330T010000
END:DAYLIGHT
BEGIN:STANDARD
TZOFFSETFROM:+0200
TZOFFSETTO:+0100
TZNAME:CET
DTSTART:20251026T010000
END:STANDARD
END:VTIMEZONE
BEGIN:VEVENT
DTSTART;TZID=Europe/Berlin:20250101T141500
DTEND;TZID=Europe/Berlin:20250101T180000
DTSTAMP:20260422T020243
CREATED:20240626T205520Z
LAST-MODIFIED:20240626T205520Z
UID:10006080-1735740900-1735754400@katago-ev.de
SUMMARY:Robotikkurs für Kinder - Liga der Roboter
DESCRIPTION:Externe Veranstaltung \nWeitere Infos unter  https://ligaderroboter.de/
URL:https://katago-ev.de/event/robotikkurs-fuer-kinder-liga-der-roboter-4/2025-01-01
LOCATION:Vereinsheim 2 (Hegelstraße 11a)\, Hegelstraße 11a\, Bamberg\, Bayern\, 96052\, Germany
ATTACH;FMTTYPE=image/png:https://katago-ev.de/wp-content/uploads/2024/06/LDR.png
ORGANIZER;CN="Liga der Roboter":MAILTO:kontakt@ligaderroboter.de
END:VEVENT
BEGIN:VEVENT
DTSTART;TZID=Europe/Berlin:20241230T143000
DTEND;TZID=Europe/Berlin:20241230T190000
DTSTAMP:20260422T020243
CREATED:20240626T210126Z
LAST-MODIFIED:20240626T210437Z
UID:10006211-1735569000-1735585200@katago-ev.de
SUMMARY:Robotikkurs für Kinder - Liga der Roboter
DESCRIPTION:Externe Veranstaltung \nWeitere Infos unter  https://ligaderroboter.de/
URL:https://katago-ev.de/event/robotikkurs-fuer-kinder-liga-der-roboter-5/2024-12-30
LOCATION:Vereinsheim 2 (Hegelstraße 11a)\, Hegelstraße 11a\, Bamberg\, Bayern\, 96052\, Germany
ATTACH;FMTTYPE=image/png:https://katago-ev.de/wp-content/uploads/2024/06/LDR.png
ORGANIZER;CN="Liga der Roboter":MAILTO:kontakt@ligaderroboter.de
END:VEVENT
BEGIN:VEVENT
DTSTART;TZID=Europe/Berlin:20241228T083000
DTEND;TZID=Europe/Berlin:20241228T150000
DTSTAMP:20260422T020243
CREATED:20240626T204120Z
LAST-MODIFIED:20240626T205219Z
UID:10006018-1735374600-1735398000@katago-ev.de
SUMMARY:Robotikkurs für Kinder - Liga der Roboter
DESCRIPTION:Externe Veranstaltung \nWeitere Infos unter  https://ligaderroboter.de/
URL:https://katago-ev.de/event/robotikkurs-fuer-kinder-liga-der-roboter-3/2024-12-28
LOCATION:Vereinsheim 2 (Hegelstraße 11a)\, Hegelstraße 11a\, Bamberg\, Bayern\, 96052\, Germany
ATTACH;FMTTYPE=image/png:https://katago-ev.de/wp-content/uploads/2024/06/LDR.png
ORGANIZER;CN="Liga der Roboter":MAILTO:kontakt@ligaderroboter.de
END:VEVENT
BEGIN:VEVENT
DTSTART;TZID=Europe/Berlin:20241225T141500
DTEND;TZID=Europe/Berlin:20241225T180000
DTSTAMP:20260422T020243
CREATED:20240626T205520Z
LAST-MODIFIED:20240626T205520Z
UID:10006079-1735136100-1735149600@katago-ev.de
SUMMARY:Robotikkurs für Kinder - Liga der Roboter
DESCRIPTION:Externe Veranstaltung \nWeitere Infos unter  https://ligaderroboter.de/
URL:https://katago-ev.de/event/robotikkurs-fuer-kinder-liga-der-roboter-4/2024-12-25
LOCATION:Vereinsheim 2 (Hegelstraße 11a)\, Hegelstraße 11a\, Bamberg\, Bayern\, 96052\, Germany
ATTACH;FMTTYPE=image/png:https://katago-ev.de/wp-content/uploads/2024/06/LDR.png
ORGANIZER;CN="Liga der Roboter":MAILTO:kontakt@ligaderroboter.de
END:VEVENT
BEGIN:VEVENT
DTSTART;TZID=Europe/Berlin:20241223T143000
DTEND;TZID=Europe/Berlin:20241223T190000
DTSTAMP:20260422T020243
CREATED:20240626T210126Z
LAST-MODIFIED:20240626T210437Z
UID:10006210-1734964200-1734980400@katago-ev.de
SUMMARY:Robotikkurs für Kinder - Liga der Roboter
DESCRIPTION:Externe Veranstaltung \nWeitere Infos unter  https://ligaderroboter.de/
URL:https://katago-ev.de/event/robotikkurs-fuer-kinder-liga-der-roboter-5/2024-12-23
LOCATION:Vereinsheim 2 (Hegelstraße 11a)\, Hegelstraße 11a\, Bamberg\, Bayern\, 96052\, Germany
ATTACH;FMTTYPE=image/png:https://katago-ev.de/wp-content/uploads/2024/06/LDR.png
ORGANIZER;CN="Liga der Roboter":MAILTO:kontakt@ligaderroboter.de
END:VEVENT
BEGIN:VEVENT
DTSTART;TZID=Europe/Berlin:20241221T083000
DTEND;TZID=Europe/Berlin:20241221T150000
DTSTAMP:20260422T020243
CREATED:20240626T204120Z
LAST-MODIFIED:20240626T205219Z
UID:10006017-1734769800-1734793200@katago-ev.de
SUMMARY:Robotikkurs für Kinder - Liga der Roboter
DESCRIPTION:Externe Veranstaltung \nWeitere Infos unter  https://ligaderroboter.de/
URL:https://katago-ev.de/event/robotikkurs-fuer-kinder-liga-der-roboter-3/2024-12-21
LOCATION:Vereinsheim 2 (Hegelstraße 11a)\, Hegelstraße 11a\, Bamberg\, Bayern\, 96052\, Germany
ATTACH;FMTTYPE=image/png:https://katago-ev.de/wp-content/uploads/2024/06/LDR.png
ORGANIZER;CN="Liga der Roboter":MAILTO:kontakt@ligaderroboter.de
END:VEVENT
BEGIN:VEVENT
DTSTART;TZID=Europe/Berlin:20241218T141500
DTEND;TZID=Europe/Berlin:20241218T180000
DTSTAMP:20260422T020243
CREATED:20240626T205520Z
LAST-MODIFIED:20240626T205520Z
UID:10006078-1734531300-1734544800@katago-ev.de
SUMMARY:Robotikkurs für Kinder - Liga der Roboter
DESCRIPTION:Externe Veranstaltung \nWeitere Infos unter  https://ligaderroboter.de/
URL:https://katago-ev.de/event/robotikkurs-fuer-kinder-liga-der-roboter-4/2024-12-18
LOCATION:Vereinsheim 2 (Hegelstraße 11a)\, Hegelstraße 11a\, Bamberg\, Bayern\, 96052\, Germany
ATTACH;FMTTYPE=image/png:https://katago-ev.de/wp-content/uploads/2024/06/LDR.png
ORGANIZER;CN="Liga der Roboter":MAILTO:kontakt@ligaderroboter.de
END:VEVENT
BEGIN:VEVENT
DTSTART;TZID=Europe/Berlin:20241216T143000
DTEND;TZID=Europe/Berlin:20241216T190000
DTSTAMP:20260422T020243
CREATED:20240626T210126Z
LAST-MODIFIED:20240626T210437Z
UID:10006209-1734359400-1734375600@katago-ev.de
SUMMARY:Robotikkurs für Kinder - Liga der Roboter
DESCRIPTION:Externe Veranstaltung \nWeitere Infos unter  https://ligaderroboter.de/
URL:https://katago-ev.de/event/robotikkurs-fuer-kinder-liga-der-roboter-5/2024-12-16
LOCATION:Vereinsheim 2 (Hegelstraße 11a)\, Hegelstraße 11a\, Bamberg\, Bayern\, 96052\, Germany
ATTACH;FMTTYPE=image/png:https://katago-ev.de/wp-content/uploads/2024/06/LDR.png
ORGANIZER;CN="Liga der Roboter":MAILTO:kontakt@ligaderroboter.de
END:VEVENT
BEGIN:VEVENT
DTSTART;TZID=Europe/Berlin:20241214T083000
DTEND;TZID=Europe/Berlin:20241214T150000
DTSTAMP:20260422T020243
CREATED:20240626T204120Z
LAST-MODIFIED:20240626T205219Z
UID:10006016-1734165000-1734188400@katago-ev.de
SUMMARY:Robotikkurs für Kinder - Liga der Roboter
DESCRIPTION:Externe Veranstaltung \nWeitere Infos unter  https://ligaderroboter.de/
URL:https://katago-ev.de/event/robotikkurs-fuer-kinder-liga-der-roboter-3/2024-12-14
LOCATION:Vereinsheim 2 (Hegelstraße 11a)\, Hegelstraße 11a\, Bamberg\, Bayern\, 96052\, Germany
ATTACH;FMTTYPE=image/png:https://katago-ev.de/wp-content/uploads/2024/06/LDR.png
ORGANIZER;CN="Liga der Roboter":MAILTO:kontakt@ligaderroboter.de
END:VEVENT
BEGIN:VEVENT
DTSTART;TZID=Europe/Berlin:20241211T141500
DTEND;TZID=Europe/Berlin:20241211T180000
DTSTAMP:20260422T020243
CREATED:20240626T205520Z
LAST-MODIFIED:20240626T205520Z
UID:10006077-1733926500-1733940000@katago-ev.de
SUMMARY:Robotikkurs für Kinder - Liga der Roboter
DESCRIPTION:Externe Veranstaltung \nWeitere Infos unter  https://ligaderroboter.de/
URL:https://katago-ev.de/event/robotikkurs-fuer-kinder-liga-der-roboter-4/2024-12-11
LOCATION:Vereinsheim 2 (Hegelstraße 11a)\, Hegelstraße 11a\, Bamberg\, Bayern\, 96052\, Germany
ATTACH;FMTTYPE=image/png:https://katago-ev.de/wp-content/uploads/2024/06/LDR.png
ORGANIZER;CN="Liga der Roboter":MAILTO:kontakt@ligaderroboter.de
END:VEVENT
BEGIN:VEVENT
DTSTART;TZID=Europe/Berlin:20241209T143000
DTEND;TZID=Europe/Berlin:20241209T190000
DTSTAMP:20260422T020243
CREATED:20240626T210126Z
LAST-MODIFIED:20240626T210437Z
UID:10006208-1733754600-1733770800@katago-ev.de
SUMMARY:Robotikkurs für Kinder - Liga der Roboter
DESCRIPTION:Externe Veranstaltung \nWeitere Infos unter  https://ligaderroboter.de/
URL:https://katago-ev.de/event/robotikkurs-fuer-kinder-liga-der-roboter-5/2024-12-09
LOCATION:Vereinsheim 2 (Hegelstraße 11a)\, Hegelstraße 11a\, Bamberg\, Bayern\, 96052\, Germany
ATTACH;FMTTYPE=image/png:https://katago-ev.de/wp-content/uploads/2024/06/LDR.png
ORGANIZER;CN="Liga der Roboter":MAILTO:kontakt@ligaderroboter.de
END:VEVENT
BEGIN:VEVENT
DTSTART;TZID=Europe/Berlin:20241207T083000
DTEND;TZID=Europe/Berlin:20241207T150000
DTSTAMP:20260422T020243
CREATED:20240626T204120Z
LAST-MODIFIED:20240626T205219Z
UID:10006015-1733560200-1733583600@katago-ev.de
SUMMARY:Robotikkurs für Kinder - Liga der Roboter
DESCRIPTION:Externe Veranstaltung \nWeitere Infos unter  https://ligaderroboter.de/
URL:https://katago-ev.de/event/robotikkurs-fuer-kinder-liga-der-roboter-3/2024-12-07
LOCATION:Vereinsheim 2 (Hegelstraße 11a)\, Hegelstraße 11a\, Bamberg\, Bayern\, 96052\, Germany
ATTACH;FMTTYPE=image/png:https://katago-ev.de/wp-content/uploads/2024/06/LDR.png
ORGANIZER;CN="Liga der Roboter":MAILTO:kontakt@ligaderroboter.de
END:VEVENT
BEGIN:VEVENT
DTSTART;TZID=Europe/Berlin:20241204T141500
DTEND;TZID=Europe/Berlin:20241204T180000
DTSTAMP:20260422T020243
CREATED:20240626T205520Z
LAST-MODIFIED:20240626T205520Z
UID:10006076-1733321700-1733335200@katago-ev.de
SUMMARY:Robotikkurs für Kinder - Liga der Roboter
DESCRIPTION:Externe Veranstaltung \nWeitere Infos unter  https://ligaderroboter.de/
URL:https://katago-ev.de/event/robotikkurs-fuer-kinder-liga-der-roboter-4/2024-12-04
LOCATION:Vereinsheim 2 (Hegelstraße 11a)\, Hegelstraße 11a\, Bamberg\, Bayern\, 96052\, Germany
ATTACH;FMTTYPE=image/png:https://katago-ev.de/wp-content/uploads/2024/06/LDR.png
ORGANIZER;CN="Liga der Roboter":MAILTO:kontakt@ligaderroboter.de
END:VEVENT
BEGIN:VEVENT
DTSTART;TZID=Europe/Berlin:20241202T143000
DTEND;TZID=Europe/Berlin:20241202T190000
DTSTAMP:20260422T020243
CREATED:20240626T210126Z
LAST-MODIFIED:20240626T210437Z
UID:10006207-1733149800-1733166000@katago-ev.de
SUMMARY:Robotikkurs für Kinder - Liga der Roboter
DESCRIPTION:Externe Veranstaltung \nWeitere Infos unter  https://ligaderroboter.de/
URL:https://katago-ev.de/event/robotikkurs-fuer-kinder-liga-der-roboter-5/2024-12-02
LOCATION:Vereinsheim 2 (Hegelstraße 11a)\, Hegelstraße 11a\, Bamberg\, Bayern\, 96052\, Germany
ATTACH;FMTTYPE=image/png:https://katago-ev.de/wp-content/uploads/2024/06/LDR.png
ORGANIZER;CN="Liga der Roboter":MAILTO:kontakt@ligaderroboter.de
END:VEVENT
BEGIN:VEVENT
DTSTART;TZID=Europe/Berlin:20241130T083000
DTEND;TZID=Europe/Berlin:20241130T150000
DTSTAMP:20260422T020243
CREATED:20240626T204120Z
LAST-MODIFIED:20240626T205219Z
UID:10006014-1732955400-1732978800@katago-ev.de
SUMMARY:Robotikkurs für Kinder - Liga der Roboter
DESCRIPTION:Externe Veranstaltung \nWeitere Infos unter  https://ligaderroboter.de/
URL:https://katago-ev.de/event/robotikkurs-fuer-kinder-liga-der-roboter-3/2024-11-30
LOCATION:Vereinsheim 2 (Hegelstraße 11a)\, Hegelstraße 11a\, Bamberg\, Bayern\, 96052\, Germany
ATTACH;FMTTYPE=image/png:https://katago-ev.de/wp-content/uploads/2024/06/LDR.png
ORGANIZER;CN="Liga der Roboter":MAILTO:kontakt@ligaderroboter.de
END:VEVENT
BEGIN:VEVENT
DTSTART;TZID=Europe/Berlin:20241127T141500
DTEND;TZID=Europe/Berlin:20241127T180000
DTSTAMP:20260422T020243
CREATED:20240626T205520Z
LAST-MODIFIED:20240626T205520Z
UID:10006075-1732716900-1732730400@katago-ev.de
SUMMARY:Robotikkurs für Kinder - Liga der Roboter
DESCRIPTION:Externe Veranstaltung \nWeitere Infos unter  https://ligaderroboter.de/
URL:https://katago-ev.de/event/robotikkurs-fuer-kinder-liga-der-roboter-4/2024-11-27
LOCATION:Vereinsheim 2 (Hegelstraße 11a)\, Hegelstraße 11a\, Bamberg\, Bayern\, 96052\, Germany
ATTACH;FMTTYPE=image/png:https://katago-ev.de/wp-content/uploads/2024/06/LDR.png
ORGANIZER;CN="Liga der Roboter":MAILTO:kontakt@ligaderroboter.de
END:VEVENT
BEGIN:VEVENT
DTSTART;TZID=Europe/Berlin:20241126T160000
DTEND;TZID=Europe/Berlin:20241126T180000
DTSTAMP:20260422T020243
CREATED:20241118T125730Z
LAST-MODIFIED:20241118T125730Z
UID:10007905-1732636800-1732644000@katago-ev.de
SUMMARY:Robotikkurs für Kinder - Liga der Roboter
DESCRIPTION:Externe Veranstaltung \nWeitere Infos unter  https://ligaderroboter.de/
URL:https://katago-ev.de/event/robotikkurs-fuer-kinder-liga-der-roboter-6
LOCATION:Vereinsheim 2 (Hegelstraße 11a)\, Hegelstraße 11a\, Bamberg\, Bayern\, 96052\, Germany
ATTACH;FMTTYPE=image/png:https://katago-ev.de/wp-content/uploads/2024/06/LDR.png
ORGANIZER;CN="Liga der Roboter":MAILTO:kontakt@ligaderroboter.de
END:VEVENT
BEGIN:VEVENT
DTSTART;TZID=Europe/Berlin:20241125T143000
DTEND;TZID=Europe/Berlin:20241125T190000
DTSTAMP:20260422T020243
CREATED:20240626T210126Z
LAST-MODIFIED:20240626T210437Z
UID:10006206-1732545000-1732561200@katago-ev.de
SUMMARY:Robotikkurs für Kinder - Liga der Roboter
DESCRIPTION:Externe Veranstaltung \nWeitere Infos unter  https://ligaderroboter.de/
URL:https://katago-ev.de/event/robotikkurs-fuer-kinder-liga-der-roboter-5/2024-11-25
LOCATION:Vereinsheim 2 (Hegelstraße 11a)\, Hegelstraße 11a\, Bamberg\, Bayern\, 96052\, Germany
ATTACH;FMTTYPE=image/png:https://katago-ev.de/wp-content/uploads/2024/06/LDR.png
ORGANIZER;CN="Liga der Roboter":MAILTO:kontakt@ligaderroboter.de
END:VEVENT
BEGIN:VEVENT
DTSTART;TZID=Europe/Berlin:20241123T083000
DTEND;TZID=Europe/Berlin:20241123T150000
DTSTAMP:20260422T020243
CREATED:20240626T204120Z
LAST-MODIFIED:20240626T205219Z
UID:10006013-1732350600-1732374000@katago-ev.de
SUMMARY:Robotikkurs für Kinder - Liga der Roboter
DESCRIPTION:Externe Veranstaltung \nWeitere Infos unter  https://ligaderroboter.de/
URL:https://katago-ev.de/event/robotikkurs-fuer-kinder-liga-der-roboter-3/2024-11-23
LOCATION:Vereinsheim 2 (Hegelstraße 11a)\, Hegelstraße 11a\, Bamberg\, Bayern\, 96052\, Germany
ATTACH;FMTTYPE=image/png:https://katago-ev.de/wp-content/uploads/2024/06/LDR.png
ORGANIZER;CN="Liga der Roboter":MAILTO:kontakt@ligaderroboter.de
END:VEVENT
BEGIN:VEVENT
DTSTART;TZID=Europe/Berlin:20241120T141500
DTEND;TZID=Europe/Berlin:20241120T180000
DTSTAMP:20260422T020243
CREATED:20240626T205520Z
LAST-MODIFIED:20240626T205520Z
UID:10006074-1732112100-1732125600@katago-ev.de
SUMMARY:Robotikkurs für Kinder - Liga der Roboter
DESCRIPTION:Externe Veranstaltung \nWeitere Infos unter  https://ligaderroboter.de/
URL:https://katago-ev.de/event/robotikkurs-fuer-kinder-liga-der-roboter-4/2024-11-20
LOCATION:Vereinsheim 2 (Hegelstraße 11a)\, Hegelstraße 11a\, Bamberg\, Bayern\, 96052\, Germany
ATTACH;FMTTYPE=image/png:https://katago-ev.de/wp-content/uploads/2024/06/LDR.png
ORGANIZER;CN="Liga der Roboter":MAILTO:kontakt@ligaderroboter.de
END:VEVENT
BEGIN:VEVENT
DTSTART;TZID=Europe/Berlin:20241118T143000
DTEND;TZID=Europe/Berlin:20241118T190000
DTSTAMP:20260422T020243
CREATED:20240626T210126Z
LAST-MODIFIED:20240626T210437Z
UID:10006205-1731940200-1731956400@katago-ev.de
SUMMARY:Robotikkurs für Kinder - Liga der Roboter
DESCRIPTION:Externe Veranstaltung \nWeitere Infos unter  https://ligaderroboter.de/
URL:https://katago-ev.de/event/robotikkurs-fuer-kinder-liga-der-roboter-5/2024-11-18
LOCATION:Vereinsheim 2 (Hegelstraße 11a)\, Hegelstraße 11a\, Bamberg\, Bayern\, 96052\, Germany
ATTACH;FMTTYPE=image/png:https://katago-ev.de/wp-content/uploads/2024/06/LDR.png
ORGANIZER;CN="Liga der Roboter":MAILTO:kontakt@ligaderroboter.de
END:VEVENT
BEGIN:VEVENT
DTSTART;TZID=Europe/Berlin:20241116T083000
DTEND;TZID=Europe/Berlin:20241116T150000
DTSTAMP:20260422T020243
CREATED:20240626T204120Z
LAST-MODIFIED:20240626T205219Z
UID:10006012-1731745800-1731769200@katago-ev.de
SUMMARY:Robotikkurs für Kinder - Liga der Roboter
DESCRIPTION:Externe Veranstaltung \nWeitere Infos unter  https://ligaderroboter.de/
URL:https://katago-ev.de/event/robotikkurs-fuer-kinder-liga-der-roboter-3/2024-11-16
LOCATION:Vereinsheim 2 (Hegelstraße 11a)\, Hegelstraße 11a\, Bamberg\, Bayern\, 96052\, Germany
ATTACH;FMTTYPE=image/png:https://katago-ev.de/wp-content/uploads/2024/06/LDR.png
ORGANIZER;CN="Liga der Roboter":MAILTO:kontakt@ligaderroboter.de
END:VEVENT
BEGIN:VEVENT
DTSTART;TZID=Europe/Berlin:20241113T141500
DTEND;TZID=Europe/Berlin:20241113T180000
DTSTAMP:20260422T020243
CREATED:20240626T205520Z
LAST-MODIFIED:20240626T205520Z
UID:10006073-1731507300-1731520800@katago-ev.de
SUMMARY:Robotikkurs für Kinder - Liga der Roboter
DESCRIPTION:Externe Veranstaltung \nWeitere Infos unter  https://ligaderroboter.de/
URL:https://katago-ev.de/event/robotikkurs-fuer-kinder-liga-der-roboter-4/2024-11-13
LOCATION:Vereinsheim 2 (Hegelstraße 11a)\, Hegelstraße 11a\, Bamberg\, Bayern\, 96052\, Germany
ATTACH;FMTTYPE=image/png:https://katago-ev.de/wp-content/uploads/2024/06/LDR.png
ORGANIZER;CN="Liga der Roboter":MAILTO:kontakt@ligaderroboter.de
END:VEVENT
BEGIN:VEVENT
DTSTART;TZID=Europe/Berlin:20241111T143000
DTEND;TZID=Europe/Berlin:20241111T190000
DTSTAMP:20260422T020243
CREATED:20240626T210126Z
LAST-MODIFIED:20240626T210437Z
UID:10006204-1731335400-1731351600@katago-ev.de
SUMMARY:Robotikkurs für Kinder - Liga der Roboter
DESCRIPTION:Externe Veranstaltung \nWeitere Infos unter  https://ligaderroboter.de/
URL:https://katago-ev.de/event/robotikkurs-fuer-kinder-liga-der-roboter-5/2024-11-11
LOCATION:Vereinsheim 2 (Hegelstraße 11a)\, Hegelstraße 11a\, Bamberg\, Bayern\, 96052\, Germany
ATTACH;FMTTYPE=image/png:https://katago-ev.de/wp-content/uploads/2024/06/LDR.png
ORGANIZER;CN="Liga der Roboter":MAILTO:kontakt@ligaderroboter.de
END:VEVENT
BEGIN:VEVENT
DTSTART;TZID=Europe/Berlin:20241109T083000
DTEND;TZID=Europe/Berlin:20241109T150000
DTSTAMP:20260422T020243
CREATED:20240626T204120Z
LAST-MODIFIED:20240626T205219Z
UID:10006011-1731141000-1731164400@katago-ev.de
SUMMARY:Robotikkurs für Kinder - Liga der Roboter
DESCRIPTION:Externe Veranstaltung \nWeitere Infos unter  https://ligaderroboter.de/
URL:https://katago-ev.de/event/robotikkurs-fuer-kinder-liga-der-roboter-3/2024-11-09
LOCATION:Vereinsheim 2 (Hegelstraße 11a)\, Hegelstraße 11a\, Bamberg\, Bayern\, 96052\, Germany
ATTACH;FMTTYPE=image/png:https://katago-ev.de/wp-content/uploads/2024/06/LDR.png
ORGANIZER;CN="Liga der Roboter":MAILTO:kontakt@ligaderroboter.de
END:VEVENT
BEGIN:VEVENT
DTSTART;TZID=Europe/Berlin:20241106T141500
DTEND;TZID=Europe/Berlin:20241106T180000
DTSTAMP:20260422T020243
CREATED:20240626T205520Z
LAST-MODIFIED:20240626T205520Z
UID:10006072-1730902500-1730916000@katago-ev.de
SUMMARY:Robotikkurs für Kinder - Liga der Roboter
DESCRIPTION:Externe Veranstaltung \nWeitere Infos unter  https://ligaderroboter.de/
URL:https://katago-ev.de/event/robotikkurs-fuer-kinder-liga-der-roboter-4/2024-11-06
LOCATION:Vereinsheim 2 (Hegelstraße 11a)\, Hegelstraße 11a\, Bamberg\, Bayern\, 96052\, Germany
ATTACH;FMTTYPE=image/png:https://katago-ev.de/wp-content/uploads/2024/06/LDR.png
ORGANIZER;CN="Liga der Roboter":MAILTO:kontakt@ligaderroboter.de
END:VEVENT
BEGIN:VEVENT
DTSTART;TZID=Europe/Berlin:20241104T143000
DTEND;TZID=Europe/Berlin:20241104T190000
DTSTAMP:20260422T020243
CREATED:20240626T210126Z
LAST-MODIFIED:20240626T210437Z
UID:10006203-1730730600-1730746800@katago-ev.de
SUMMARY:Robotikkurs für Kinder - Liga der Roboter
DESCRIPTION:Externe Veranstaltung \nWeitere Infos unter  https://ligaderroboter.de/
URL:https://katago-ev.de/event/robotikkurs-fuer-kinder-liga-der-roboter-5/2024-11-04
LOCATION:Vereinsheim 2 (Hegelstraße 11a)\, Hegelstraße 11a\, Bamberg\, Bayern\, 96052\, Germany
ATTACH;FMTTYPE=image/png:https://katago-ev.de/wp-content/uploads/2024/06/LDR.png
ORGANIZER;CN="Liga der Roboter":MAILTO:kontakt@ligaderroboter.de
END:VEVENT
BEGIN:VEVENT
DTSTART;TZID=Europe/Berlin:20241102T083000
DTEND;TZID=Europe/Berlin:20241102T150000
DTSTAMP:20260422T020243
CREATED:20240626T204120Z
LAST-MODIFIED:20240626T205219Z
UID:10006010-1730536200-1730559600@katago-ev.de
SUMMARY:Robotikkurs für Kinder - Liga der Roboter
DESCRIPTION:Externe Veranstaltung \nWeitere Infos unter  https://ligaderroboter.de/
URL:https://katago-ev.de/event/robotikkurs-fuer-kinder-liga-der-roboter-3/2024-11-02
LOCATION:Vereinsheim 2 (Hegelstraße 11a)\, Hegelstraße 11a\, Bamberg\, Bayern\, 96052\, Germany
ATTACH;FMTTYPE=image/png:https://katago-ev.de/wp-content/uploads/2024/06/LDR.png
ORGANIZER;CN="Liga der Roboter":MAILTO:kontakt@ligaderroboter.de
END:VEVENT
BEGIN:VEVENT
DTSTART;TZID=Europe/Berlin:20241030T141500
DTEND;TZID=Europe/Berlin:20241030T180000
DTSTAMP:20260422T020243
CREATED:20240626T205520Z
LAST-MODIFIED:20240626T205520Z
UID:10006071-1730297700-1730311200@katago-ev.de
SUMMARY:Robotikkurs für Kinder - Liga der Roboter
DESCRIPTION:Externe Veranstaltung \nWeitere Infos unter  https://ligaderroboter.de/
URL:https://katago-ev.de/event/robotikkurs-fuer-kinder-liga-der-roboter-4/2024-10-30
LOCATION:Vereinsheim 2 (Hegelstraße 11a)\, Hegelstraße 11a\, Bamberg\, Bayern\, 96052\, Germany
ATTACH;FMTTYPE=image/png:https://katago-ev.de/wp-content/uploads/2024/06/LDR.png
ORGANIZER;CN="Liga der Roboter":MAILTO:kontakt@ligaderroboter.de
END:VEVENT
BEGIN:VEVENT
DTSTART;TZID=Europe/Berlin:20241028T143000
DTEND;TZID=Europe/Berlin:20241028T190000
DTSTAMP:20260422T020243
CREATED:20240626T210126Z
LAST-MODIFIED:20240626T210437Z
UID:10006202-1730125800-1730142000@katago-ev.de
SUMMARY:Robotikkurs für Kinder - Liga der Roboter
DESCRIPTION:Externe Veranstaltung \nWeitere Infos unter  https://ligaderroboter.de/
URL:https://katago-ev.de/event/robotikkurs-fuer-kinder-liga-der-roboter-5/2024-10-28
LOCATION:Vereinsheim 2 (Hegelstraße 11a)\, Hegelstraße 11a\, Bamberg\, Bayern\, 96052\, Germany
ATTACH;FMTTYPE=image/png:https://katago-ev.de/wp-content/uploads/2024/06/LDR.png
ORGANIZER;CN="Liga der Roboter":MAILTO:kontakt@ligaderroboter.de
END:VEVENT
END:VCALENDAR