BEGIN:VCALENDAR
VERSION:2.0
PRODID:-//katago-ev.de - ECPv6.15.0.1//NONSGML v1.0//EN
CALSCALE:GREGORIAN
METHOD:PUBLISH
X-WR-CALNAME:katago-ev.de
X-ORIGINAL-URL:https://katago-ev.de
X-WR-CALDESC:Veranstaltungen für katago-ev.de
REFRESH-INTERVAL;VALUE=DURATION:PT1H
X-Robots-Tag:noindex
X-PUBLISHED-TTL:PT1H
BEGIN:VTIMEZONE
TZID:Europe/Berlin
BEGIN:DAYLIGHT
TZOFFSETFROM:+0100
TZOFFSETTO:+0200
TZNAME:CEST
DTSTART:20240331T010000
END:DAYLIGHT
BEGIN:STANDARD
TZOFFSETFROM:+0200
TZOFFSETTO:+0100
TZNAME:CET
DTSTART:20241027T010000
END:STANDARD
END:VTIMEZONE
BEGIN:VEVENT
DTSTART;TZID=Europe/Berlin:20241118T143000
DTEND;TZID=Europe/Berlin:20241118T190000
DTSTAMP:20260423T012248
CREATED:20240626T210126Z
LAST-MODIFIED:20240626T210437Z
UID:10006205-1731940200-1731956400@katago-ev.de
SUMMARY:Robotikkurs für Kinder - Liga der Roboter
DESCRIPTION:Externe Veranstaltung \nWeitere Infos unter  https://ligaderroboter.de/
URL:https://katago-ev.de/event/robotikkurs-fuer-kinder-liga-der-roboter-5/2024-11-18
LOCATION:Vereinsheim 2 (Hegelstraße 11a)\, Hegelstraße 11a\, Bamberg\, Bayern\, 96052\, Germany
ATTACH;FMTTYPE=image/png:https://katago-ev.de/wp-content/uploads/2024/06/LDR.png
ORGANIZER;CN="Liga der Roboter":MAILTO:kontakt@ligaderroboter.de
END:VEVENT
BEGIN:VEVENT
DTSTART;TZID=Europe/Berlin:20241116T083000
DTEND;TZID=Europe/Berlin:20241116T150000
DTSTAMP:20260423T012248
CREATED:20240626T204120Z
LAST-MODIFIED:20240626T205219Z
UID:10006012-1731745800-1731769200@katago-ev.de
SUMMARY:Robotikkurs für Kinder - Liga der Roboter
DESCRIPTION:Externe Veranstaltung \nWeitere Infos unter  https://ligaderroboter.de/
URL:https://katago-ev.de/event/robotikkurs-fuer-kinder-liga-der-roboter-3/2024-11-16
LOCATION:Vereinsheim 2 (Hegelstraße 11a)\, Hegelstraße 11a\, Bamberg\, Bayern\, 96052\, Germany
ATTACH;FMTTYPE=image/png:https://katago-ev.de/wp-content/uploads/2024/06/LDR.png
ORGANIZER;CN="Liga der Roboter":MAILTO:kontakt@ligaderroboter.de
END:VEVENT
BEGIN:VEVENT
DTSTART;TZID=Europe/Berlin:20241113T141500
DTEND;TZID=Europe/Berlin:20241113T180000
DTSTAMP:20260423T012248
CREATED:20240626T205520Z
LAST-MODIFIED:20240626T205520Z
UID:10006073-1731507300-1731520800@katago-ev.de
SUMMARY:Robotikkurs für Kinder - Liga der Roboter
DESCRIPTION:Externe Veranstaltung \nWeitere Infos unter  https://ligaderroboter.de/
URL:https://katago-ev.de/event/robotikkurs-fuer-kinder-liga-der-roboter-4/2024-11-13
LOCATION:Vereinsheim 2 (Hegelstraße 11a)\, Hegelstraße 11a\, Bamberg\, Bayern\, 96052\, Germany
ATTACH;FMTTYPE=image/png:https://katago-ev.de/wp-content/uploads/2024/06/LDR.png
ORGANIZER;CN="Liga der Roboter":MAILTO:kontakt@ligaderroboter.de
END:VEVENT
BEGIN:VEVENT
DTSTART;TZID=Europe/Berlin:20241111T143000
DTEND;TZID=Europe/Berlin:20241111T190000
DTSTAMP:20260423T012248
CREATED:20240626T210126Z
LAST-MODIFIED:20240626T210437Z
UID:10006204-1731335400-1731351600@katago-ev.de
SUMMARY:Robotikkurs für Kinder - Liga der Roboter
DESCRIPTION:Externe Veranstaltung \nWeitere Infos unter  https://ligaderroboter.de/
URL:https://katago-ev.de/event/robotikkurs-fuer-kinder-liga-der-roboter-5/2024-11-11
LOCATION:Vereinsheim 2 (Hegelstraße 11a)\, Hegelstraße 11a\, Bamberg\, Bayern\, 96052\, Germany
ATTACH;FMTTYPE=image/png:https://katago-ev.de/wp-content/uploads/2024/06/LDR.png
ORGANIZER;CN="Liga der Roboter":MAILTO:kontakt@ligaderroboter.de
END:VEVENT
BEGIN:VEVENT
DTSTART;TZID=Europe/Berlin:20241109T083000
DTEND;TZID=Europe/Berlin:20241109T150000
DTSTAMP:20260423T012248
CREATED:20240626T204120Z
LAST-MODIFIED:20240626T205219Z
UID:10006011-1731141000-1731164400@katago-ev.de
SUMMARY:Robotikkurs für Kinder - Liga der Roboter
DESCRIPTION:Externe Veranstaltung \nWeitere Infos unter  https://ligaderroboter.de/
URL:https://katago-ev.de/event/robotikkurs-fuer-kinder-liga-der-roboter-3/2024-11-09
LOCATION:Vereinsheim 2 (Hegelstraße 11a)\, Hegelstraße 11a\, Bamberg\, Bayern\, 96052\, Germany
ATTACH;FMTTYPE=image/png:https://katago-ev.de/wp-content/uploads/2024/06/LDR.png
ORGANIZER;CN="Liga der Roboter":MAILTO:kontakt@ligaderroboter.de
END:VEVENT
BEGIN:VEVENT
DTSTART;TZID=Europe/Berlin:20241106T141500
DTEND;TZID=Europe/Berlin:20241106T180000
DTSTAMP:20260423T012248
CREATED:20240626T205520Z
LAST-MODIFIED:20240626T205520Z
UID:10006072-1730902500-1730916000@katago-ev.de
SUMMARY:Robotikkurs für Kinder - Liga der Roboter
DESCRIPTION:Externe Veranstaltung \nWeitere Infos unter  https://ligaderroboter.de/
URL:https://katago-ev.de/event/robotikkurs-fuer-kinder-liga-der-roboter-4/2024-11-06
LOCATION:Vereinsheim 2 (Hegelstraße 11a)\, Hegelstraße 11a\, Bamberg\, Bayern\, 96052\, Germany
ATTACH;FMTTYPE=image/png:https://katago-ev.de/wp-content/uploads/2024/06/LDR.png
ORGANIZER;CN="Liga der Roboter":MAILTO:kontakt@ligaderroboter.de
END:VEVENT
BEGIN:VEVENT
DTSTART;TZID=Europe/Berlin:20241104T143000
DTEND;TZID=Europe/Berlin:20241104T190000
DTSTAMP:20260423T012248
CREATED:20240626T210126Z
LAST-MODIFIED:20240626T210437Z
UID:10006203-1730730600-1730746800@katago-ev.de
SUMMARY:Robotikkurs für Kinder - Liga der Roboter
DESCRIPTION:Externe Veranstaltung \nWeitere Infos unter  https://ligaderroboter.de/
URL:https://katago-ev.de/event/robotikkurs-fuer-kinder-liga-der-roboter-5/2024-11-04
LOCATION:Vereinsheim 2 (Hegelstraße 11a)\, Hegelstraße 11a\, Bamberg\, Bayern\, 96052\, Germany
ATTACH;FMTTYPE=image/png:https://katago-ev.de/wp-content/uploads/2024/06/LDR.png
ORGANIZER;CN="Liga der Roboter":MAILTO:kontakt@ligaderroboter.de
END:VEVENT
BEGIN:VEVENT
DTSTART;TZID=Europe/Berlin:20241102T083000
DTEND;TZID=Europe/Berlin:20241102T150000
DTSTAMP:20260423T012248
CREATED:20240626T204120Z
LAST-MODIFIED:20240626T205219Z
UID:10006010-1730536200-1730559600@katago-ev.de
SUMMARY:Robotikkurs für Kinder - Liga der Roboter
DESCRIPTION:Externe Veranstaltung \nWeitere Infos unter  https://ligaderroboter.de/
URL:https://katago-ev.de/event/robotikkurs-fuer-kinder-liga-der-roboter-3/2024-11-02
LOCATION:Vereinsheim 2 (Hegelstraße 11a)\, Hegelstraße 11a\, Bamberg\, Bayern\, 96052\, Germany
ATTACH;FMTTYPE=image/png:https://katago-ev.de/wp-content/uploads/2024/06/LDR.png
ORGANIZER;CN="Liga der Roboter":MAILTO:kontakt@ligaderroboter.de
END:VEVENT
BEGIN:VEVENT
DTSTART;TZID=Europe/Berlin:20241030T141500
DTEND;TZID=Europe/Berlin:20241030T180000
DTSTAMP:20260423T012248
CREATED:20240626T205520Z
LAST-MODIFIED:20240626T205520Z
UID:10006071-1730297700-1730311200@katago-ev.de
SUMMARY:Robotikkurs für Kinder - Liga der Roboter
DESCRIPTION:Externe Veranstaltung \nWeitere Infos unter  https://ligaderroboter.de/
URL:https://katago-ev.de/event/robotikkurs-fuer-kinder-liga-der-roboter-4/2024-10-30
LOCATION:Vereinsheim 2 (Hegelstraße 11a)\, Hegelstraße 11a\, Bamberg\, Bayern\, 96052\, Germany
ATTACH;FMTTYPE=image/png:https://katago-ev.de/wp-content/uploads/2024/06/LDR.png
ORGANIZER;CN="Liga der Roboter":MAILTO:kontakt@ligaderroboter.de
END:VEVENT
BEGIN:VEVENT
DTSTART;TZID=Europe/Berlin:20241028T143000
DTEND;TZID=Europe/Berlin:20241028T190000
DTSTAMP:20260423T012248
CREATED:20240626T210126Z
LAST-MODIFIED:20240626T210437Z
UID:10006202-1730125800-1730142000@katago-ev.de
SUMMARY:Robotikkurs für Kinder - Liga der Roboter
DESCRIPTION:Externe Veranstaltung \nWeitere Infos unter  https://ligaderroboter.de/
URL:https://katago-ev.de/event/robotikkurs-fuer-kinder-liga-der-roboter-5/2024-10-28
LOCATION:Vereinsheim 2 (Hegelstraße 11a)\, Hegelstraße 11a\, Bamberg\, Bayern\, 96052\, Germany
ATTACH;FMTTYPE=image/png:https://katago-ev.de/wp-content/uploads/2024/06/LDR.png
ORGANIZER;CN="Liga der Roboter":MAILTO:kontakt@ligaderroboter.de
END:VEVENT
BEGIN:VEVENT
DTSTART;TZID=Europe/Berlin:20241026T083000
DTEND;TZID=Europe/Berlin:20241026T150000
DTSTAMP:20260423T012248
CREATED:20240626T204120Z
LAST-MODIFIED:20240626T205219Z
UID:10006009-1729931400-1729954800@katago-ev.de
SUMMARY:Robotikkurs für Kinder - Liga der Roboter
DESCRIPTION:Externe Veranstaltung \nWeitere Infos unter  https://ligaderroboter.de/
URL:https://katago-ev.de/event/robotikkurs-fuer-kinder-liga-der-roboter-3/2024-10-26
LOCATION:Vereinsheim 2 (Hegelstraße 11a)\, Hegelstraße 11a\, Bamberg\, Bayern\, 96052\, Germany
ATTACH;FMTTYPE=image/png:https://katago-ev.de/wp-content/uploads/2024/06/LDR.png
ORGANIZER;CN="Liga der Roboter":MAILTO:kontakt@ligaderroboter.de
END:VEVENT
BEGIN:VEVENT
DTSTART;TZID=Europe/Berlin:20241023T141500
DTEND;TZID=Europe/Berlin:20241023T180000
DTSTAMP:20260423T012248
CREATED:20240626T205520Z
LAST-MODIFIED:20240626T205520Z
UID:10006070-1729692900-1729706400@katago-ev.de
SUMMARY:Robotikkurs für Kinder - Liga der Roboter
DESCRIPTION:Externe Veranstaltung \nWeitere Infos unter  https://ligaderroboter.de/
URL:https://katago-ev.de/event/robotikkurs-fuer-kinder-liga-der-roboter-4/2024-10-23
LOCATION:Vereinsheim 2 (Hegelstraße 11a)\, Hegelstraße 11a\, Bamberg\, Bayern\, 96052\, Germany
ATTACH;FMTTYPE=image/png:https://katago-ev.de/wp-content/uploads/2024/06/LDR.png
ORGANIZER;CN="Liga der Roboter":MAILTO:kontakt@ligaderroboter.de
END:VEVENT
BEGIN:VEVENT
DTSTART;TZID=Europe/Berlin:20241021T143000
DTEND;TZID=Europe/Berlin:20241021T190000
DTSTAMP:20260423T012248
CREATED:20240626T210126Z
LAST-MODIFIED:20240626T210437Z
UID:10006201-1729521000-1729537200@katago-ev.de
SUMMARY:Robotikkurs für Kinder - Liga der Roboter
DESCRIPTION:Externe Veranstaltung \nWeitere Infos unter  https://ligaderroboter.de/
URL:https://katago-ev.de/event/robotikkurs-fuer-kinder-liga-der-roboter-5/2024-10-21
LOCATION:Vereinsheim 2 (Hegelstraße 11a)\, Hegelstraße 11a\, Bamberg\, Bayern\, 96052\, Germany
ATTACH;FMTTYPE=image/png:https://katago-ev.de/wp-content/uploads/2024/06/LDR.png
ORGANIZER;CN="Liga der Roboter":MAILTO:kontakt@ligaderroboter.de
END:VEVENT
BEGIN:VEVENT
DTSTART;TZID=Europe/Berlin:20241019T083000
DTEND;TZID=Europe/Berlin:20241019T150000
DTSTAMP:20260423T012248
CREATED:20240626T204120Z
LAST-MODIFIED:20240626T205219Z
UID:10006008-1729326600-1729350000@katago-ev.de
SUMMARY:Robotikkurs für Kinder - Liga der Roboter
DESCRIPTION:Externe Veranstaltung \nWeitere Infos unter  https://ligaderroboter.de/
URL:https://katago-ev.de/event/robotikkurs-fuer-kinder-liga-der-roboter-3/2024-10-19
LOCATION:Vereinsheim 2 (Hegelstraße 11a)\, Hegelstraße 11a\, Bamberg\, Bayern\, 96052\, Germany
ATTACH;FMTTYPE=image/png:https://katago-ev.de/wp-content/uploads/2024/06/LDR.png
ORGANIZER;CN="Liga der Roboter":MAILTO:kontakt@ligaderroboter.de
END:VEVENT
BEGIN:VEVENT
DTSTART;TZID=Europe/Berlin:20241016T141500
DTEND;TZID=Europe/Berlin:20241016T180000
DTSTAMP:20260423T012248
CREATED:20240626T205520Z
LAST-MODIFIED:20240626T205520Z
UID:10006069-1729088100-1729101600@katago-ev.de
SUMMARY:Robotikkurs für Kinder - Liga der Roboter
DESCRIPTION:Externe Veranstaltung \nWeitere Infos unter  https://ligaderroboter.de/
URL:https://katago-ev.de/event/robotikkurs-fuer-kinder-liga-der-roboter-4/2024-10-16
LOCATION:Vereinsheim 2 (Hegelstraße 11a)\, Hegelstraße 11a\, Bamberg\, Bayern\, 96052\, Germany
ATTACH;FMTTYPE=image/png:https://katago-ev.de/wp-content/uploads/2024/06/LDR.png
ORGANIZER;CN="Liga der Roboter":MAILTO:kontakt@ligaderroboter.de
END:VEVENT
BEGIN:VEVENT
DTSTART;TZID=Europe/Berlin:20241014T143000
DTEND;TZID=Europe/Berlin:20241014T190000
DTSTAMP:20260423T012248
CREATED:20240626T210126Z
LAST-MODIFIED:20240626T210437Z
UID:10006200-1728916200-1728932400@katago-ev.de
SUMMARY:Robotikkurs für Kinder - Liga der Roboter
DESCRIPTION:Externe Veranstaltung \nWeitere Infos unter  https://ligaderroboter.de/
URL:https://katago-ev.de/event/robotikkurs-fuer-kinder-liga-der-roboter-5/2024-10-14
LOCATION:Vereinsheim 2 (Hegelstraße 11a)\, Hegelstraße 11a\, Bamberg\, Bayern\, 96052\, Germany
ATTACH;FMTTYPE=image/png:https://katago-ev.de/wp-content/uploads/2024/06/LDR.png
ORGANIZER;CN="Liga der Roboter":MAILTO:kontakt@ligaderroboter.de
END:VEVENT
BEGIN:VEVENT
DTSTART;TZID=Europe/Berlin:20241012T083000
DTEND;TZID=Europe/Berlin:20241012T150000
DTSTAMP:20260423T012248
CREATED:20240626T204120Z
LAST-MODIFIED:20240626T205219Z
UID:10006007-1728721800-1728745200@katago-ev.de
SUMMARY:Robotikkurs für Kinder - Liga der Roboter
DESCRIPTION:Externe Veranstaltung \nWeitere Infos unter  https://ligaderroboter.de/
URL:https://katago-ev.de/event/robotikkurs-fuer-kinder-liga-der-roboter-3/2024-10-12
LOCATION:Vereinsheim 2 (Hegelstraße 11a)\, Hegelstraße 11a\, Bamberg\, Bayern\, 96052\, Germany
ATTACH;FMTTYPE=image/png:https://katago-ev.de/wp-content/uploads/2024/06/LDR.png
ORGANIZER;CN="Liga der Roboter":MAILTO:kontakt@ligaderroboter.de
END:VEVENT
BEGIN:VEVENT
DTSTART;TZID=Europe/Berlin:20241009T141500
DTEND;TZID=Europe/Berlin:20241009T180000
DTSTAMP:20260423T012248
CREATED:20240626T205520Z
LAST-MODIFIED:20240626T205520Z
UID:10006068-1728483300-1728496800@katago-ev.de
SUMMARY:Robotikkurs für Kinder - Liga der Roboter
DESCRIPTION:Externe Veranstaltung \nWeitere Infos unter  https://ligaderroboter.de/
URL:https://katago-ev.de/event/robotikkurs-fuer-kinder-liga-der-roboter-4/2024-10-09
LOCATION:Vereinsheim 2 (Hegelstraße 11a)\, Hegelstraße 11a\, Bamberg\, Bayern\, 96052\, Germany
ATTACH;FMTTYPE=image/png:https://katago-ev.de/wp-content/uploads/2024/06/LDR.png
ORGANIZER;CN="Liga der Roboter":MAILTO:kontakt@ligaderroboter.de
END:VEVENT
BEGIN:VEVENT
DTSTART;TZID=Europe/Berlin:20241007T143000
DTEND;TZID=Europe/Berlin:20241007T190000
DTSTAMP:20260423T012248
CREATED:20240626T210126Z
LAST-MODIFIED:20240626T210437Z
UID:10006199-1728311400-1728327600@katago-ev.de
SUMMARY:Robotikkurs für Kinder - Liga der Roboter
DESCRIPTION:Externe Veranstaltung \nWeitere Infos unter  https://ligaderroboter.de/
URL:https://katago-ev.de/event/robotikkurs-fuer-kinder-liga-der-roboter-5/2024-10-07
LOCATION:Vereinsheim 2 (Hegelstraße 11a)\, Hegelstraße 11a\, Bamberg\, Bayern\, 96052\, Germany
ATTACH;FMTTYPE=image/png:https://katago-ev.de/wp-content/uploads/2024/06/LDR.png
ORGANIZER;CN="Liga der Roboter":MAILTO:kontakt@ligaderroboter.de
END:VEVENT
BEGIN:VEVENT
DTSTART;TZID=Europe/Berlin:20241005T083000
DTEND;TZID=Europe/Berlin:20241005T150000
DTSTAMP:20260423T012248
CREATED:20240626T204120Z
LAST-MODIFIED:20240626T205219Z
UID:10006006-1728117000-1728140400@katago-ev.de
SUMMARY:Robotikkurs für Kinder - Liga der Roboter
DESCRIPTION:Externe Veranstaltung \nWeitere Infos unter  https://ligaderroboter.de/
URL:https://katago-ev.de/event/robotikkurs-fuer-kinder-liga-der-roboter-3/2024-10-05
LOCATION:Vereinsheim 2 (Hegelstraße 11a)\, Hegelstraße 11a\, Bamberg\, Bayern\, 96052\, Germany
ATTACH;FMTTYPE=image/png:https://katago-ev.de/wp-content/uploads/2024/06/LDR.png
ORGANIZER;CN="Liga der Roboter":MAILTO:kontakt@ligaderroboter.de
END:VEVENT
BEGIN:VEVENT
DTSTART;TZID=Europe/Berlin:20241002T141500
DTEND;TZID=Europe/Berlin:20241002T180000
DTSTAMP:20260423T012248
CREATED:20240626T205520Z
LAST-MODIFIED:20240626T205520Z
UID:10006067-1727878500-1727892000@katago-ev.de
SUMMARY:Robotikkurs für Kinder - Liga der Roboter
DESCRIPTION:Externe Veranstaltung \nWeitere Infos unter  https://ligaderroboter.de/
URL:https://katago-ev.de/event/robotikkurs-fuer-kinder-liga-der-roboter-4/2024-10-02
LOCATION:Vereinsheim 2 (Hegelstraße 11a)\, Hegelstraße 11a\, Bamberg\, Bayern\, 96052\, Germany
ATTACH;FMTTYPE=image/png:https://katago-ev.de/wp-content/uploads/2024/06/LDR.png
ORGANIZER;CN="Liga der Roboter":MAILTO:kontakt@ligaderroboter.de
END:VEVENT
BEGIN:VEVENT
DTSTART;TZID=Europe/Berlin:20240930T143000
DTEND;TZID=Europe/Berlin:20240930T190000
DTSTAMP:20260423T012248
CREATED:20240626T210126Z
LAST-MODIFIED:20240626T210437Z
UID:10006198-1727706600-1727722800@katago-ev.de
SUMMARY:Robotikkurs für Kinder - Liga der Roboter
DESCRIPTION:Externe Veranstaltung \nWeitere Infos unter  https://ligaderroboter.de/
URL:https://katago-ev.de/event/robotikkurs-fuer-kinder-liga-der-roboter-5/2024-09-30
LOCATION:Vereinsheim 2 (Hegelstraße 11a)\, Hegelstraße 11a\, Bamberg\, Bayern\, 96052\, Germany
ATTACH;FMTTYPE=image/png:https://katago-ev.de/wp-content/uploads/2024/06/LDR.png
ORGANIZER;CN="Liga der Roboter":MAILTO:kontakt@ligaderroboter.de
END:VEVENT
BEGIN:VEVENT
DTSTART;TZID=Europe/Berlin:20240928T083000
DTEND;TZID=Europe/Berlin:20240928T150000
DTSTAMP:20260423T012248
CREATED:20240626T204120Z
LAST-MODIFIED:20240626T205219Z
UID:10006005-1727512200-1727535600@katago-ev.de
SUMMARY:Robotikkurs für Kinder - Liga der Roboter
DESCRIPTION:Externe Veranstaltung \nWeitere Infos unter  https://ligaderroboter.de/
URL:https://katago-ev.de/event/robotikkurs-fuer-kinder-liga-der-roboter-3/2024-09-28
LOCATION:Vereinsheim 2 (Hegelstraße 11a)\, Hegelstraße 11a\, Bamberg\, Bayern\, 96052\, Germany
ATTACH;FMTTYPE=image/png:https://katago-ev.de/wp-content/uploads/2024/06/LDR.png
ORGANIZER;CN="Liga der Roboter":MAILTO:kontakt@ligaderroboter.de
END:VEVENT
BEGIN:VEVENT
DTSTART;TZID=Europe/Berlin:20240925T141500
DTEND;TZID=Europe/Berlin:20240925T180000
DTSTAMP:20260423T012248
CREATED:20240626T205520Z
LAST-MODIFIED:20240626T205520Z
UID:10006066-1727273700-1727287200@katago-ev.de
SUMMARY:Robotikkurs für Kinder - Liga der Roboter
DESCRIPTION:Externe Veranstaltung \nWeitere Infos unter  https://ligaderroboter.de/
URL:https://katago-ev.de/event/robotikkurs-fuer-kinder-liga-der-roboter-4/2024-09-25
LOCATION:Vereinsheim 2 (Hegelstraße 11a)\, Hegelstraße 11a\, Bamberg\, Bayern\, 96052\, Germany
ATTACH;FMTTYPE=image/png:https://katago-ev.de/wp-content/uploads/2024/06/LDR.png
ORGANIZER;CN="Liga der Roboter":MAILTO:kontakt@ligaderroboter.de
END:VEVENT
BEGIN:VEVENT
DTSTART;TZID=Europe/Berlin:20240923T143000
DTEND;TZID=Europe/Berlin:20240923T190000
DTSTAMP:20260423T012248
CREATED:20240626T210126Z
LAST-MODIFIED:20240626T210437Z
UID:10006197-1727101800-1727118000@katago-ev.de
SUMMARY:Robotikkurs für Kinder - Liga der Roboter
DESCRIPTION:Externe Veranstaltung \nWeitere Infos unter  https://ligaderroboter.de/
URL:https://katago-ev.de/event/robotikkurs-fuer-kinder-liga-der-roboter-5/2024-09-23
LOCATION:Vereinsheim 2 (Hegelstraße 11a)\, Hegelstraße 11a\, Bamberg\, Bayern\, 96052\, Germany
ATTACH;FMTTYPE=image/png:https://katago-ev.de/wp-content/uploads/2024/06/LDR.png
ORGANIZER;CN="Liga der Roboter":MAILTO:kontakt@ligaderroboter.de
END:VEVENT
BEGIN:VEVENT
DTSTART;TZID=Europe/Berlin:20240921T083000
DTEND;TZID=Europe/Berlin:20240921T150000
DTSTAMP:20260423T012248
CREATED:20240626T204120Z
LAST-MODIFIED:20240626T205219Z
UID:10006004-1726907400-1726930800@katago-ev.de
SUMMARY:Robotikkurs für Kinder - Liga der Roboter
DESCRIPTION:Externe Veranstaltung \nWeitere Infos unter  https://ligaderroboter.de/
URL:https://katago-ev.de/event/robotikkurs-fuer-kinder-liga-der-roboter-3/2024-09-21
LOCATION:Vereinsheim 2 (Hegelstraße 11a)\, Hegelstraße 11a\, Bamberg\, Bayern\, 96052\, Germany
ATTACH;FMTTYPE=image/png:https://katago-ev.de/wp-content/uploads/2024/06/LDR.png
ORGANIZER;CN="Liga der Roboter":MAILTO:kontakt@ligaderroboter.de
END:VEVENT
BEGIN:VEVENT
DTSTART;TZID=Europe/Berlin:20240918T141500
DTEND;TZID=Europe/Berlin:20240918T180000
DTSTAMP:20260423T012248
CREATED:20240626T205520Z
LAST-MODIFIED:20240626T205520Z
UID:10006065-1726668900-1726682400@katago-ev.de
SUMMARY:Robotikkurs für Kinder - Liga der Roboter
DESCRIPTION:Externe Veranstaltung \nWeitere Infos unter  https://ligaderroboter.de/
URL:https://katago-ev.de/event/robotikkurs-fuer-kinder-liga-der-roboter-4/2024-09-18
LOCATION:Vereinsheim 2 (Hegelstraße 11a)\, Hegelstraße 11a\, Bamberg\, Bayern\, 96052\, Germany
ATTACH;FMTTYPE=image/png:https://katago-ev.de/wp-content/uploads/2024/06/LDR.png
ORGANIZER;CN="Liga der Roboter":MAILTO:kontakt@ligaderroboter.de
END:VEVENT
BEGIN:VEVENT
DTSTART;TZID=Europe/Berlin:20240916T143000
DTEND;TZID=Europe/Berlin:20240916T190000
DTSTAMP:20260423T012248
CREATED:20240626T210126Z
LAST-MODIFIED:20240626T210437Z
UID:10006196-1726497000-1726513200@katago-ev.de
SUMMARY:Robotikkurs für Kinder - Liga der Roboter
DESCRIPTION:Externe Veranstaltung \nWeitere Infos unter  https://ligaderroboter.de/
URL:https://katago-ev.de/event/robotikkurs-fuer-kinder-liga-der-roboter-5/2024-09-16
LOCATION:Vereinsheim 2 (Hegelstraße 11a)\, Hegelstraße 11a\, Bamberg\, Bayern\, 96052\, Germany
ATTACH;FMTTYPE=image/png:https://katago-ev.de/wp-content/uploads/2024/06/LDR.png
ORGANIZER;CN="Liga der Roboter":MAILTO:kontakt@ligaderroboter.de
END:VEVENT
BEGIN:VEVENT
DTSTART;TZID=Europe/Berlin:20240914T083000
DTEND;TZID=Europe/Berlin:20240914T150000
DTSTAMP:20260423T012248
CREATED:20240626T204120Z
LAST-MODIFIED:20240626T205219Z
UID:10006003-1726302600-1726326000@katago-ev.de
SUMMARY:Robotikkurs für Kinder - Liga der Roboter
DESCRIPTION:Externe Veranstaltung \nWeitere Infos unter  https://ligaderroboter.de/
URL:https://katago-ev.de/event/robotikkurs-fuer-kinder-liga-der-roboter-3/2024-09-14
LOCATION:Vereinsheim 2 (Hegelstraße 11a)\, Hegelstraße 11a\, Bamberg\, Bayern\, 96052\, Germany
ATTACH;FMTTYPE=image/png:https://katago-ev.de/wp-content/uploads/2024/06/LDR.png
ORGANIZER;CN="Liga der Roboter":MAILTO:kontakt@ligaderroboter.de
END:VEVENT
BEGIN:VEVENT
DTSTART;TZID=Europe/Berlin:20240911T141500
DTEND;TZID=Europe/Berlin:20240911T180000
DTSTAMP:20260423T012248
CREATED:20240626T205520Z
LAST-MODIFIED:20240626T205520Z
UID:10006064-1726064100-1726077600@katago-ev.de
SUMMARY:Robotikkurs für Kinder - Liga der Roboter
DESCRIPTION:Externe Veranstaltung \nWeitere Infos unter  https://ligaderroboter.de/
URL:https://katago-ev.de/event/robotikkurs-fuer-kinder-liga-der-roboter-4/2024-09-11
LOCATION:Vereinsheim 2 (Hegelstraße 11a)\, Hegelstraße 11a\, Bamberg\, Bayern\, 96052\, Germany
ATTACH;FMTTYPE=image/png:https://katago-ev.de/wp-content/uploads/2024/06/LDR.png
ORGANIZER;CN="Liga der Roboter":MAILTO:kontakt@ligaderroboter.de
END:VEVENT
END:VCALENDAR