BEGIN:VCALENDAR
VERSION:2.0
PRODID:-//katago-ev.de - ECPv6.15.0.1//NONSGML v1.0//EN
CALSCALE:GREGORIAN
METHOD:PUBLISH
X-WR-CALNAME:katago-ev.de
X-ORIGINAL-URL:https://katago-ev.de
X-WR-CALDESC:Veranstaltungen für katago-ev.de
REFRESH-INTERVAL;VALUE=DURATION:PT1H
X-Robots-Tag:noindex
X-PUBLISHED-TTL:PT1H
BEGIN:VTIMEZONE
TZID:Europe/Berlin
BEGIN:DAYLIGHT
TZOFFSETFROM:+0100
TZOFFSETTO:+0200
TZNAME:CEST
DTSTART:20250330T010000
END:DAYLIGHT
BEGIN:STANDARD
TZOFFSETFROM:+0200
TZOFFSETTO:+0100
TZNAME:CET
DTSTART:20251026T010000
END:STANDARD
END:VTIMEZONE
BEGIN:VEVENT
DTSTART;TZID=Europe/Berlin:20250428T143000
DTEND;TZID=Europe/Berlin:20250428T190000
DTSTAMP:20260421T124726
CREATED:20240626T210126Z
LAST-MODIFIED:20240626T210437Z
UID:10006228-1745850600-1745866800@katago-ev.de
SUMMARY:Robotikkurs für Kinder - Liga der Roboter
DESCRIPTION:Externe Veranstaltung \nWeitere Infos unter  https://ligaderroboter.de/
URL:https://katago-ev.de/event/robotikkurs-fuer-kinder-liga-der-roboter-5/2025-04-28
LOCATION:Vereinsheim 2 (Hegelstraße 11a)\, Hegelstraße 11a\, Bamberg\, Bayern\, 96052\, Germany
ATTACH;FMTTYPE=image/png:https://katago-ev.de/wp-content/uploads/2024/06/LDR.png
ORGANIZER;CN="Liga der Roboter":MAILTO:kontakt@ligaderroboter.de
END:VEVENT
BEGIN:VEVENT
DTSTART;TZID=Europe/Berlin:20250426T083000
DTEND;TZID=Europe/Berlin:20250426T150000
DTSTAMP:20260421T124726
CREATED:20240626T204120Z
LAST-MODIFIED:20240626T205219Z
UID:10006035-1745656200-1745679600@katago-ev.de
SUMMARY:Robotikkurs für Kinder - Liga der Roboter
DESCRIPTION:Externe Veranstaltung \nWeitere Infos unter  https://ligaderroboter.de/
URL:https://katago-ev.de/event/robotikkurs-fuer-kinder-liga-der-roboter-3/2025-04-26
LOCATION:Vereinsheim 2 (Hegelstraße 11a)\, Hegelstraße 11a\, Bamberg\, Bayern\, 96052\, Germany
ATTACH;FMTTYPE=image/png:https://katago-ev.de/wp-content/uploads/2024/06/LDR.png
ORGANIZER;CN="Liga der Roboter":MAILTO:kontakt@ligaderroboter.de
END:VEVENT
BEGIN:VEVENT
DTSTART;TZID=Europe/Berlin:20250423T141500
DTEND;TZID=Europe/Berlin:20250423T180000
DTSTAMP:20260421T124726
CREATED:20240626T205520Z
LAST-MODIFIED:20240626T205520Z
UID:10006096-1745417700-1745431200@katago-ev.de
SUMMARY:Robotikkurs für Kinder - Liga der Roboter
DESCRIPTION:Externe Veranstaltung \nWeitere Infos unter  https://ligaderroboter.de/
URL:https://katago-ev.de/event/robotikkurs-fuer-kinder-liga-der-roboter-4/2025-04-23
LOCATION:Vereinsheim 2 (Hegelstraße 11a)\, Hegelstraße 11a\, Bamberg\, Bayern\, 96052\, Germany
ATTACH;FMTTYPE=image/png:https://katago-ev.de/wp-content/uploads/2024/06/LDR.png
ORGANIZER;CN="Liga der Roboter":MAILTO:kontakt@ligaderroboter.de
END:VEVENT
BEGIN:VEVENT
DTSTART;TZID=Europe/Berlin:20250421T143000
DTEND;TZID=Europe/Berlin:20250421T190000
DTSTAMP:20260421T124726
CREATED:20240626T210126Z
LAST-MODIFIED:20240626T210437Z
UID:10006227-1745245800-1745262000@katago-ev.de
SUMMARY:Robotikkurs für Kinder - Liga der Roboter
DESCRIPTION:Externe Veranstaltung \nWeitere Infos unter  https://ligaderroboter.de/
URL:https://katago-ev.de/event/robotikkurs-fuer-kinder-liga-der-roboter-5/2025-04-21
LOCATION:Vereinsheim 2 (Hegelstraße 11a)\, Hegelstraße 11a\, Bamberg\, Bayern\, 96052\, Germany
ATTACH;FMTTYPE=image/png:https://katago-ev.de/wp-content/uploads/2024/06/LDR.png
ORGANIZER;CN="Liga der Roboter":MAILTO:kontakt@ligaderroboter.de
END:VEVENT
BEGIN:VEVENT
DTSTART;TZID=Europe/Berlin:20250419T083000
DTEND;TZID=Europe/Berlin:20250419T150000
DTSTAMP:20260421T124726
CREATED:20240626T204120Z
LAST-MODIFIED:20240626T205219Z
UID:10006034-1745051400-1745074800@katago-ev.de
SUMMARY:Robotikkurs für Kinder - Liga der Roboter
DESCRIPTION:Externe Veranstaltung \nWeitere Infos unter  https://ligaderroboter.de/
URL:https://katago-ev.de/event/robotikkurs-fuer-kinder-liga-der-roboter-3/2025-04-19
LOCATION:Vereinsheim 2 (Hegelstraße 11a)\, Hegelstraße 11a\, Bamberg\, Bayern\, 96052\, Germany
ATTACH;FMTTYPE=image/png:https://katago-ev.de/wp-content/uploads/2024/06/LDR.png
ORGANIZER;CN="Liga der Roboter":MAILTO:kontakt@ligaderroboter.de
END:VEVENT
BEGIN:VEVENT
DTSTART;TZID=Europe/Berlin:20250416T141500
DTEND;TZID=Europe/Berlin:20250416T180000
DTSTAMP:20260421T124726
CREATED:20240626T205520Z
LAST-MODIFIED:20240626T205520Z
UID:10006095-1744812900-1744826400@katago-ev.de
SUMMARY:Robotikkurs für Kinder - Liga der Roboter
DESCRIPTION:Externe Veranstaltung \nWeitere Infos unter  https://ligaderroboter.de/
URL:https://katago-ev.de/event/robotikkurs-fuer-kinder-liga-der-roboter-4/2025-04-16
LOCATION:Vereinsheim 2 (Hegelstraße 11a)\, Hegelstraße 11a\, Bamberg\, Bayern\, 96052\, Germany
ATTACH;FMTTYPE=image/png:https://katago-ev.de/wp-content/uploads/2024/06/LDR.png
ORGANIZER;CN="Liga der Roboter":MAILTO:kontakt@ligaderroboter.de
END:VEVENT
BEGIN:VEVENT
DTSTART;TZID=Europe/Berlin:20250414T143000
DTEND;TZID=Europe/Berlin:20250414T190000
DTSTAMP:20260421T124726
CREATED:20240626T210126Z
LAST-MODIFIED:20240626T210437Z
UID:10006226-1744641000-1744657200@katago-ev.de
SUMMARY:Robotikkurs für Kinder - Liga der Roboter
DESCRIPTION:Externe Veranstaltung \nWeitere Infos unter  https://ligaderroboter.de/
URL:https://katago-ev.de/event/robotikkurs-fuer-kinder-liga-der-roboter-5/2025-04-14
LOCATION:Vereinsheim 2 (Hegelstraße 11a)\, Hegelstraße 11a\, Bamberg\, Bayern\, 96052\, Germany
ATTACH;FMTTYPE=image/png:https://katago-ev.de/wp-content/uploads/2024/06/LDR.png
ORGANIZER;CN="Liga der Roboter":MAILTO:kontakt@ligaderroboter.de
END:VEVENT
BEGIN:VEVENT
DTSTART;TZID=Europe/Berlin:20250412T083000
DTEND;TZID=Europe/Berlin:20250412T150000
DTSTAMP:20260421T124726
CREATED:20240626T204120Z
LAST-MODIFIED:20240626T205219Z
UID:10006033-1744446600-1744470000@katago-ev.de
SUMMARY:Robotikkurs für Kinder - Liga der Roboter
DESCRIPTION:Externe Veranstaltung \nWeitere Infos unter  https://ligaderroboter.de/
URL:https://katago-ev.de/event/robotikkurs-fuer-kinder-liga-der-roboter-3/2025-04-12
LOCATION:Vereinsheim 2 (Hegelstraße 11a)\, Hegelstraße 11a\, Bamberg\, Bayern\, 96052\, Germany
ATTACH;FMTTYPE=image/png:https://katago-ev.de/wp-content/uploads/2024/06/LDR.png
ORGANIZER;CN="Liga der Roboter":MAILTO:kontakt@ligaderroboter.de
END:VEVENT
BEGIN:VEVENT
DTSTART;TZID=Europe/Berlin:20250409T141500
DTEND;TZID=Europe/Berlin:20250409T180000
DTSTAMP:20260421T124726
CREATED:20240626T205520Z
LAST-MODIFIED:20240626T205520Z
UID:10006094-1744208100-1744221600@katago-ev.de
SUMMARY:Robotikkurs für Kinder - Liga der Roboter
DESCRIPTION:Externe Veranstaltung \nWeitere Infos unter  https://ligaderroboter.de/
URL:https://katago-ev.de/event/robotikkurs-fuer-kinder-liga-der-roboter-4/2025-04-09
LOCATION:Vereinsheim 2 (Hegelstraße 11a)\, Hegelstraße 11a\, Bamberg\, Bayern\, 96052\, Germany
ATTACH;FMTTYPE=image/png:https://katago-ev.de/wp-content/uploads/2024/06/LDR.png
ORGANIZER;CN="Liga der Roboter":MAILTO:kontakt@ligaderroboter.de
END:VEVENT
BEGIN:VEVENT
DTSTART;TZID=Europe/Berlin:20250407T143000
DTEND;TZID=Europe/Berlin:20250407T190000
DTSTAMP:20260421T124726
CREATED:20240626T210126Z
LAST-MODIFIED:20240626T210437Z
UID:10006225-1744036200-1744052400@katago-ev.de
SUMMARY:Robotikkurs für Kinder - Liga der Roboter
DESCRIPTION:Externe Veranstaltung \nWeitere Infos unter  https://ligaderroboter.de/
URL:https://katago-ev.de/event/robotikkurs-fuer-kinder-liga-der-roboter-5/2025-04-07
LOCATION:Vereinsheim 2 (Hegelstraße 11a)\, Hegelstraße 11a\, Bamberg\, Bayern\, 96052\, Germany
ATTACH;FMTTYPE=image/png:https://katago-ev.de/wp-content/uploads/2024/06/LDR.png
ORGANIZER;CN="Liga der Roboter":MAILTO:kontakt@ligaderroboter.de
END:VEVENT
BEGIN:VEVENT
DTSTART;TZID=Europe/Berlin:20250405T083000
DTEND;TZID=Europe/Berlin:20250405T150000
DTSTAMP:20260421T124726
CREATED:20240626T204120Z
LAST-MODIFIED:20240626T205219Z
UID:10006032-1743841800-1743865200@katago-ev.de
SUMMARY:Robotikkurs für Kinder - Liga der Roboter
DESCRIPTION:Externe Veranstaltung \nWeitere Infos unter  https://ligaderroboter.de/
URL:https://katago-ev.de/event/robotikkurs-fuer-kinder-liga-der-roboter-3/2025-04-05
LOCATION:Vereinsheim 2 (Hegelstraße 11a)\, Hegelstraße 11a\, Bamberg\, Bayern\, 96052\, Germany
ATTACH;FMTTYPE=image/png:https://katago-ev.de/wp-content/uploads/2024/06/LDR.png
ORGANIZER;CN="Liga der Roboter":MAILTO:kontakt@ligaderroboter.de
END:VEVENT
BEGIN:VEVENT
DTSTART;TZID=Europe/Berlin:20250402T141500
DTEND;TZID=Europe/Berlin:20250402T180000
DTSTAMP:20260421T124726
CREATED:20240626T205520Z
LAST-MODIFIED:20240626T205520Z
UID:10006093-1743603300-1743616800@katago-ev.de
SUMMARY:Robotikkurs für Kinder - Liga der Roboter
DESCRIPTION:Externe Veranstaltung \nWeitere Infos unter  https://ligaderroboter.de/
URL:https://katago-ev.de/event/robotikkurs-fuer-kinder-liga-der-roboter-4/2025-04-02
LOCATION:Vereinsheim 2 (Hegelstraße 11a)\, Hegelstraße 11a\, Bamberg\, Bayern\, 96052\, Germany
ATTACH;FMTTYPE=image/png:https://katago-ev.de/wp-content/uploads/2024/06/LDR.png
ORGANIZER;CN="Liga der Roboter":MAILTO:kontakt@ligaderroboter.de
END:VEVENT
BEGIN:VEVENT
DTSTART;TZID=Europe/Berlin:20250331T143000
DTEND;TZID=Europe/Berlin:20250331T190000
DTSTAMP:20260421T124726
CREATED:20240626T210126Z
LAST-MODIFIED:20240626T210437Z
UID:10006224-1743431400-1743447600@katago-ev.de
SUMMARY:Robotikkurs für Kinder - Liga der Roboter
DESCRIPTION:Externe Veranstaltung \nWeitere Infos unter  https://ligaderroboter.de/
URL:https://katago-ev.de/event/robotikkurs-fuer-kinder-liga-der-roboter-5/2025-03-31
LOCATION:Vereinsheim 2 (Hegelstraße 11a)\, Hegelstraße 11a\, Bamberg\, Bayern\, 96052\, Germany
ATTACH;FMTTYPE=image/png:https://katago-ev.de/wp-content/uploads/2024/06/LDR.png
ORGANIZER;CN="Liga der Roboter":MAILTO:kontakt@ligaderroboter.de
END:VEVENT
BEGIN:VEVENT
DTSTART;TZID=Europe/Berlin:20250329T083000
DTEND;TZID=Europe/Berlin:20250329T150000
DTSTAMP:20260421T124726
CREATED:20240626T204120Z
LAST-MODIFIED:20240626T205219Z
UID:10006031-1743237000-1743260400@katago-ev.de
SUMMARY:Robotikkurs für Kinder - Liga der Roboter
DESCRIPTION:Externe Veranstaltung \nWeitere Infos unter  https://ligaderroboter.de/
URL:https://katago-ev.de/event/robotikkurs-fuer-kinder-liga-der-roboter-3/2025-03-29
LOCATION:Vereinsheim 2 (Hegelstraße 11a)\, Hegelstraße 11a\, Bamberg\, Bayern\, 96052\, Germany
ATTACH;FMTTYPE=image/png:https://katago-ev.de/wp-content/uploads/2024/06/LDR.png
ORGANIZER;CN="Liga der Roboter":MAILTO:kontakt@ligaderroboter.de
END:VEVENT
BEGIN:VEVENT
DTSTART;TZID=Europe/Berlin:20250326T141500
DTEND;TZID=Europe/Berlin:20250326T180000
DTSTAMP:20260421T124726
CREATED:20240626T205520Z
LAST-MODIFIED:20240626T205520Z
UID:10006092-1742998500-1743012000@katago-ev.de
SUMMARY:Robotikkurs für Kinder - Liga der Roboter
DESCRIPTION:Externe Veranstaltung \nWeitere Infos unter  https://ligaderroboter.de/
URL:https://katago-ev.de/event/robotikkurs-fuer-kinder-liga-der-roboter-4/2025-03-26
LOCATION:Vereinsheim 2 (Hegelstraße 11a)\, Hegelstraße 11a\, Bamberg\, Bayern\, 96052\, Germany
ATTACH;FMTTYPE=image/png:https://katago-ev.de/wp-content/uploads/2024/06/LDR.png
ORGANIZER;CN="Liga der Roboter":MAILTO:kontakt@ligaderroboter.de
END:VEVENT
BEGIN:VEVENT
DTSTART;TZID=Europe/Berlin:20250324T143000
DTEND;TZID=Europe/Berlin:20250324T190000
DTSTAMP:20260421T124726
CREATED:20240626T210126Z
LAST-MODIFIED:20240626T210437Z
UID:10006223-1742826600-1742842800@katago-ev.de
SUMMARY:Robotikkurs für Kinder - Liga der Roboter
DESCRIPTION:Externe Veranstaltung \nWeitere Infos unter  https://ligaderroboter.de/
URL:https://katago-ev.de/event/robotikkurs-fuer-kinder-liga-der-roboter-5/2025-03-24
LOCATION:Vereinsheim 2 (Hegelstraße 11a)\, Hegelstraße 11a\, Bamberg\, Bayern\, 96052\, Germany
ATTACH;FMTTYPE=image/png:https://katago-ev.de/wp-content/uploads/2024/06/LDR.png
ORGANIZER;CN="Liga der Roboter":MAILTO:kontakt@ligaderroboter.de
END:VEVENT
BEGIN:VEVENT
DTSTART;TZID=Europe/Berlin:20250322T083000
DTEND;TZID=Europe/Berlin:20250322T150000
DTSTAMP:20260421T124726
CREATED:20240626T204120Z
LAST-MODIFIED:20240626T205219Z
UID:10006030-1742632200-1742655600@katago-ev.de
SUMMARY:Robotikkurs für Kinder - Liga der Roboter
DESCRIPTION:Externe Veranstaltung \nWeitere Infos unter  https://ligaderroboter.de/
URL:https://katago-ev.de/event/robotikkurs-fuer-kinder-liga-der-roboter-3/2025-03-22
LOCATION:Vereinsheim 2 (Hegelstraße 11a)\, Hegelstraße 11a\, Bamberg\, Bayern\, 96052\, Germany
ATTACH;FMTTYPE=image/png:https://katago-ev.de/wp-content/uploads/2024/06/LDR.png
ORGANIZER;CN="Liga der Roboter":MAILTO:kontakt@ligaderroboter.de
END:VEVENT
BEGIN:VEVENT
DTSTART;TZID=Europe/Berlin:20250319T141500
DTEND;TZID=Europe/Berlin:20250319T180000
DTSTAMP:20260421T124726
CREATED:20240626T205520Z
LAST-MODIFIED:20240626T205520Z
UID:10006091-1742393700-1742407200@katago-ev.de
SUMMARY:Robotikkurs für Kinder - Liga der Roboter
DESCRIPTION:Externe Veranstaltung \nWeitere Infos unter  https://ligaderroboter.de/
URL:https://katago-ev.de/event/robotikkurs-fuer-kinder-liga-der-roboter-4/2025-03-19
LOCATION:Vereinsheim 2 (Hegelstraße 11a)\, Hegelstraße 11a\, Bamberg\, Bayern\, 96052\, Germany
ATTACH;FMTTYPE=image/png:https://katago-ev.de/wp-content/uploads/2024/06/LDR.png
ORGANIZER;CN="Liga der Roboter":MAILTO:kontakt@ligaderroboter.de
END:VEVENT
BEGIN:VEVENT
DTSTART;TZID=Europe/Berlin:20250317T143000
DTEND;TZID=Europe/Berlin:20250317T190000
DTSTAMP:20260421T124726
CREATED:20240626T210126Z
LAST-MODIFIED:20240626T210437Z
UID:10006222-1742221800-1742238000@katago-ev.de
SUMMARY:Robotikkurs für Kinder - Liga der Roboter
DESCRIPTION:Externe Veranstaltung \nWeitere Infos unter  https://ligaderroboter.de/
URL:https://katago-ev.de/event/robotikkurs-fuer-kinder-liga-der-roboter-5/2025-03-17
LOCATION:Vereinsheim 2 (Hegelstraße 11a)\, Hegelstraße 11a\, Bamberg\, Bayern\, 96052\, Germany
ATTACH;FMTTYPE=image/png:https://katago-ev.de/wp-content/uploads/2024/06/LDR.png
ORGANIZER;CN="Liga der Roboter":MAILTO:kontakt@ligaderroboter.de
END:VEVENT
BEGIN:VEVENT
DTSTART;TZID=Europe/Berlin:20250315T083000
DTEND;TZID=Europe/Berlin:20250315T150000
DTSTAMP:20260421T124726
CREATED:20240626T204120Z
LAST-MODIFIED:20240626T205219Z
UID:10006029-1742027400-1742050800@katago-ev.de
SUMMARY:Robotikkurs für Kinder - Liga der Roboter
DESCRIPTION:Externe Veranstaltung \nWeitere Infos unter  https://ligaderroboter.de/
URL:https://katago-ev.de/event/robotikkurs-fuer-kinder-liga-der-roboter-3/2025-03-15
LOCATION:Vereinsheim 2 (Hegelstraße 11a)\, Hegelstraße 11a\, Bamberg\, Bayern\, 96052\, Germany
ATTACH;FMTTYPE=image/png:https://katago-ev.de/wp-content/uploads/2024/06/LDR.png
ORGANIZER;CN="Liga der Roboter":MAILTO:kontakt@ligaderroboter.de
END:VEVENT
BEGIN:VEVENT
DTSTART;TZID=Europe/Berlin:20250312T141500
DTEND;TZID=Europe/Berlin:20250312T180000
DTSTAMP:20260421T124726
CREATED:20240626T205520Z
LAST-MODIFIED:20240626T205520Z
UID:10006090-1741788900-1741802400@katago-ev.de
SUMMARY:Robotikkurs für Kinder - Liga der Roboter
DESCRIPTION:Externe Veranstaltung \nWeitere Infos unter  https://ligaderroboter.de/
URL:https://katago-ev.de/event/robotikkurs-fuer-kinder-liga-der-roboter-4/2025-03-12
LOCATION:Vereinsheim 2 (Hegelstraße 11a)\, Hegelstraße 11a\, Bamberg\, Bayern\, 96052\, Germany
ATTACH;FMTTYPE=image/png:https://katago-ev.de/wp-content/uploads/2024/06/LDR.png
ORGANIZER;CN="Liga der Roboter":MAILTO:kontakt@ligaderroboter.de
END:VEVENT
BEGIN:VEVENT
DTSTART;TZID=Europe/Berlin:20250310T143000
DTEND;TZID=Europe/Berlin:20250310T190000
DTSTAMP:20260421T124726
CREATED:20240626T210126Z
LAST-MODIFIED:20240626T210437Z
UID:10006221-1741617000-1741633200@katago-ev.de
SUMMARY:Robotikkurs für Kinder - Liga der Roboter
DESCRIPTION:Externe Veranstaltung \nWeitere Infos unter  https://ligaderroboter.de/
URL:https://katago-ev.de/event/robotikkurs-fuer-kinder-liga-der-roboter-5/2025-03-10
LOCATION:Vereinsheim 2 (Hegelstraße 11a)\, Hegelstraße 11a\, Bamberg\, Bayern\, 96052\, Germany
ATTACH;FMTTYPE=image/png:https://katago-ev.de/wp-content/uploads/2024/06/LDR.png
ORGANIZER;CN="Liga der Roboter":MAILTO:kontakt@ligaderroboter.de
END:VEVENT
BEGIN:VEVENT
DTSTART;TZID=Europe/Berlin:20250308T083000
DTEND;TZID=Europe/Berlin:20250308T150000
DTSTAMP:20260421T124726
CREATED:20240626T204120Z
LAST-MODIFIED:20240626T205219Z
UID:10006028-1741422600-1741446000@katago-ev.de
SUMMARY:Robotikkurs für Kinder - Liga der Roboter
DESCRIPTION:Externe Veranstaltung \nWeitere Infos unter  https://ligaderroboter.de/
URL:https://katago-ev.de/event/robotikkurs-fuer-kinder-liga-der-roboter-3/2025-03-08
LOCATION:Vereinsheim 2 (Hegelstraße 11a)\, Hegelstraße 11a\, Bamberg\, Bayern\, 96052\, Germany
ATTACH;FMTTYPE=image/png:https://katago-ev.de/wp-content/uploads/2024/06/LDR.png
ORGANIZER;CN="Liga der Roboter":MAILTO:kontakt@ligaderroboter.de
END:VEVENT
BEGIN:VEVENT
DTSTART;TZID=Europe/Berlin:20250305T141500
DTEND;TZID=Europe/Berlin:20250305T180000
DTSTAMP:20260421T124726
CREATED:20240626T205520Z
LAST-MODIFIED:20240626T205520Z
UID:10006089-1741184100-1741197600@katago-ev.de
SUMMARY:Robotikkurs für Kinder - Liga der Roboter
DESCRIPTION:Externe Veranstaltung \nWeitere Infos unter  https://ligaderroboter.de/
URL:https://katago-ev.de/event/robotikkurs-fuer-kinder-liga-der-roboter-4/2025-03-05
LOCATION:Vereinsheim 2 (Hegelstraße 11a)\, Hegelstraße 11a\, Bamberg\, Bayern\, 96052\, Germany
ATTACH;FMTTYPE=image/png:https://katago-ev.de/wp-content/uploads/2024/06/LDR.png
ORGANIZER;CN="Liga der Roboter":MAILTO:kontakt@ligaderroboter.de
END:VEVENT
BEGIN:VEVENT
DTSTART;TZID=Europe/Berlin:20250303T143000
DTEND;TZID=Europe/Berlin:20250303T190000
DTSTAMP:20260421T124726
CREATED:20240626T210126Z
LAST-MODIFIED:20240626T210437Z
UID:10006220-1741012200-1741028400@katago-ev.de
SUMMARY:Robotikkurs für Kinder - Liga der Roboter
DESCRIPTION:Externe Veranstaltung \nWeitere Infos unter  https://ligaderroboter.de/
URL:https://katago-ev.de/event/robotikkurs-fuer-kinder-liga-der-roboter-5/2025-03-03
LOCATION:Vereinsheim 2 (Hegelstraße 11a)\, Hegelstraße 11a\, Bamberg\, Bayern\, 96052\, Germany
ATTACH;FMTTYPE=image/png:https://katago-ev.de/wp-content/uploads/2024/06/LDR.png
ORGANIZER;CN="Liga der Roboter":MAILTO:kontakt@ligaderroboter.de
END:VEVENT
BEGIN:VEVENT
DTSTART;TZID=Europe/Berlin:20250301T083000
DTEND;TZID=Europe/Berlin:20250301T150000
DTSTAMP:20260421T124726
CREATED:20240626T204120Z
LAST-MODIFIED:20240626T205219Z
UID:10006027-1740817800-1740841200@katago-ev.de
SUMMARY:Robotikkurs für Kinder - Liga der Roboter
DESCRIPTION:Externe Veranstaltung \nWeitere Infos unter  https://ligaderroboter.de/
URL:https://katago-ev.de/event/robotikkurs-fuer-kinder-liga-der-roboter-3/2025-03-01
LOCATION:Vereinsheim 2 (Hegelstraße 11a)\, Hegelstraße 11a\, Bamberg\, Bayern\, 96052\, Germany
ATTACH;FMTTYPE=image/png:https://katago-ev.de/wp-content/uploads/2024/06/LDR.png
ORGANIZER;CN="Liga der Roboter":MAILTO:kontakt@ligaderroboter.de
END:VEVENT
BEGIN:VEVENT
DTSTART;TZID=Europe/Berlin:20250226T141500
DTEND;TZID=Europe/Berlin:20250226T180000
DTSTAMP:20260421T124726
CREATED:20240626T205520Z
LAST-MODIFIED:20240626T205520Z
UID:10006088-1740579300-1740592800@katago-ev.de
SUMMARY:Robotikkurs für Kinder - Liga der Roboter
DESCRIPTION:Externe Veranstaltung \nWeitere Infos unter  https://ligaderroboter.de/
URL:https://katago-ev.de/event/robotikkurs-fuer-kinder-liga-der-roboter-4/2025-02-26
LOCATION:Vereinsheim 2 (Hegelstraße 11a)\, Hegelstraße 11a\, Bamberg\, Bayern\, 96052\, Germany
ATTACH;FMTTYPE=image/png:https://katago-ev.de/wp-content/uploads/2024/06/LDR.png
ORGANIZER;CN="Liga der Roboter":MAILTO:kontakt@ligaderroboter.de
END:VEVENT
BEGIN:VEVENT
DTSTART;TZID=Europe/Berlin:20250224T143000
DTEND;TZID=Europe/Berlin:20250224T190000
DTSTAMP:20260421T124726
CREATED:20240626T210126Z
LAST-MODIFIED:20240626T210437Z
UID:10006219-1740407400-1740423600@katago-ev.de
SUMMARY:Robotikkurs für Kinder - Liga der Roboter
DESCRIPTION:Externe Veranstaltung \nWeitere Infos unter  https://ligaderroboter.de/
URL:https://katago-ev.de/event/robotikkurs-fuer-kinder-liga-der-roboter-5/2025-02-24
LOCATION:Vereinsheim 2 (Hegelstraße 11a)\, Hegelstraße 11a\, Bamberg\, Bayern\, 96052\, Germany
ATTACH;FMTTYPE=image/png:https://katago-ev.de/wp-content/uploads/2024/06/LDR.png
ORGANIZER;CN="Liga der Roboter":MAILTO:kontakt@ligaderroboter.de
END:VEVENT
BEGIN:VEVENT
DTSTART;TZID=Europe/Berlin:20250222T083000
DTEND;TZID=Europe/Berlin:20250222T150000
DTSTAMP:20260421T124726
CREATED:20240626T204120Z
LAST-MODIFIED:20240626T205219Z
UID:10006026-1740213000-1740236400@katago-ev.de
SUMMARY:Robotikkurs für Kinder - Liga der Roboter
DESCRIPTION:Externe Veranstaltung \nWeitere Infos unter  https://ligaderroboter.de/
URL:https://katago-ev.de/event/robotikkurs-fuer-kinder-liga-der-roboter-3/2025-02-22
LOCATION:Vereinsheim 2 (Hegelstraße 11a)\, Hegelstraße 11a\, Bamberg\, Bayern\, 96052\, Germany
ATTACH;FMTTYPE=image/png:https://katago-ev.de/wp-content/uploads/2024/06/LDR.png
ORGANIZER;CN="Liga der Roboter":MAILTO:kontakt@ligaderroboter.de
END:VEVENT
BEGIN:VEVENT
DTSTART;TZID=Europe/Berlin:20250219T141500
DTEND;TZID=Europe/Berlin:20250219T180000
DTSTAMP:20260421T124726
CREATED:20240626T205520Z
LAST-MODIFIED:20240626T205520Z
UID:10006087-1739974500-1739988000@katago-ev.de
SUMMARY:Robotikkurs für Kinder - Liga der Roboter
DESCRIPTION:Externe Veranstaltung \nWeitere Infos unter  https://ligaderroboter.de/
URL:https://katago-ev.de/event/robotikkurs-fuer-kinder-liga-der-roboter-4/2025-02-19
LOCATION:Vereinsheim 2 (Hegelstraße 11a)\, Hegelstraße 11a\, Bamberg\, Bayern\, 96052\, Germany
ATTACH;FMTTYPE=image/png:https://katago-ev.de/wp-content/uploads/2024/06/LDR.png
ORGANIZER;CN="Liga der Roboter":MAILTO:kontakt@ligaderroboter.de
END:VEVENT
END:VCALENDAR