BEGIN:VCALENDAR
VERSION:2.0
PRODID:-//katago-ev.de - ECPv6.15.0.1//NONSGML v1.0//EN
CALSCALE:GREGORIAN
METHOD:PUBLISH
X-ORIGINAL-URL:https://katago-ev.de
X-WR-CALDESC:Veranstaltungen für katago-ev.de
REFRESH-INTERVAL;VALUE=DURATION:PT1H
X-Robots-Tag:noindex
X-PUBLISHED-TTL:PT1H
BEGIN:VTIMEZONE
TZID:Europe/Berlin
BEGIN:DAYLIGHT
TZOFFSETFROM:+0100
TZOFFSETTO:+0200
TZNAME:CEST
DTSTART:20240331T010000
END:DAYLIGHT
BEGIN:STANDARD
TZOFFSETFROM:+0200
TZOFFSETTO:+0100
TZNAME:CET
DTSTART:20241027T010000
END:STANDARD
BEGIN:DAYLIGHT
TZOFFSETFROM:+0100
TZOFFSETTO:+0200
TZNAME:CEST
DTSTART:20250330T010000
END:DAYLIGHT
BEGIN:STANDARD
TZOFFSETFROM:+0200
TZOFFSETTO:+0100
TZNAME:CET
DTSTART:20251026T010000
END:STANDARD
END:VTIMEZONE
BEGIN:VEVENT
DTSTART;TZID=Europe/Berlin:20250217T143000
DTEND;TZID=Europe/Berlin:20250217T190000
DTSTAMP:20260421T225258
CREATED:20240626T210126Z
LAST-MODIFIED:20240626T210437Z
UID:10006218-1739802600-1739818800@katago-ev.de
SUMMARY:Robotikkurs für Kinder - Liga der Roboter
DESCRIPTION:Externe Veranstaltung \nWeitere Infos unter  https://ligaderroboter.de/
URL:https://katago-ev.de/event/robotikkurs-fuer-kinder-liga-der-roboter-5/2025-02-17
LOCATION:Vereinsheim 2 (Hegelstraße 11a)\, Hegelstraße 11a\, Bamberg\, Bayern\, 96052\, Germany
ATTACH;FMTTYPE=image/png:https://katago-ev.de/wp-content/uploads/2024/06/LDR.png
ORGANIZER;CN="Liga der Roboter":MAILTO:kontakt@ligaderroboter.de
END:VEVENT
BEGIN:VEVENT
DTSTART;TZID=Europe/Berlin:20250215T083000
DTEND;TZID=Europe/Berlin:20250215T150000
DTSTAMP:20260421T225258
CREATED:20240626T204120Z
LAST-MODIFIED:20240626T205219Z
UID:10006025-1739608200-1739631600@katago-ev.de
SUMMARY:Robotikkurs für Kinder - Liga der Roboter
DESCRIPTION:Externe Veranstaltung \nWeitere Infos unter  https://ligaderroboter.de/
URL:https://katago-ev.de/event/robotikkurs-fuer-kinder-liga-der-roboter-3/2025-02-15
LOCATION:Vereinsheim 2 (Hegelstraße 11a)\, Hegelstraße 11a\, Bamberg\, Bayern\, 96052\, Germany
ATTACH;FMTTYPE=image/png:https://katago-ev.de/wp-content/uploads/2024/06/LDR.png
ORGANIZER;CN="Liga der Roboter":MAILTO:kontakt@ligaderroboter.de
END:VEVENT
BEGIN:VEVENT
DTSTART;TZID=Europe/Berlin:20250212T141500
DTEND;TZID=Europe/Berlin:20250212T180000
DTSTAMP:20260421T225258
CREATED:20240626T205520Z
LAST-MODIFIED:20240626T205520Z
UID:10006086-1739369700-1739383200@katago-ev.de
SUMMARY:Robotikkurs für Kinder - Liga der Roboter
DESCRIPTION:Externe Veranstaltung \nWeitere Infos unter  https://ligaderroboter.de/
URL:https://katago-ev.de/event/robotikkurs-fuer-kinder-liga-der-roboter-4/2025-02-12
LOCATION:Vereinsheim 2 (Hegelstraße 11a)\, Hegelstraße 11a\, Bamberg\, Bayern\, 96052\, Germany
ATTACH;FMTTYPE=image/png:https://katago-ev.de/wp-content/uploads/2024/06/LDR.png
ORGANIZER;CN="Liga der Roboter":MAILTO:kontakt@ligaderroboter.de
END:VEVENT
BEGIN:VEVENT
DTSTART;TZID=Europe/Berlin:20250210T143000
DTEND;TZID=Europe/Berlin:20250210T190000
DTSTAMP:20260421T225258
CREATED:20240626T210126Z
LAST-MODIFIED:20240626T210437Z
UID:10006217-1739197800-1739214000@katago-ev.de
SUMMARY:Robotikkurs für Kinder - Liga der Roboter
DESCRIPTION:Externe Veranstaltung \nWeitere Infos unter  https://ligaderroboter.de/
URL:https://katago-ev.de/event/robotikkurs-fuer-kinder-liga-der-roboter-5/2025-02-10
LOCATION:Vereinsheim 2 (Hegelstraße 11a)\, Hegelstraße 11a\, Bamberg\, Bayern\, 96052\, Germany
ATTACH;FMTTYPE=image/png:https://katago-ev.de/wp-content/uploads/2024/06/LDR.png
ORGANIZER;CN="Liga der Roboter":MAILTO:kontakt@ligaderroboter.de
END:VEVENT
BEGIN:VEVENT
DTSTART;TZID=Europe/Berlin:20250208T083000
DTEND;TZID=Europe/Berlin:20250208T150000
DTSTAMP:20260421T225258
CREATED:20240626T204120Z
LAST-MODIFIED:20240626T205219Z
UID:10006024-1739003400-1739026800@katago-ev.de
SUMMARY:Robotikkurs für Kinder - Liga der Roboter
DESCRIPTION:Externe Veranstaltung \nWeitere Infos unter  https://ligaderroboter.de/
URL:https://katago-ev.de/event/robotikkurs-fuer-kinder-liga-der-roboter-3/2025-02-08
LOCATION:Vereinsheim 2 (Hegelstraße 11a)\, Hegelstraße 11a\, Bamberg\, Bayern\, 96052\, Germany
ATTACH;FMTTYPE=image/png:https://katago-ev.de/wp-content/uploads/2024/06/LDR.png
ORGANIZER;CN="Liga der Roboter":MAILTO:kontakt@ligaderroboter.de
END:VEVENT
BEGIN:VEVENT
DTSTART;TZID=Europe/Berlin:20250205T141500
DTEND;TZID=Europe/Berlin:20250205T180000
DTSTAMP:20260421T225258
CREATED:20240626T205520Z
LAST-MODIFIED:20240626T205520Z
UID:10006085-1738764900-1738778400@katago-ev.de
SUMMARY:Robotikkurs für Kinder - Liga der Roboter
DESCRIPTION:Externe Veranstaltung \nWeitere Infos unter  https://ligaderroboter.de/
URL:https://katago-ev.de/event/robotikkurs-fuer-kinder-liga-der-roboter-4/2025-02-05
LOCATION:Vereinsheim 2 (Hegelstraße 11a)\, Hegelstraße 11a\, Bamberg\, Bayern\, 96052\, Germany
ATTACH;FMTTYPE=image/png:https://katago-ev.de/wp-content/uploads/2024/06/LDR.png
ORGANIZER;CN="Liga der Roboter":MAILTO:kontakt@ligaderroboter.de
END:VEVENT
BEGIN:VEVENT
DTSTART;TZID=Europe/Berlin:20250203T143000
DTEND;TZID=Europe/Berlin:20250203T190000
DTSTAMP:20260421T225258
CREATED:20240626T210126Z
LAST-MODIFIED:20240626T210437Z
UID:10006216-1738593000-1738609200@katago-ev.de
SUMMARY:Robotikkurs für Kinder - Liga der Roboter
DESCRIPTION:Externe Veranstaltung \nWeitere Infos unter  https://ligaderroboter.de/
URL:https://katago-ev.de/event/robotikkurs-fuer-kinder-liga-der-roboter-5/2025-02-03
LOCATION:Vereinsheim 2 (Hegelstraße 11a)\, Hegelstraße 11a\, Bamberg\, Bayern\, 96052\, Germany
ATTACH;FMTTYPE=image/png:https://katago-ev.de/wp-content/uploads/2024/06/LDR.png
ORGANIZER;CN="Liga der Roboter":MAILTO:kontakt@ligaderroboter.de
END:VEVENT
BEGIN:VEVENT
DTSTART;TZID=Europe/Berlin:20250201T083000
DTEND;TZID=Europe/Berlin:20250201T150000
DTSTAMP:20260421T225258
CREATED:20240626T204120Z
LAST-MODIFIED:20240626T205219Z
UID:10006023-1738398600-1738422000@katago-ev.de
SUMMARY:Robotikkurs für Kinder - Liga der Roboter
DESCRIPTION:Externe Veranstaltung \nWeitere Infos unter  https://ligaderroboter.de/
URL:https://katago-ev.de/event/robotikkurs-fuer-kinder-liga-der-roboter-3/2025-02-01
LOCATION:Vereinsheim 2 (Hegelstraße 11a)\, Hegelstraße 11a\, Bamberg\, Bayern\, 96052\, Germany
ATTACH;FMTTYPE=image/png:https://katago-ev.de/wp-content/uploads/2024/06/LDR.png
ORGANIZER;CN="Liga der Roboter":MAILTO:kontakt@ligaderroboter.de
END:VEVENT
BEGIN:VEVENT
DTSTART;TZID=Europe/Berlin:20250129T141500
DTEND;TZID=Europe/Berlin:20250129T180000
DTSTAMP:20260421T225258
CREATED:20240626T205520Z
LAST-MODIFIED:20240626T205520Z
UID:10006084-1738160100-1738173600@katago-ev.de
SUMMARY:Robotikkurs für Kinder - Liga der Roboter
DESCRIPTION:Externe Veranstaltung \nWeitere Infos unter  https://ligaderroboter.de/
URL:https://katago-ev.de/event/robotikkurs-fuer-kinder-liga-der-roboter-4/2025-01-29
LOCATION:Vereinsheim 2 (Hegelstraße 11a)\, Hegelstraße 11a\, Bamberg\, Bayern\, 96052\, Germany
ATTACH;FMTTYPE=image/png:https://katago-ev.de/wp-content/uploads/2024/06/LDR.png
ORGANIZER;CN="Liga der Roboter":MAILTO:kontakt@ligaderroboter.de
END:VEVENT
BEGIN:VEVENT
DTSTART;TZID=Europe/Berlin:20250127T143000
DTEND;TZID=Europe/Berlin:20250127T190000
DTSTAMP:20260421T225258
CREATED:20240626T210126Z
LAST-MODIFIED:20240626T210437Z
UID:10006215-1737988200-1738004400@katago-ev.de
SUMMARY:Robotikkurs für Kinder - Liga der Roboter
DESCRIPTION:Externe Veranstaltung \nWeitere Infos unter  https://ligaderroboter.de/
URL:https://katago-ev.de/event/robotikkurs-fuer-kinder-liga-der-roboter-5/2025-01-27
LOCATION:Vereinsheim 2 (Hegelstraße 11a)\, Hegelstraße 11a\, Bamberg\, Bayern\, 96052\, Germany
ATTACH;FMTTYPE=image/png:https://katago-ev.de/wp-content/uploads/2024/06/LDR.png
ORGANIZER;CN="Liga der Roboter":MAILTO:kontakt@ligaderroboter.de
END:VEVENT
BEGIN:VEVENT
DTSTART;TZID=Europe/Berlin:20250125T083000
DTEND;TZID=Europe/Berlin:20250125T150000
DTSTAMP:20260421T225258
CREATED:20240626T204120Z
LAST-MODIFIED:20240626T205219Z
UID:10006022-1737793800-1737817200@katago-ev.de
SUMMARY:Robotikkurs für Kinder - Liga der Roboter
DESCRIPTION:Externe Veranstaltung \nWeitere Infos unter  https://ligaderroboter.de/
URL:https://katago-ev.de/event/robotikkurs-fuer-kinder-liga-der-roboter-3/2025-01-25
LOCATION:Vereinsheim 2 (Hegelstraße 11a)\, Hegelstraße 11a\, Bamberg\, Bayern\, 96052\, Germany
ATTACH;FMTTYPE=image/png:https://katago-ev.de/wp-content/uploads/2024/06/LDR.png
ORGANIZER;CN="Liga der Roboter":MAILTO:kontakt@ligaderroboter.de
END:VEVENT
BEGIN:VEVENT
DTSTART;TZID=Europe/Berlin:20250122T141500
DTEND;TZID=Europe/Berlin:20250122T180000
DTSTAMP:20260421T225258
CREATED:20240626T205520Z
LAST-MODIFIED:20240626T205520Z
UID:10006083-1737555300-1737568800@katago-ev.de
SUMMARY:Robotikkurs für Kinder - Liga der Roboter
DESCRIPTION:Externe Veranstaltung \nWeitere Infos unter  https://ligaderroboter.de/
URL:https://katago-ev.de/event/robotikkurs-fuer-kinder-liga-der-roboter-4/2025-01-22
LOCATION:Vereinsheim 2 (Hegelstraße 11a)\, Hegelstraße 11a\, Bamberg\, Bayern\, 96052\, Germany
ATTACH;FMTTYPE=image/png:https://katago-ev.de/wp-content/uploads/2024/06/LDR.png
ORGANIZER;CN="Liga der Roboter":MAILTO:kontakt@ligaderroboter.de
END:VEVENT
BEGIN:VEVENT
DTSTART;TZID=Europe/Berlin:20250120T143000
DTEND;TZID=Europe/Berlin:20250120T190000
DTSTAMP:20260421T225258
CREATED:20240626T210126Z
LAST-MODIFIED:20240626T210437Z
UID:10006214-1737383400-1737399600@katago-ev.de
SUMMARY:Robotikkurs für Kinder - Liga der Roboter
DESCRIPTION:Externe Veranstaltung \nWeitere Infos unter  https://ligaderroboter.de/
URL:https://katago-ev.de/event/robotikkurs-fuer-kinder-liga-der-roboter-5/2025-01-20
LOCATION:Vereinsheim 2 (Hegelstraße 11a)\, Hegelstraße 11a\, Bamberg\, Bayern\, 96052\, Germany
ATTACH;FMTTYPE=image/png:https://katago-ev.de/wp-content/uploads/2024/06/LDR.png
ORGANIZER;CN="Liga der Roboter":MAILTO:kontakt@ligaderroboter.de
END:VEVENT
BEGIN:VEVENT
DTSTART;TZID=Europe/Berlin:20250118T083000
DTEND;TZID=Europe/Berlin:20250118T150000
DTSTAMP:20260421T225258
CREATED:20240626T204120Z
LAST-MODIFIED:20240626T205219Z
UID:10006021-1737189000-1737212400@katago-ev.de
SUMMARY:Robotikkurs für Kinder - Liga der Roboter
DESCRIPTION:Externe Veranstaltung \nWeitere Infos unter  https://ligaderroboter.de/
URL:https://katago-ev.de/event/robotikkurs-fuer-kinder-liga-der-roboter-3/2025-01-18
LOCATION:Vereinsheim 2 (Hegelstraße 11a)\, Hegelstraße 11a\, Bamberg\, Bayern\, 96052\, Germany
ATTACH;FMTTYPE=image/png:https://katago-ev.de/wp-content/uploads/2024/06/LDR.png
ORGANIZER;CN="Liga der Roboter":MAILTO:kontakt@ligaderroboter.de
END:VEVENT
BEGIN:VEVENT
DTSTART;TZID=Europe/Berlin:20250115T141500
DTEND;TZID=Europe/Berlin:20250115T180000
DTSTAMP:20260421T225258
CREATED:20240626T205520Z
LAST-MODIFIED:20240626T205520Z
UID:10006082-1736950500-1736964000@katago-ev.de
SUMMARY:Robotikkurs für Kinder - Liga der Roboter
DESCRIPTION:Externe Veranstaltung \nWeitere Infos unter  https://ligaderroboter.de/
URL:https://katago-ev.de/event/robotikkurs-fuer-kinder-liga-der-roboter-4/2025-01-15
LOCATION:Vereinsheim 2 (Hegelstraße 11a)\, Hegelstraße 11a\, Bamberg\, Bayern\, 96052\, Germany
ATTACH;FMTTYPE=image/png:https://katago-ev.de/wp-content/uploads/2024/06/LDR.png
ORGANIZER;CN="Liga der Roboter":MAILTO:kontakt@ligaderroboter.de
END:VEVENT
BEGIN:VEVENT
DTSTART;TZID=Europe/Berlin:20250113T143000
DTEND;TZID=Europe/Berlin:20250113T190000
DTSTAMP:20260421T225258
CREATED:20240626T210126Z
LAST-MODIFIED:20240626T210437Z
UID:10006213-1736778600-1736794800@katago-ev.de
SUMMARY:Robotikkurs für Kinder - Liga der Roboter
DESCRIPTION:Externe Veranstaltung \nWeitere Infos unter  https://ligaderroboter.de/
URL:https://katago-ev.de/event/robotikkurs-fuer-kinder-liga-der-roboter-5/2025-01-13
LOCATION:Vereinsheim 2 (Hegelstraße 11a)\, Hegelstraße 11a\, Bamberg\, Bayern\, 96052\, Germany
ATTACH;FMTTYPE=image/png:https://katago-ev.de/wp-content/uploads/2024/06/LDR.png
ORGANIZER;CN="Liga der Roboter":MAILTO:kontakt@ligaderroboter.de
END:VEVENT
BEGIN:VEVENT
DTSTART;TZID=Europe/Berlin:20250111T083000
DTEND;TZID=Europe/Berlin:20250111T150000
DTSTAMP:20260421T225258
CREATED:20240626T204120Z
LAST-MODIFIED:20240626T205219Z
UID:10006020-1736584200-1736607600@katago-ev.de
SUMMARY:Robotikkurs für Kinder - Liga der Roboter
DESCRIPTION:Externe Veranstaltung \nWeitere Infos unter  https://ligaderroboter.de/
URL:https://katago-ev.de/event/robotikkurs-fuer-kinder-liga-der-roboter-3/2025-01-11
LOCATION:Vereinsheim 2 (Hegelstraße 11a)\, Hegelstraße 11a\, Bamberg\, Bayern\, 96052\, Germany
ATTACH;FMTTYPE=image/png:https://katago-ev.de/wp-content/uploads/2024/06/LDR.png
ORGANIZER;CN="Liga der Roboter":MAILTO:kontakt@ligaderroboter.de
END:VEVENT
BEGIN:VEVENT
DTSTART;TZID=Europe/Berlin:20250108T141500
DTEND;TZID=Europe/Berlin:20250108T180000
DTSTAMP:20260421T225258
CREATED:20240626T205520Z
LAST-MODIFIED:20240626T205520Z
UID:10006081-1736345700-1736359200@katago-ev.de
SUMMARY:Robotikkurs für Kinder - Liga der Roboter
DESCRIPTION:Externe Veranstaltung \nWeitere Infos unter  https://ligaderroboter.de/
URL:https://katago-ev.de/event/robotikkurs-fuer-kinder-liga-der-roboter-4/2025-01-08
LOCATION:Vereinsheim 2 (Hegelstraße 11a)\, Hegelstraße 11a\, Bamberg\, Bayern\, 96052\, Germany
ATTACH;FMTTYPE=image/png:https://katago-ev.de/wp-content/uploads/2024/06/LDR.png
ORGANIZER;CN="Liga der Roboter":MAILTO:kontakt@ligaderroboter.de
END:VEVENT
BEGIN:VEVENT
DTSTART;TZID=Europe/Berlin:20250106T143000
DTEND;TZID=Europe/Berlin:20250106T190000
DTSTAMP:20260421T225258
CREATED:20240626T210126Z
LAST-MODIFIED:20240626T210437Z
UID:10006212-1736173800-1736190000@katago-ev.de
SUMMARY:Robotikkurs für Kinder - Liga der Roboter
DESCRIPTION:Externe Veranstaltung \nWeitere Infos unter  https://ligaderroboter.de/
URL:https://katago-ev.de/event/robotikkurs-fuer-kinder-liga-der-roboter-5/2025-01-06
LOCATION:Vereinsheim 2 (Hegelstraße 11a)\, Hegelstraße 11a\, Bamberg\, Bayern\, 96052\, Germany
ATTACH;FMTTYPE=image/png:https://katago-ev.de/wp-content/uploads/2024/06/LDR.png
ORGANIZER;CN="Liga der Roboter":MAILTO:kontakt@ligaderroboter.de
END:VEVENT
BEGIN:VEVENT
DTSTART;TZID=Europe/Berlin:20250104T083000
DTEND;TZID=Europe/Berlin:20250104T150000
DTSTAMP:20260421T225258
CREATED:20240626T204120Z
LAST-MODIFIED:20240626T205219Z
UID:10006019-1735979400-1736002800@katago-ev.de
SUMMARY:Robotikkurs für Kinder - Liga der Roboter
DESCRIPTION:Externe Veranstaltung \nWeitere Infos unter  https://ligaderroboter.de/
URL:https://katago-ev.de/event/robotikkurs-fuer-kinder-liga-der-roboter-3/2025-01-04
LOCATION:Vereinsheim 2 (Hegelstraße 11a)\, Hegelstraße 11a\, Bamberg\, Bayern\, 96052\, Germany
ATTACH;FMTTYPE=image/png:https://katago-ev.de/wp-content/uploads/2024/06/LDR.png
ORGANIZER;CN="Liga der Roboter":MAILTO:kontakt@ligaderroboter.de
END:VEVENT
BEGIN:VEVENT
DTSTART;TZID=Europe/Berlin:20250101T141500
DTEND;TZID=Europe/Berlin:20250101T180000
DTSTAMP:20260421T225258
CREATED:20240626T205520Z
LAST-MODIFIED:20240626T205520Z
UID:10006080-1735740900-1735754400@katago-ev.de
SUMMARY:Robotikkurs für Kinder - Liga der Roboter
DESCRIPTION:Externe Veranstaltung \nWeitere Infos unter  https://ligaderroboter.de/
URL:https://katago-ev.de/event/robotikkurs-fuer-kinder-liga-der-roboter-4/2025-01-01
LOCATION:Vereinsheim 2 (Hegelstraße 11a)\, Hegelstraße 11a\, Bamberg\, Bayern\, 96052\, Germany
ATTACH;FMTTYPE=image/png:https://katago-ev.de/wp-content/uploads/2024/06/LDR.png
ORGANIZER;CN="Liga der Roboter":MAILTO:kontakt@ligaderroboter.de
END:VEVENT
BEGIN:VEVENT
DTSTART;TZID=Europe/Berlin:20241230T143000
DTEND;TZID=Europe/Berlin:20241230T190000
DTSTAMP:20260421T225258
CREATED:20240626T210126Z
LAST-MODIFIED:20240626T210437Z
UID:10006211-1735569000-1735585200@katago-ev.de
SUMMARY:Robotikkurs für Kinder - Liga der Roboter
DESCRIPTION:Externe Veranstaltung \nWeitere Infos unter  https://ligaderroboter.de/
URL:https://katago-ev.de/event/robotikkurs-fuer-kinder-liga-der-roboter-5/2024-12-30
LOCATION:Vereinsheim 2 (Hegelstraße 11a)\, Hegelstraße 11a\, Bamberg\, Bayern\, 96052\, Germany
ATTACH;FMTTYPE=image/png:https://katago-ev.de/wp-content/uploads/2024/06/LDR.png
ORGANIZER;CN="Liga der Roboter":MAILTO:kontakt@ligaderroboter.de
END:VEVENT
BEGIN:VEVENT
DTSTART;TZID=Europe/Berlin:20241228T083000
DTEND;TZID=Europe/Berlin:20241228T150000
DTSTAMP:20260421T225258
CREATED:20240626T204120Z
LAST-MODIFIED:20240626T205219Z
UID:10006018-1735374600-1735398000@katago-ev.de
SUMMARY:Robotikkurs für Kinder - Liga der Roboter
DESCRIPTION:Externe Veranstaltung \nWeitere Infos unter  https://ligaderroboter.de/
URL:https://katago-ev.de/event/robotikkurs-fuer-kinder-liga-der-roboter-3/2024-12-28
LOCATION:Vereinsheim 2 (Hegelstraße 11a)\, Hegelstraße 11a\, Bamberg\, Bayern\, 96052\, Germany
ATTACH;FMTTYPE=image/png:https://katago-ev.de/wp-content/uploads/2024/06/LDR.png
ORGANIZER;CN="Liga der Roboter":MAILTO:kontakt@ligaderroboter.de
END:VEVENT
BEGIN:VEVENT
DTSTART;TZID=Europe/Berlin:20241225T141500
DTEND;TZID=Europe/Berlin:20241225T180000
DTSTAMP:20260421T225258
CREATED:20240626T205520Z
LAST-MODIFIED:20240626T205520Z
UID:10006079-1735136100-1735149600@katago-ev.de
SUMMARY:Robotikkurs für Kinder - Liga der Roboter
DESCRIPTION:Externe Veranstaltung \nWeitere Infos unter  https://ligaderroboter.de/
URL:https://katago-ev.de/event/robotikkurs-fuer-kinder-liga-der-roboter-4/2024-12-25
LOCATION:Vereinsheim 2 (Hegelstraße 11a)\, Hegelstraße 11a\, Bamberg\, Bayern\, 96052\, Germany
ATTACH;FMTTYPE=image/png:https://katago-ev.de/wp-content/uploads/2024/06/LDR.png
ORGANIZER;CN="Liga der Roboter":MAILTO:kontakt@ligaderroboter.de
END:VEVENT
BEGIN:VEVENT
DTSTART;TZID=Europe/Berlin:20241223T143000
DTEND;TZID=Europe/Berlin:20241223T190000
DTSTAMP:20260421T225258
CREATED:20240626T210126Z
LAST-MODIFIED:20240626T210437Z
UID:10006210-1734964200-1734980400@katago-ev.de
SUMMARY:Robotikkurs für Kinder - Liga der Roboter
DESCRIPTION:Externe Veranstaltung \nWeitere Infos unter  https://ligaderroboter.de/
URL:https://katago-ev.de/event/robotikkurs-fuer-kinder-liga-der-roboter-5/2024-12-23
LOCATION:Vereinsheim 2 (Hegelstraße 11a)\, Hegelstraße 11a\, Bamberg\, Bayern\, 96052\, Germany
ATTACH;FMTTYPE=image/png:https://katago-ev.de/wp-content/uploads/2024/06/LDR.png
ORGANIZER;CN="Liga der Roboter":MAILTO:kontakt@ligaderroboter.de
END:VEVENT
BEGIN:VEVENT
DTSTART;TZID=Europe/Berlin:20241221T083000
DTEND;TZID=Europe/Berlin:20241221T150000
DTSTAMP:20260421T225258
CREATED:20240626T204120Z
LAST-MODIFIED:20240626T205219Z
UID:10006017-1734769800-1734793200@katago-ev.de
SUMMARY:Robotikkurs für Kinder - Liga der Roboter
DESCRIPTION:Externe Veranstaltung \nWeitere Infos unter  https://ligaderroboter.de/
URL:https://katago-ev.de/event/robotikkurs-fuer-kinder-liga-der-roboter-3/2024-12-21
LOCATION:Vereinsheim 2 (Hegelstraße 11a)\, Hegelstraße 11a\, Bamberg\, Bayern\, 96052\, Germany
ATTACH;FMTTYPE=image/png:https://katago-ev.de/wp-content/uploads/2024/06/LDR.png
ORGANIZER;CN="Liga der Roboter":MAILTO:kontakt@ligaderroboter.de
END:VEVENT
BEGIN:VEVENT
DTSTART;TZID=Europe/Berlin:20241218T141500
DTEND;TZID=Europe/Berlin:20241218T180000
DTSTAMP:20260421T225258
CREATED:20240626T205520Z
LAST-MODIFIED:20240626T205520Z
UID:10006078-1734531300-1734544800@katago-ev.de
SUMMARY:Robotikkurs für Kinder - Liga der Roboter
DESCRIPTION:Externe Veranstaltung \nWeitere Infos unter  https://ligaderroboter.de/
URL:https://katago-ev.de/event/robotikkurs-fuer-kinder-liga-der-roboter-4/2024-12-18
LOCATION:Vereinsheim 2 (Hegelstraße 11a)\, Hegelstraße 11a\, Bamberg\, Bayern\, 96052\, Germany
ATTACH;FMTTYPE=image/png:https://katago-ev.de/wp-content/uploads/2024/06/LDR.png
ORGANIZER;CN="Liga der Roboter":MAILTO:kontakt@ligaderroboter.de
END:VEVENT
BEGIN:VEVENT
DTSTART;TZID=Europe/Berlin:20241216T143000
DTEND;TZID=Europe/Berlin:20241216T190000
DTSTAMP:20260421T225258
CREATED:20240626T210126Z
LAST-MODIFIED:20240626T210437Z
UID:10006209-1734359400-1734375600@katago-ev.de
SUMMARY:Robotikkurs für Kinder - Liga der Roboter
DESCRIPTION:Externe Veranstaltung \nWeitere Infos unter  https://ligaderroboter.de/
URL:https://katago-ev.de/event/robotikkurs-fuer-kinder-liga-der-roboter-5/2024-12-16
LOCATION:Vereinsheim 2 (Hegelstraße 11a)\, Hegelstraße 11a\, Bamberg\, Bayern\, 96052\, Germany
ATTACH;FMTTYPE=image/png:https://katago-ev.de/wp-content/uploads/2024/06/LDR.png
ORGANIZER;CN="Liga der Roboter":MAILTO:kontakt@ligaderroboter.de
END:VEVENT
BEGIN:VEVENT
DTSTART;TZID=Europe/Berlin:20241214T083000
DTEND;TZID=Europe/Berlin:20241214T150000
DTSTAMP:20260421T225258
CREATED:20240626T204120Z
LAST-MODIFIED:20240626T205219Z
UID:10006016-1734165000-1734188400@katago-ev.de
SUMMARY:Robotikkurs für Kinder - Liga der Roboter
DESCRIPTION:Externe Veranstaltung \nWeitere Infos unter  https://ligaderroboter.de/
URL:https://katago-ev.de/event/robotikkurs-fuer-kinder-liga-der-roboter-3/2024-12-14
LOCATION:Vereinsheim 2 (Hegelstraße 11a)\, Hegelstraße 11a\, Bamberg\, Bayern\, 96052\, Germany
ATTACH;FMTTYPE=image/png:https://katago-ev.de/wp-content/uploads/2024/06/LDR.png
ORGANIZER;CN="Liga der Roboter":MAILTO:kontakt@ligaderroboter.de
END:VEVENT
BEGIN:VEVENT
DTSTART;TZID=Europe/Berlin:20241211T141500
DTEND;TZID=Europe/Berlin:20241211T180000
DTSTAMP:20260421T225258
CREATED:20240626T205520Z
LAST-MODIFIED:20240626T205520Z
UID:10006077-1733926500-1733940000@katago-ev.de
SUMMARY:Robotikkurs für Kinder - Liga der Roboter
DESCRIPTION:Externe Veranstaltung \nWeitere Infos unter  https://ligaderroboter.de/
URL:https://katago-ev.de/event/robotikkurs-fuer-kinder-liga-der-roboter-4/2024-12-11
LOCATION:Vereinsheim 2 (Hegelstraße 11a)\, Hegelstraße 11a\, Bamberg\, Bayern\, 96052\, Germany
ATTACH;FMTTYPE=image/png:https://katago-ev.de/wp-content/uploads/2024/06/LDR.png
ORGANIZER;CN="Liga der Roboter":MAILTO:kontakt@ligaderroboter.de
END:VEVENT
END:VCALENDAR