BEGIN:VCALENDAR
VERSION:2.0
PRODID:-//katago-ev.de - ECPv6.15.0.1//NONSGML v1.0//EN
CALSCALE:GREGORIAN
METHOD:PUBLISH
X-WR-CALNAME:katago-ev.de
X-ORIGINAL-URL:https://katago-ev.de
X-WR-CALDESC:Veranstaltungen für katago-ev.de
REFRESH-INTERVAL;VALUE=DURATION:PT1H
X-Robots-Tag:noindex
X-PUBLISHED-TTL:PT1H
BEGIN:VTIMEZONE
TZID:Europe/Berlin
BEGIN:DAYLIGHT
TZOFFSETFROM:+0100
TZOFFSETTO:+0200
TZNAME:CEST
DTSTART:20230326T010000
END:DAYLIGHT
BEGIN:STANDARD
TZOFFSETFROM:+0200
TZOFFSETTO:+0100
TZNAME:CET
DTSTART:20231029T010000
END:STANDARD
END:VTIMEZONE
BEGIN:VEVENT
DTSTART;TZID=Europe/Berlin:20231021T200000
DTEND;TZID=Europe/Berlin:20231021T233000
DTSTAMP:20260421T065459
CREATED:20230925T073329Z
LAST-MODIFIED:20230925T073351Z
UID:10003958-1697918400-1697931000@katago-ev.de
SUMMARY:MTG Limited Party Teil 2
DESCRIPTION:Willkommen zu unserem Limited FNM im KaTaGO e.V. \nDies ist ein öffentliches Event zum dem auch Spieler kommen können die keine Mitglieder des Vereins sind.\nBitte beachtet\, dass es nur Mitgliedern gestattet wird eigene Getränke mitzubringen.\nAlle Anderen bedienen sich bitte an den von uns angebotenen Getränken. \nSolltet ihr noch kein Mitglied sein\, aber Interesse an unseren Events oder einer Mitgliedschaft haben\, könnt ihr gerne einen ausgefüllten Mitgliedsantrag zum entsprechenden Event mitbringen und ab da einen kostenlosen Probemonat bei uns starten. Mitgliedsanträge gibt es hier. \nEventdetails: \nAnmeldung: 19:45 – 20:00 Uhr          (Solltet ihr euch verspäten gebt uns rechtzeitig Bescheid\, wir können auch mal warten) \nFormat: Draft – dies ist eine Sonderveranstaltung. Das genaue Set wird am Abend des Events gemeinschaftlich bestimmt. \nStartgeld: \nPreise: Boosterpreise nach Final Standings \nWir freuen uns auf euch! \nDa es immer zu spontanen Änderungen kommen kann\, meldet euch bitte mit eurer Emailadresse\, damit wir euch entsprechend informieren können! \nFragt uns auch gerne vor Ort nach unserer whatsapp Gruppe\, falls ihr öfter kommen wollt.
URL:https://katago-ev.de/event/mtg-limited-party-teil-2
LOCATION:Vereinsheim 1 – Hauptraum (Hegelstraße 1a)\, Hegelstraße 1a\, Bamberg\, Bayern\, 96052\, Germany
CATEGORIES:Magic the Gathering
ORGANIZER;CN="Sneids":MAILTO:chris.sneids@web.de
END:VEVENT
BEGIN:VEVENT
DTSTART;TZID=Europe/Berlin:20231021T150000
DTEND;TZID=Europe/Berlin:20231021T200000
DTSTAMP:20260421T065459
CREATED:20230925T072917Z
LAST-MODIFIED:20230925T072956Z
UID:10003957-1697900400-1697918400@katago-ev.de
SUMMARY:MTG Limited Party Teil 1
DESCRIPTION:Private Veranstaltung \nBei Interesse\, Anfragen bitte direkt an Sneids oder per Mail.
URL:https://katago-ev.de/event/mtg-limited-party-teil-1
LOCATION:Vereinsheim 1 – Keller (Hegelstraße 1a)\, Hegelstraße 1a\, Bamberg\, Bayern\, 96052\, Germany
CATEGORIES:Magic the Gathering
ORGANIZER;CN="Sneids":MAILTO:chris.sneids@web.de
END:VEVENT
BEGIN:VEVENT
DTSTART;TZID=Europe/Berlin:20230218T153000
DTEND;TZID=Europe/Berlin:20230218T233000
DTSTAMP:20260421T065459
CREATED:20230111T193632Z
LAST-MODIFIED:20230111T194850Z
UID:10003572-1676734200-1676763000@katago-ev.de
SUMMARY:Private Magic Draft Night
DESCRIPTION:Private Veranstaltung \nTeilnahme auf Anfrage
URL:https://katago-ev.de/event/private-magic-draft-night
LOCATION:Vereinsheim 1 (Hegelstraße 1a)\, Hegelstraße 1a\, Bamberg\, Bayern\, 96052\, Germany
ATTACH;FMTTYPE=image/jpeg:https://katago-ev.de/wp-content/uploads/2022/07/Chaospool3.jpg
ORGANIZER;CN="Sneids":MAILTO:chris.sneids@web.de
END:VEVENT
END:VCALENDAR