BEGIN:VCALENDAR
VERSION:2.0
PRODID:-//katago-ev.de - ECPv6.15.0.1//NONSGML v1.0//EN
CALSCALE:GREGORIAN
METHOD:PUBLISH
X-ORIGINAL-URL:https://katago-ev.de
X-WR-CALDESC:Veranstaltungen für katago-ev.de
REFRESH-INTERVAL;VALUE=DURATION:PT1H
X-Robots-Tag:noindex
X-PUBLISHED-TTL:PT1H
BEGIN:VTIMEZONE
TZID:Europe/Berlin
BEGIN:DAYLIGHT
TZOFFSETFROM:+0100
TZOFFSETTO:+0200
TZNAME:CEST
DTSTART:20240331T010000
END:DAYLIGHT
BEGIN:STANDARD
TZOFFSETFROM:+0200
TZOFFSETTO:+0100
TZNAME:CET
DTSTART:20241027T010000
END:STANDARD
END:VTIMEZONE
BEGIN:VEVENT
DTSTART;TZID=Europe/Berlin:20240925T141500
DTEND;TZID=Europe/Berlin:20240925T180000
DTSTAMP:20260422T051621
CREATED:20240626T205520Z
LAST-MODIFIED:20240626T205520Z
UID:10006066-1727273700-1727287200@katago-ev.de
SUMMARY:Robotikkurs für Kinder - Liga der Roboter
DESCRIPTION:Externe Veranstaltung \nWeitere Infos unter  https://ligaderroboter.de/
URL:https://katago-ev.de/event/robotikkurs-fuer-kinder-liga-der-roboter-4/2024-09-25
LOCATION:Vereinsheim 2 (Hegelstraße 11a)\, Hegelstraße 11a\, Bamberg\, Bayern\, 96052\, Germany
ATTACH;FMTTYPE=image/png:https://katago-ev.de/wp-content/uploads/2024/06/LDR.png
ORGANIZER;CN="Liga der Roboter":MAILTO:kontakt@ligaderroboter.de
END:VEVENT
BEGIN:VEVENT
DTSTART;TZID=Europe/Berlin:20240923T143000
DTEND;TZID=Europe/Berlin:20240923T190000
DTSTAMP:20260422T051621
CREATED:20240626T210126Z
LAST-MODIFIED:20240626T210437Z
UID:10006197-1727101800-1727118000@katago-ev.de
SUMMARY:Robotikkurs für Kinder - Liga der Roboter
DESCRIPTION:Externe Veranstaltung \nWeitere Infos unter  https://ligaderroboter.de/
URL:https://katago-ev.de/event/robotikkurs-fuer-kinder-liga-der-roboter-5/2024-09-23
LOCATION:Vereinsheim 2 (Hegelstraße 11a)\, Hegelstraße 11a\, Bamberg\, Bayern\, 96052\, Germany
ATTACH;FMTTYPE=image/png:https://katago-ev.de/wp-content/uploads/2024/06/LDR.png
ORGANIZER;CN="Liga der Roboter":MAILTO:kontakt@ligaderroboter.de
END:VEVENT
BEGIN:VEVENT
DTSTART;TZID=Europe/Berlin:20240922T140000
DTEND;TZID=Europe/Berlin:20240922T170000
DTSTAMP:20260422T051621
CREATED:20240919T154852Z
LAST-MODIFIED:20240919T154852Z
UID:10007348-1727013600-1727024400@katago-ev.de
SUMMARY:ONE PIECE Card Game OP8 Release Event
DESCRIPTION:Wir spielen ONE PIECE!!! \nDies ist ein öffentliches Event zu dem auch Spieler kommen können die kein Mitglied des Vereins sind. \nBitte beachtet\, dass es nur Mitgliedern gestattet wird eigene Getränke mitzubringen. \nAlle anderen bedienen sich bitte an den von uns angebotenen Getränken. \nEventdetails: \nAnmeldung: Ab 14:00 Uhr  \nStart 1. Runde: 15:00 \n\nWir freuen uns auf euch!
URL:https://katago-ev.de/event/one-piece-card-game-op8-release-event
LOCATION:Vereinsheim 2 (Hegelstraße 11a)\, Hegelstraße 11a\, Bamberg\, Bayern\, 96052\, Germany
CATEGORIES:Kartenspiele,ONE PIECE
ATTACH;FMTTYPE=image/jpeg:https://katago-ev.de/wp-content/uploads/2024/04/20240416_212747.jpg
END:VEVENT
BEGIN:VEVENT
DTSTART;TZID=Europe/Berlin:20240922T090000
DTEND;TZID=Europe/Berlin:20240922T153000
DTSTAMP:20260422T051621
CREATED:20240709T185956Z
LAST-MODIFIED:20240828T172002Z
UID:10007184-1726995600-1727019000@katago-ev.de
SUMMARY:Yu-Gi-Oh! - 3vs3 INFO Turnier
DESCRIPTION:Es wird wieder Zeit für ein Duell!\nSchnappt euch euer Deck und kommt bei unserem Yu-Gi-Oh!-Turnier vorbei. \nDie Plätze sind auf 10 Teams limitiert also anmelden!! \n!!Meldet euch bitte als Team an\, bei Vorname Team-Name und Nachname die drei Spieler!! \nDies ist ein öffentliches Event zu dem auch Spieler kommen können die kein Mitglied des Vereins sind.\nBitte beachtet\, dass es nur Mitgliedern gestattet wird eigene Getränke mitzubringen.\nAlle anderen bedienen sich bitte an den von uns angebotenen Getränken. \nEventdetails: \nAnmeldung: 09:00 – 09:55 Uhr \nStart der 1. Runde: 10:00 Uhr \nFormat: Constructed Advanced \nStartgeld: 25€ p.P \nPreise: \n1. Platz 3 Displays \n2. Platz 2 Displays \n3. Platz 1 Display  \nWir freuen uns auf euch! \nFragen an: yu-gi-oh@katago-ev.de
URL:https://katago-ev.de/event/yu-gi-oh-turnier-23
LOCATION:Vereinsheim 2 (Hegelstraße 11a)\, Hegelstraße 11a\, Bamberg\, Bayern\, 96052\, Germany
CATEGORIES:3vs3,Kartenspiele,Yu-Gi-Oh!
ATTACH;FMTTYPE=image/jpeg:https://katago-ev.de/wp-content/uploads/2023/04/20230428_135037.jpg
END:VEVENT
BEGIN:VEVENT
DTSTART;TZID=Europe/Berlin:20240921T160000
DTEND;TZID=Europe/Berlin:20240921T210000
DTSTAMP:20260422T051621
CREATED:20240906T212554Z
LAST-MODIFIED:20240906T212701Z
UID:10007307-1726934400-1726952400@katago-ev.de
SUMMARY:Star Wars Unlimited Weekly Play
DESCRIPTION:„In Ordnung\, das ist jetzt nichts Persönliches.“\n– Boba Fett \nDatum: 21.09.2024\nBeginn: 16:00 Uhr\nName: Star Wars Unlimited Weekly Play\nKosten: 5 €\nPreise: Booster\, OP-Booster usw. \nWir freuen uns auf euch! \nEs war einmal vor langer Zeit\, in einem weit\, weit entfernten Verein…\nKommt zu unserem Star Wars-Turnier vorbei und lasst uns eine gute Zeit haben.\nDies ist ein öffentliches Event zu dem auch Spieler kommen können\, die kein Mitglied des Vereins sind.\nBitte beachtet\, dass es nur Mitgliedern gestattet wird eigene Getränke mitzubringen.\nAlle anderen bedienen sich bitte an den von uns angebotenen Getränken.
URL:https://katago-ev.de/event/star-wars-unlimited-weekly-play-2
LOCATION:Vereinsheim 2 (Hegelstraße 11a)\, Hegelstraße 11a\, Bamberg\, Bayern\, 96052\, Germany
ATTACH;FMTTYPE=image/jpeg:https://katago-ev.de/wp-content/uploads/2024/03/20240325_134312.jpg
END:VEVENT
BEGIN:VEVENT
DTSTART;TZID=Europe/Berlin:20240921T083000
DTEND;TZID=Europe/Berlin:20240921T150000
DTSTAMP:20260422T051621
CREATED:20240626T204120Z
LAST-MODIFIED:20240626T205219Z
UID:10006004-1726907400-1726930800@katago-ev.de
SUMMARY:Robotikkurs für Kinder - Liga der Roboter
DESCRIPTION:Externe Veranstaltung \nWeitere Infos unter  https://ligaderroboter.de/
URL:https://katago-ev.de/event/robotikkurs-fuer-kinder-liga-der-roboter-3/2024-09-21
LOCATION:Vereinsheim 2 (Hegelstraße 11a)\, Hegelstraße 11a\, Bamberg\, Bayern\, 96052\, Germany
ATTACH;FMTTYPE=image/png:https://katago-ev.de/wp-content/uploads/2024/06/LDR.png
ORGANIZER;CN="Liga der Roboter":MAILTO:kontakt@ligaderroboter.de
END:VEVENT
BEGIN:VEVENT
DTSTART;TZID=Europe/Berlin:20240918T141500
DTEND;TZID=Europe/Berlin:20240918T180000
DTSTAMP:20260422T051621
CREATED:20240626T205520Z
LAST-MODIFIED:20240626T205520Z
UID:10006065-1726668900-1726682400@katago-ev.de
SUMMARY:Robotikkurs für Kinder - Liga der Roboter
DESCRIPTION:Externe Veranstaltung \nWeitere Infos unter  https://ligaderroboter.de/
URL:https://katago-ev.de/event/robotikkurs-fuer-kinder-liga-der-roboter-4/2024-09-18
LOCATION:Vereinsheim 2 (Hegelstraße 11a)\, Hegelstraße 11a\, Bamberg\, Bayern\, 96052\, Germany
ATTACH;FMTTYPE=image/png:https://katago-ev.de/wp-content/uploads/2024/06/LDR.png
ORGANIZER;CN="Liga der Roboter":MAILTO:kontakt@ligaderroboter.de
END:VEVENT
BEGIN:VEVENT
DTSTART;TZID=Europe/Berlin:20240916T143000
DTEND;TZID=Europe/Berlin:20240916T190000
DTSTAMP:20260422T051621
CREATED:20240626T210126Z
LAST-MODIFIED:20240626T210437Z
UID:10006196-1726497000-1726513200@katago-ev.de
SUMMARY:Robotikkurs für Kinder - Liga der Roboter
DESCRIPTION:Externe Veranstaltung \nWeitere Infos unter  https://ligaderroboter.de/
URL:https://katago-ev.de/event/robotikkurs-fuer-kinder-liga-der-roboter-5/2024-09-16
LOCATION:Vereinsheim 2 (Hegelstraße 11a)\, Hegelstraße 11a\, Bamberg\, Bayern\, 96052\, Germany
ATTACH;FMTTYPE=image/png:https://katago-ev.de/wp-content/uploads/2024/06/LDR.png
ORGANIZER;CN="Liga der Roboter":MAILTO:kontakt@ligaderroboter.de
END:VEVENT
BEGIN:VEVENT
DTSTART;TZID=Europe/Berlin:20240915T140000
DTEND;TZID=Europe/Berlin:20240915T190000
DTSTAMP:20260422T051621
CREATED:20240617T163940Z
LAST-MODIFIED:20240617T163940Z
UID:10005592-1726408800-1726426800@katago-ev.de
SUMMARY:Dungeons&Dragons DRAGONLANCE: Im Schatten der Drachenkönigin
DESCRIPTION:In einer vom Krieg verwüsteten Welt können die Taten von neuen Helden weltverändernde Folgen haben. \nVerteidigt das Volk von Solamnia gegen einen scheinbar unüberwindlichen Feind\, während Krynn sich auf den Krieg vorbereitet.
URL:https://katago-ev.de/event/dungeonsdragons-dragonlance-im-schatten-der-drachenkoenigin/2024-09-15
LOCATION:Vereinsheim 2 (Hegelstraße 11a)\, Hegelstraße 11a\, Bamberg\, Bayern\, 96052\, Germany
CATEGORIES:Dragonlance,Dungeons & Dragons,Fantasy,Kampagne,Rollenspiel
ATTACH;FMTTYPE=image/jpeg:https://katago-ev.de/wp-content/uploads/2024/06/20240617_182553.jpg
END:VEVENT
BEGIN:VEVENT
DTSTART;TZID=Europe/Berlin:20240914T150000
DTEND;TZID=Europe/Berlin:20240914T190000
DTSTAMP:20260422T051621
CREATED:20240909T090341Z
LAST-MODIFIED:20240909T211904Z
UID:10007309-1726326000-1726340400@katago-ev.de
SUMMARY:Alien RPG: STREITWAGEN DER GÖTTER
DESCRIPTION:Geschlossenes Event \nNachdem die Crew der USCSS MONTERO das seit fast 80 Jahren verschollene Wissenschafts-Schiff USCSS CRONUS treibend im All gefunden hat.\nWurde\, laut Firmenprotokoll\, damit begonnen diese zu erkunden\, dabei wurde festgestellt das sich die CRONUS in einem miserablen Zustand befindet. Der Großteil der Geräte und Maschinen ist beschädigt oder funktioniert garnicht mehr und dazu kommen eigenartige funde….WAS IST HIER NUR GESCHEHEN.\nUnd als die anscheinend letzten Überlebenden der CRONUS-Crew aus dem Cryoschlaf erwachen begann erst recht der wahre Schrecken als eine fremde Kreatur sich seinen Weg brutal aus dem Schädel des leitenden Wissenschaftlers bahnte.
URL:https://katago-ev.de/event/alien-rpg-streitwagen-der-goetter
LOCATION:Vereinsheim 2 (Hegelstraße 11a)\, Hegelstraße 11a\, Bamberg\, Bayern\, 96052\, Germany
CATEGORIES:ALIEN,Rollenspiel
ATTACH;FMTTYPE=image/jpeg:https://katago-ev.de/wp-content/uploads/2024/09/20240903_174115.jpg
END:VEVENT
BEGIN:VEVENT
DTSTART;TZID=Europe/Berlin:20240914T083000
DTEND;TZID=Europe/Berlin:20240914T150000
DTSTAMP:20260422T051621
CREATED:20240626T204120Z
LAST-MODIFIED:20240626T205219Z
UID:10006003-1726302600-1726326000@katago-ev.de
SUMMARY:Robotikkurs für Kinder - Liga der Roboter
DESCRIPTION:Externe Veranstaltung \nWeitere Infos unter  https://ligaderroboter.de/
URL:https://katago-ev.de/event/robotikkurs-fuer-kinder-liga-der-roboter-3/2024-09-14
LOCATION:Vereinsheim 2 (Hegelstraße 11a)\, Hegelstraße 11a\, Bamberg\, Bayern\, 96052\, Germany
ATTACH;FMTTYPE=image/png:https://katago-ev.de/wp-content/uploads/2024/06/LDR.png
ORGANIZER;CN="Liga der Roboter":MAILTO:kontakt@ligaderroboter.de
END:VEVENT
BEGIN:VEVENT
DTSTART;TZID=Europe/Berlin:20240911T141500
DTEND;TZID=Europe/Berlin:20240911T180000
DTSTAMP:20260422T051621
CREATED:20240626T205520Z
LAST-MODIFIED:20240626T205520Z
UID:10006064-1726064100-1726077600@katago-ev.de
SUMMARY:Robotikkurs für Kinder - Liga der Roboter
DESCRIPTION:Externe Veranstaltung \nWeitere Infos unter  https://ligaderroboter.de/
URL:https://katago-ev.de/event/robotikkurs-fuer-kinder-liga-der-roboter-4/2024-09-11
LOCATION:Vereinsheim 2 (Hegelstraße 11a)\, Hegelstraße 11a\, Bamberg\, Bayern\, 96052\, Germany
ATTACH;FMTTYPE=image/png:https://katago-ev.de/wp-content/uploads/2024/06/LDR.png
ORGANIZER;CN="Liga der Roboter":MAILTO:kontakt@ligaderroboter.de
END:VEVENT
BEGIN:VEVENT
DTSTART;TZID=Europe/Berlin:20240909T143000
DTEND;TZID=Europe/Berlin:20240909T190000
DTSTAMP:20260422T051621
CREATED:20240626T210126Z
LAST-MODIFIED:20240626T210437Z
UID:10006195-1725892200-1725908400@katago-ev.de
SUMMARY:Robotikkurs für Kinder - Liga der Roboter
DESCRIPTION:Externe Veranstaltung \nWeitere Infos unter  https://ligaderroboter.de/
URL:https://katago-ev.de/event/robotikkurs-fuer-kinder-liga-der-roboter-5/2024-09-09
LOCATION:Vereinsheim 2 (Hegelstraße 11a)\, Hegelstraße 11a\, Bamberg\, Bayern\, 96052\, Germany
ATTACH;FMTTYPE=image/png:https://katago-ev.de/wp-content/uploads/2024/06/LDR.png
ORGANIZER;CN="Liga der Roboter":MAILTO:kontakt@ligaderroboter.de
END:VEVENT
BEGIN:VEVENT
DTSTART;TZID=Europe/Berlin:20240907T083000
DTEND;TZID=Europe/Berlin:20240907T150000
DTSTAMP:20260422T051621
CREATED:20240626T204120Z
LAST-MODIFIED:20240626T205219Z
UID:10006002-1725697800-1725721200@katago-ev.de
SUMMARY:Robotikkurs für Kinder - Liga der Roboter
DESCRIPTION:Externe Veranstaltung \nWeitere Infos unter  https://ligaderroboter.de/
URL:https://katago-ev.de/event/robotikkurs-fuer-kinder-liga-der-roboter-3/2024-09-07
LOCATION:Vereinsheim 2 (Hegelstraße 11a)\, Hegelstraße 11a\, Bamberg\, Bayern\, 96052\, Germany
ATTACH;FMTTYPE=image/png:https://katago-ev.de/wp-content/uploads/2024/06/LDR.png
ORGANIZER;CN="Liga der Roboter":MAILTO:kontakt@ligaderroboter.de
END:VEVENT
BEGIN:VEVENT
DTSTART;TZID=Europe/Berlin:20240904T141500
DTEND;TZID=Europe/Berlin:20240904T180000
DTSTAMP:20260422T051621
CREATED:20240626T205520Z
LAST-MODIFIED:20240626T205520Z
UID:10006063-1725459300-1725472800@katago-ev.de
SUMMARY:Robotikkurs für Kinder - Liga der Roboter
DESCRIPTION:Externe Veranstaltung \nWeitere Infos unter  https://ligaderroboter.de/
URL:https://katago-ev.de/event/robotikkurs-fuer-kinder-liga-der-roboter-4/2024-09-04
LOCATION:Vereinsheim 2 (Hegelstraße 11a)\, Hegelstraße 11a\, Bamberg\, Bayern\, 96052\, Germany
ATTACH;FMTTYPE=image/png:https://katago-ev.de/wp-content/uploads/2024/06/LDR.png
ORGANIZER;CN="Liga der Roboter":MAILTO:kontakt@ligaderroboter.de
END:VEVENT
BEGIN:VEVENT
DTSTART;TZID=Europe/Berlin:20240902T143000
DTEND;TZID=Europe/Berlin:20240902T190000
DTSTAMP:20260422T051621
CREATED:20240626T210126Z
LAST-MODIFIED:20240626T210437Z
UID:10006194-1725287400-1725303600@katago-ev.de
SUMMARY:Robotikkurs für Kinder - Liga der Roboter
DESCRIPTION:Externe Veranstaltung \nWeitere Infos unter  https://ligaderroboter.de/
URL:https://katago-ev.de/event/robotikkurs-fuer-kinder-liga-der-roboter-5/2024-09-02
LOCATION:Vereinsheim 2 (Hegelstraße 11a)\, Hegelstraße 11a\, Bamberg\, Bayern\, 96052\, Germany
ATTACH;FMTTYPE=image/png:https://katago-ev.de/wp-content/uploads/2024/06/LDR.png
ORGANIZER;CN="Liga der Roboter":MAILTO:kontakt@ligaderroboter.de
END:VEVENT
BEGIN:VEVENT
DTSTART;TZID=Europe/Berlin:20240827T160000
DTEND;TZID=Europe/Berlin:20240827T213000
DTSTAMP:20260422T051621
CREATED:20240826T085742Z
LAST-MODIFIED:20240826T085742Z
UID:10007299-1724774400-1724794200@katago-ev.de
SUMMARY:Dungeons & Dragons 5e Einsteigerrunde
DESCRIPTION:Niklas entführt euch in die wundervolle Welt von Dungeons and Dragons. \nEr zeigt euch wie ihr einen Charaktere erstellt und anhand eines kleinen Abenteuers wie das beste aller RPGs gespielt wird.
URL:https://katago-ev.de/event/dungeons-dragons-5e-einsteigerrunde
LOCATION:Vereinsheim 2 (Hegelstraße 11a)\, Hegelstraße 11a\, Bamberg\, Bayern\, 96052\, Germany
CATEGORIES:Dungeons & Dragons,Fantasy,Rollenspiel
ATTACH;FMTTYPE=image/jpeg:https://katago-ev.de/wp-content/uploads/2024/08/20240826_105114.jpg
END:VEVENT
BEGIN:VEVENT
DTSTART;TZID=Europe/Berlin:20240824T083000
DTEND;TZID=Europe/Berlin:20240824T160000
DTSTAMP:20260422T051621
CREATED:20240627T155507Z
LAST-MODIFIED:20240810T054903Z
UID:10007029-1724488200-1724515200@katago-ev.de
SUMMARY:Yu-Gi-Oh! - INFO Celebration Event
DESCRIPTION:Es wird wieder Zeit für ein Duell!\nSchnappt euch euer Deck und kommt bei unserem Yu-Gi-Oh!-Turnier vorbei. \nDie Plätze sind auf 32 limitiert also anmelden!! \nDies ist ein öffentliches Event zu dem auch Spieler kommen können die kein Mitglied des Vereins sind.\nBitte beachtet\, dass es nur Mitgliedern gestattet wird eigene Getränke mitzubringen.\nAlle anderen bedienen sich bitte an den von uns angebotenen Getränken. \nEventdetails: \nAnmeldung: 09:00 – 09:55 Uhr \nStart der 1. Runde: 10:00 Uhr \nFormat: Constructed Advanced \nStartgeld: 5€ p.P \nPreise: OTS 24 Booster Packs \nWir freuen uns auf euch! \nFragen an: yu-gi-oh@katago-ev.de
URL:https://katago-ev.de/event/yu-gi-oh-info-celebration-event
LOCATION:Vereinsheim 2 (Hegelstraße 11a)\, Hegelstraße 11a\, Bamberg\, Bayern\, 96052\, Germany
CATEGORIES:Kartenspiele,Yu-Gi-Oh!
END:VEVENT
BEGIN:VEVENT
DTSTART;TZID=Europe/Berlin:20240810T080000
DTEND;TZID=Europe/Berlin:20240810T220000
DTSTAMP:20260422T051621
CREATED:20240731T115448Z
LAST-MODIFIED:20240731T115549Z
UID:10007203-1723276800-1723327200@katago-ev.de
SUMMARY:Interne Spielrunde: Twilight Imperium
DESCRIPTION:Interne Veranstaltung: nur für Mitglieder
URL:https://katago-ev.de/event/interne-spielrunde-twilight-imperium
LOCATION:Vereinsheim 2 (Hegelstraße 11a)\, Hegelstraße 11a\, Bamberg\, Bayern\, 96052\, Germany
CATEGORIES:Brettspiel
END:VEVENT
BEGIN:VEVENT
DTSTART;TZID=Europe/Berlin:20240804T140000
DTEND;TZID=Europe/Berlin:20240804T190000
DTSTAMP:20260422T051621
CREATED:20240617T163940Z
LAST-MODIFIED:20240617T163940Z
UID:10005589-1722780000-1722798000@katago-ev.de
SUMMARY:Dungeons&Dragons DRAGONLANCE: Im Schatten der Drachenkönigin
DESCRIPTION:In einer vom Krieg verwüsteten Welt können die Taten von neuen Helden weltverändernde Folgen haben. \nVerteidigt das Volk von Solamnia gegen einen scheinbar unüberwindlichen Feind\, während Krynn sich auf den Krieg vorbereitet.
URL:https://katago-ev.de/event/dungeonsdragons-dragonlance-im-schatten-der-drachenkoenigin/2024-08-04
LOCATION:Vereinsheim 2 (Hegelstraße 11a)\, Hegelstraße 11a\, Bamberg\, Bayern\, 96052\, Germany
CATEGORIES:Dragonlance,Dungeons & Dragons,Fantasy,Kampagne,Rollenspiel
ATTACH;FMTTYPE=image/jpeg:https://katago-ev.de/wp-content/uploads/2024/06/20240617_182553.jpg
END:VEVENT
BEGIN:VEVENT
DTSTART;TZID=Europe/Berlin:20240727T150000
DTEND;TZID=Europe/Berlin:20240727T200000
DTSTAMP:20260422T051621
CREATED:20240620T154848Z
LAST-MODIFIED:20240725T110008Z
UID:10005681-1722092400-1722110400@katago-ev.de
SUMMARY:Name: Star Wars Unlimited OP
DESCRIPTION:„Ich schwöre bei meinem Namen. Und den Namen der Vorväter\, dass ich den Weg des Mand’alor beschreiten werde und die Worte des Kodex mögen fortan in mein Herz geschmiedet sein.“ \nFormat: Constructed \nPreise: OP-Booster \nWir freuen uns auf euch! \nEs war einmal vor langer Zeit\, in einem weit\, weit entfernten Verein…\nKommt zu unserem Star Wars-Turnier vorbei und lasst uns eine gute Zeit haben.\nDies ist ein öffentliches Event zu dem auch Spieler kommen können\, die kein Mitglied des Vereins sind.\nBitte beachtet\, dass es nur Mitgliedern gestattet wird eigene Getränke mitzubringen.\nAlle anderen bedienen sich bitte an den von uns angebotenen Getränken.
URL:https://katago-ev.de/event/name-star-wars-unlimited-op
LOCATION:Vereinsheim 2 (Hegelstraße 11a)\, Hegelstraße 11a\, Bamberg\, Bayern\, 96052\, Germany
CATEGORIES:Star Wars Unlimited
ATTACH;FMTTYPE=image/jpeg:https://katago-ev.de/wp-content/uploads/2024/03/20240325_134312.jpg
END:VEVENT
BEGIN:VEVENT
DTSTART;TZID=Europe/Berlin:20240721T140000
DTEND;TZID=Europe/Berlin:20240721T190000
DTSTAMP:20260422T051621
CREATED:20240721T081723Z
LAST-MODIFIED:20240721T081723Z
UID:10007190-1721570400-1721588400@katago-ev.de
SUMMARY:Star Wars unlimited tauschen und testen
DESCRIPTION:Star Wars unlimited tauschen und testen \ngerne können auch Neulinge und Interessierte vorbeikommen um das Spiel zu lernen!
URL:https://katago-ev.de/event/star-wars-unlimited-tauschen-und-testen
LOCATION:Vereinsheim 2 (Hegelstraße 11a)\, Hegelstraße 11a\, Bamberg\, Bayern\, 96052\, Germany
END:VEVENT
BEGIN:VEVENT
DTSTART;TZID=Europe/Berlin:20240721T140000
DTEND;TZID=Europe/Berlin:20240721T190000
DTSTAMP:20260422T051621
CREATED:20240617T163940Z
LAST-MODIFIED:20240617T163940Z
UID:10005588-1721570400-1721588400@katago-ev.de
SUMMARY:Dungeons&Dragons DRAGONLANCE: Im Schatten der Drachenkönigin
DESCRIPTION:In einer vom Krieg verwüsteten Welt können die Taten von neuen Helden weltverändernde Folgen haben. \nVerteidigt das Volk von Solamnia gegen einen scheinbar unüberwindlichen Feind\, während Krynn sich auf den Krieg vorbereitet.
URL:https://katago-ev.de/event/dungeonsdragons-dragonlance-im-schatten-der-drachenkoenigin/2024-07-21
LOCATION:Vereinsheim 2 (Hegelstraße 11a)\, Hegelstraße 11a\, Bamberg\, Bayern\, 96052\, Germany
CATEGORIES:Dragonlance,Dungeons & Dragons,Fantasy,Kampagne,Rollenspiel
ATTACH;FMTTYPE=image/jpeg:https://katago-ev.de/wp-content/uploads/2024/06/20240617_182553.jpg
END:VEVENT
BEGIN:VEVENT
DTSTART;TZID=Europe/Berlin:20240720T090000
DTEND;TZID=Europe/Berlin:20240720T153000
DTSTAMP:20260422T051621
CREATED:20240626T161705Z
LAST-MODIFIED:20240626T201526Z
UID:10005018-1721466000-1721489400@katago-ev.de
SUMMARY:Yu-Gi-Oh! - Turnier
DESCRIPTION:Es wird wieder Zeit für ein Duell!\nSchnappt euch euer Deck und kommt bei unserem Yu-Gi-Oh!-Turnier vorbei. \nDie Plätze sind auf 24 limitiert also anmelden!! \nDies ist ein öffentliches Event zu dem auch Spieler kommen können die kein Mitglied des Vereins sind.\nBitte beachtet\, dass es nur Mitgliedern gestattet wird eigene Getränke mitzubringen.\nAlle anderen bedienen sich bitte an den von uns angebotenen Getränken. \nEventdetails: \nAnmeldung: 09:00 – 09:55 Uhr \nStart der 1. Runde: 10:00 Uhr \nFormat: Constructed Advanced \nStartgeld: 7€ p.P \nPreise: OTS 25 und BLTR Booster Packs \nWir freuen uns auf euch! \nFragen an: yu-gi-oh@katago-ev.de
URL:https://katago-ev.de/event/yu-gi-oh-turnier-25-4
LOCATION:Vereinsheim 2 (Hegelstraße 11a)\, Hegelstraße 11a\, Bamberg\, Bayern\, 96052\, Germany
CATEGORIES:Kartenspiele,Turnierserie,Yu-Gi-Oh!
ATTACH;FMTTYPE=image/jpeg:https://katago-ev.de/wp-content/uploads/2022/08/20220326_124705.jpg
END:VEVENT
BEGIN:VEVENT
DTSTART;TZID=Europe/Berlin:20240718T190000
DTEND;TZID=Europe/Berlin:20240718T220000
DTSTAMP:20260422T051621
CREATED:20240707T084150Z
LAST-MODIFIED:20240707T084259Z
UID:10007181-1721329200-1721340000@katago-ev.de
SUMMARY:Open Night Wizard - Wizard Spaßturnier
DESCRIPTION:Spiele kostenlos mit bei unserem monatlichen Wizard-Spaßturnier! \nJeder ist eingeladen\, es gibt keine Altersgrenze. Du solltest lediglich Wizard bereits gespielt haben und grundlegendes Regelverständnis mitbringen. Aber keine Angst\, wenn etwas unklar ist oder du nicht mehr genau Bescheid weißt\, ist jemand da\, den man fragen kann und der auch bei Problemen eine Lösung findet. Du befindest dich also in bester Gesellschaft!\nGespielt werden drei Runden mit 4er (oder 3er bei „ungeraden“ Anzahlen) Tischen\, die Punkte werden dann nach einem bestimmten System zusammengetragen und am Ende wird ein Sieger ermittelt\, dem sogar ein kleiner Preis winkt. Also komm einfach vorbei und spiele mit!\nGespielt wird Wizard „Standard“\, ohne Karten aus den Jubiläumseditionen \nUnser Wizard Wednesday findet immer an jedem dritten Montag im Monat statt! \nDies ist ein öffentliches Event\, zum dem auch Spieler kommen können\, die keine Mitglieder des Vereins sind. \nDas Event ist auf 32 Personen beschränkt. \nAchtet bei Registrierung darauf\, dass ihr eure Emailadresse angebt\, damit wir euch bei Änderungen oder Absagen informieren können.\nPrüft auch bitte am Tag es Events nochmal eure Emails\, ob noch neue Informationen rausgegeben wurden. \nBitte beachtet\, dass es nur Mitgliedern gestattet wird eigene Getränke mitzubringen.\nAlle Anderen bedienen sich bitte an den von uns angebotenen Getränken. (2€ pro Getränk) \nSolltet ihr noch kein Mitglied sein\, aber Interesse an unseren Events oder einer Mitgliedschaft haben\, könnt ihr gerne einen ausgefüllten Mitgliedsantrag zum entsprechenden Event mitbringen und ab da einen kostenlosen Probemonat bei uns starten. Mitgliedsanträge gibt es hier. \nStartzeit:     19:00 Uhr (seit gerne ein paar Minuten früher da\, damit wir püntlich beginnen können) \nStartgeld:    Der Eintritt ist frei \nDauer:             ca. 3 Stunden \n 
URL:https://katago-ev.de/event/open-night-wizard-wizard-spassturnier/2024-07-18
LOCATION:Vereinsheim 2 (Hegelstraße 11a)\, Hegelstraße 11a\, Bamberg\, Bayern\, 96052\, Germany
CATEGORIES:Kartenspiele
ATTACH;FMTTYPE=image/jpeg:https://katago-ev.de/wp-content/uploads/2022/07/Wizard-Kartenspiel.jpg
END:VEVENT
BEGIN:VEVENT
DTSTART;TZID=Europe/Berlin:20240713T153000
DTEND;TZID=Europe/Berlin:20240713T200000
DTSTAMP:20260422T051621
CREATED:20240620T154342Z
LAST-MODIFIED:20240709T140820Z
UID:10005680-1720884600-1720900800@katago-ev.de
SUMMARY:Star Wars Unlimited OP
DESCRIPTION:„Ich kann dich warm abliefern oder kalt.“ \nFormat: Constructed \nPreise: OP-Booster \nWir freuen uns auf euch! \nEs war einmal vor langer Zeit\, in einem weit\, weit entfernten Verein…\nKommt zu unserem Star Wars-Turnier vorbei und lasst uns eine gute Zeit haben.\nDies ist ein öffentliches Event zu dem auch Spieler kommen können\, die kein Mitglied des Vereins sind.\nBitte beachtet\, dass es nur Mitgliedern gestattet wird eigene Getränke mitzubringen.\nAlle anderen bedienen sich bitte an den von uns angebotenen Getränken.
URL:https://katago-ev.de/event/star-wars-unlimited-op-2
LOCATION:Vereinsheim 2 (Hegelstraße 11a)\, Hegelstraße 11a\, Bamberg\, Bayern\, 96052\, Germany
CATEGORIES:Star Wars Unlimited
ATTACH;FMTTYPE=image/jpeg:https://katago-ev.de/wp-content/uploads/2024/03/20240325_134312.jpg
END:VEVENT
BEGIN:VEVENT
DTSTART;TZID=Europe/Berlin:20240705T180000
DTEND;TZID=Europe/Berlin:20240705T220000
DTSTAMP:20260422T051621
CREATED:20240620T153946Z
LAST-MODIFIED:20240702T195530Z
UID:10005679-1720202400-1720216800@katago-ev.de
SUMMARY:Prerelease Star Wars Unlimited Schatten der Galaxis
DESCRIPTION:„Tot nützt er mir nichts.“ \nPreise: OP-Booster \nWir freuen uns auf euch! \nEs war einmal vor langer Zeit\, in einem weit\, weit entfernten Verein…\nKommt zu unserem Star Wars-Turnier vorbei und lasst uns eine gute Zeit haben.\nDies ist ein öffentliches Event zu dem auch Spieler kommen können\, die kein Mitglied des Vereins sind.\nBitte beachtet\, dass es nur Mitgliedern gestattet wird eigene Getränke mitzubringen.\nAlle anderen bedienen sich bitte an den von uns angebotenen Getränken.
URL:https://katago-ev.de/event/prerelease-star-wars-unlimited-schatten-der-galaxis
LOCATION:Vereinsheim 2 (Hegelstraße 11a)\, Hegelstraße 11a\, Bamberg\, Bayern\, 96052\, Germany
CATEGORIES:Star Wars Unlimited
ATTACH;FMTTYPE=image/jpeg:https://katago-ev.de/wp-content/uploads/2024/03/20240325_134312.jpg
END:VEVENT
BEGIN:VEVENT
DTSTART;TZID=Europe/Berlin:20240615T160000
DTEND;TZID=Europe/Berlin:20240615T210000
DTSTAMP:20260422T051621
CREATED:20240604T115922Z
LAST-MODIFIED:20240604T120703Z
UID:10005571-1718467200-1718485200@katago-ev.de
SUMMARY:Star Wars Unlimited OP
DESCRIPTION:„Ich finde ihren Mangel an Glauben beklagenswert. “ \nBeginn:      16:00 Uhr \nFormat:     Constructed \nPreise:       OP-Booster \nWir freuen uns auf euch! \nEs war einmal vor langer Zeit\, in einem weit\, weit entfernten Verein…\nKommt zu unserem Star Wars-Turnier vorbei und lasst uns eine gute Zeit haben.\nDies ist ein öffentliches Event zu dem auch Spieler kommen können\, die kein Mitglied des Vereins sind.\nBitte beachtet\, dass es nur Mitgliedern gestattet wird eigene Getränke mitzubringen.\nAlle anderen bedienen sich bitte an den von uns angebotenen Getränken.
URL:https://katago-ev.de/event/star-wars-unlimited-op
LOCATION:Vereinsheim 2 (Hegelstraße 11a)\, Hegelstraße 11a\, Bamberg\, Bayern\, 96052\, Germany
CATEGORIES:Star Wars Unlimited
ATTACH;FMTTYPE=image/jpeg:https://katago-ev.de/wp-content/uploads/2024/03/20240325_134312.jpg
END:VEVENT
BEGIN:VEVENT
DTSTART;TZID=Europe/Berlin:20240615T090000
DTEND;TZID=Europe/Berlin:20240615T153000
DTSTAMP:20260422T051621
CREATED:20240506T120437Z
LAST-MODIFIED:20240525T135954Z
UID:10005017-1718442000-1718465400@katago-ev.de
SUMMARY:Yu-Gi-Oh! - Rarity Collection II Event
DESCRIPTION:Es wird wieder Zeit für ein Duell!\nSchnappt euch euer Deck und kommt bei unserem Yu-Gi-Oh!-Turnier vorbei. \nDie Plätze sind auf 32 limitiert also anmelden!! \nDies ist ein öffentliches Event zu dem auch Spieler kommen können die kein Mitglied des Vereins sind.\nBitte beachtet\, dass es nur Mitgliedern gestattet wird eigene Getränke mitzubringen.\nAlle anderen bedienen sich bitte an den von uns angebotenen Getränken. \nEventdetails: \nAnmeldung: 09:00 – 09:55 Uhr \nStart der 1. Runde: 10:00 Uhr \nFormat: Constructed Advanced \nStartgeld: 12€ p.P \nPreise: Gewinner Matte für den 1. sowie Rarity Collection II Booster \nWir freuen uns auf euch! \nFragen an: yu-gi-oh@katago-ev.de
URL:https://katago-ev.de/event/yu-gi-oh-turnier-25-3
LOCATION:Vereinsheim 2 (Hegelstraße 11a)\, Hegelstraße 11a\, Bamberg\, Bayern\, 96052\, Germany
CATEGORIES:Kartenspiele,Turnierserie,Yu-Gi-Oh!
END:VEVENT
BEGIN:VEVENT
DTSTART;TZID=Europe/Berlin:20240608T170000
DTEND;TZID=Europe/Berlin:20240608T210000
DTSTAMP:20260422T051621
CREATED:20240604T115210Z
LAST-MODIFIED:20240604T115210Z
UID:10005570-1717866000-1717880400@katago-ev.de
SUMMARY:Star Wars unlimited Draft
DESCRIPTION:Star Wars unlimited Draft
URL:https://katago-ev.de/event/star-wars-unlimited-draft
LOCATION:Vereinsheim 2 (Hegelstraße 11a)\, Hegelstraße 11a\, Bamberg\, Bayern\, 96052\, Germany
CATEGORIES:Star Wars Unlimited
END:VEVENT
END:VCALENDAR