BEGIN:VCALENDAR
VERSION:2.0
PRODID:-//katago-ev.de - ECPv6.15.0.1//NONSGML v1.0//EN
CALSCALE:GREGORIAN
METHOD:PUBLISH
X-WR-CALNAME:katago-ev.de
X-ORIGINAL-URL:https://katago-ev.de
X-WR-CALDESC:Veranstaltungen für katago-ev.de
REFRESH-INTERVAL;VALUE=DURATION:PT1H
X-Robots-Tag:noindex
X-PUBLISHED-TTL:PT1H
BEGIN:VTIMEZONE
TZID:Europe/Berlin
BEGIN:DAYLIGHT
TZOFFSETFROM:+0100
TZOFFSETTO:+0200
TZNAME:CEST
DTSTART:20240331T010000
END:DAYLIGHT
BEGIN:STANDARD
TZOFFSETFROM:+0200
TZOFFSETTO:+0100
TZNAME:CET
DTSTART:20241027T010000
END:STANDARD
END:VTIMEZONE
BEGIN:VEVENT
DTSTART;TZID=Europe/Berlin:20240608T170000
DTEND;TZID=Europe/Berlin:20240608T210000
DTSTAMP:20260423T070623
CREATED:20240604T115210Z
LAST-MODIFIED:20240604T115210Z
UID:10005570-1717866000-1717880400@katago-ev.de
SUMMARY:Star Wars unlimited Draft
DESCRIPTION:Star Wars unlimited Draft
URL:https://katago-ev.de/event/star-wars-unlimited-draft
LOCATION:Vereinsheim 2 (Hegelstraße 11a)\, Hegelstraße 11a\, Bamberg\, Bayern\, 96052\, Germany
CATEGORIES:Star Wars Unlimited
END:VEVENT
BEGIN:VEVENT
DTSTART;TZID=Europe/Berlin:20240530T120000
DTEND;TZID=Europe/Berlin:20240530T190000
DTSTAMP:20260423T070623
CREATED:20240527T133303Z
LAST-MODIFIED:20240527T133303Z
UID:10005556-1717070400-1717095600@katago-ev.de
SUMMARY:Dungeons & Dragons Kampagne EBERRON: Die Schöpfungs Schmiede
DESCRIPTION:Eine Gruppe von Abenteurern versucht die Teile eines alten Relikts zu finden und was es damit auf sich hat. \nDies ist ein geschlossenes Event da alle Plätze in der Gruppe schon belegt sind.
URL:https://katago-ev.de/event/dungeons-dragons-kampagne-eberron-die-schoepfungs-schmiede
LOCATION:Vereinsheim 2 (Hegelstraße 11a)\, Hegelstraße 11a\, Bamberg\, Bayern\, 96052\, Germany
CATEGORIES:Dungeons & Dragons,Eberron,Fantasy,Kampagne,Rollenspiel
ATTACH;FMTTYPE=image/jpeg:https://katago-ev.de/wp-content/uploads/2022/09/20220907_183447.jpg
END:VEVENT
BEGIN:VEVENT
DTSTART;TZID=Europe/Berlin:20240526T130000
DTEND;TZID=Europe/Berlin:20240526T193000
DTSTAMP:20260423T070623
CREATED:20240520T093820Z
LAST-MODIFIED:20240520T093820Z
UID:10005204-1716728400-1716751800@katago-ev.de
SUMMARY:D&D Kampagne EBERRON: Die Schöpfungs Schmiede
DESCRIPTION:Eine Gruppe von Abenteurern versucht die Teile eines alten Relikts zu finden und was es damit auf sich hat. \nDies ist ein geschlossenes Event da alle Plätze in der Gruppe schon belegt sind.
URL:https://katago-ev.de/event/dd-kampagne-eberron-die-schoepfungs-schmiede-18-2
LOCATION:Vereinsheim 2 (Hegelstraße 11a)\, Hegelstraße 11a\, Bamberg\, Bayern\, 96052\, Germany
CATEGORIES:Dungeons & Dragons,Eberron,Fantasy,Kampagne,Rollenspiel
ATTACH;FMTTYPE=image/jpeg:https://katago-ev.de/wp-content/uploads/2022/09/20220907_183447.jpg
END:VEVENT
BEGIN:VEVENT
DTSTART;TZID=Europe/Berlin:20240512T150000
DTEND;TZID=Europe/Berlin:20240512T193000
DTSTAMP:20260423T070623
CREATED:20240306T134407Z
LAST-MODIFIED:20240306T134407Z
UID:10005203-1715526000-1715542200@katago-ev.de
SUMMARY:D&D Kampagne EBERRON: Die Schöpfungs Schmiede
DESCRIPTION:Eine Gruppe von Abenteurern versucht die Teile eines alten Relikts zu finden und was es damit auf sich hat. \nDies ist ein geschlossenes Event da alle Plätze in der Gruppe schon belegt sind.
URL:https://katago-ev.de/event/dd-kampagne-eberron-die-schoepfungs-schmiede-18/2024-05-12
LOCATION:Vereinsheim 2 (Hegelstraße 11a)\, Hegelstraße 11a\, Bamberg\, Bayern\, 96052\, Germany
CATEGORIES:Dungeons & Dragons,Eberron,Fantasy,Kampagne,Rollenspiel
ATTACH;FMTTYPE=image/jpeg:https://katago-ev.de/wp-content/uploads/2022/09/20220907_183447.jpg
END:VEVENT
BEGIN:VEVENT
DTSTART;TZID=Europe/Berlin:20240504T160000
DTEND;TZID=Europe/Berlin:20240504T200000
DTSTAMP:20260423T070623
CREATED:20240425T171355Z
LAST-MODIFIED:20240425T171355Z
UID:10005535-1714838400-1714852800@katago-ev.de
SUMMARY:Star Wars Unlimited-Turnier
DESCRIPTION:Es war einmal vor langer Zeit\, in einem weit\, weit entfernten Verein…   \nKommt zu unserem Star Wars-Turnier vorbei und lasst uns eine gute Zeit haben. \nDie Plätze sind auf 20 limitiert also anmelden!! \nDies ist ein öffentliches Event zu dem auch Spieler kommen können die kein Mitglied des Vereins sind.\nBitte beachtet\, dass es nur Mitgliedern gestattet wird eigene Getränke mitzubringen.\nAlle anderen bedienen sich bitte an den von uns angebotenen Getränken. \nEventdetails: \nBeginn:  16:00 Uhr \nFormat: Constructed \nStartgeld: 5€ p.P \nPreise: Booster Preise \nWir freuen uns auf euch! \n„Chewie\, wir sind zu Hause.“
URL:https://katago-ev.de/event/star-wars-unlimited-turnier-2
LOCATION:Vereinsheim 2 (Hegelstraße 11a)\, Hegelstraße 11a\, Bamberg\, Bayern\, 96052\, Germany
CATEGORIES:Kartenspiele,Star Wars Unlimited
ATTACH;FMTTYPE=image/jpeg:https://katago-ev.de/wp-content/uploads/2024/03/20240325_134312.jpg
END:VEVENT
BEGIN:VEVENT
DTSTART;TZID=Europe/Berlin:20240420T160000
DTEND;TZID=Europe/Berlin:20240420T193000
DTSTAMP:20260423T070623
CREATED:20240416T194007Z
LAST-MODIFIED:20240416T195423Z
UID:10005266-1713628800-1713641400@katago-ev.de
SUMMARY:ONE PIECE Card Game
DESCRIPTION:Wir spielen das ONE PIECE Card Game. \nDies ist erstmal ein just for fun Turnier um die Community kennenzulernen und eine gute Zeit zu haben. Also packt einfach eure Karten ein und los gehts. \nDies ist ein öffentliches Event zu dem auch Spieler kommen können die kein Mitglied des Vereins sind. \nBitte beachtet\, dass es nur Mitgliedern gestattet wird eigene Getränke mitzubringen. \nAlle anderen bedienen sich bitte an den von uns angebotenen Getränken. \nEventdetails: \nBeginn: 16:00 Uhr \nWir freuen uns auf euch!
URL:https://katago-ev.de/event/one-piece-card-game
LOCATION:Vereinsheim 2 (Hegelstraße 11a)\, Hegelstraße 11a\, Bamberg\, Bayern\, 96052\, Germany
CATEGORIES:Kartenspiele,ONE PIECE
ATTACH;FMTTYPE=image/jpeg:https://katago-ev.de/wp-content/uploads/2024/04/20240416_212747.jpg
END:VEVENT
BEGIN:VEVENT
DTSTART;TZID=Europe/Berlin:20240420T153000
DTEND;TZID=Europe/Berlin:20240420T203000
DTSTAMP:20260423T070623
CREATED:20240408T084127Z
LAST-MODIFIED:20240408T163632Z
UID:10005264-1713627000-1713645000@katago-ev.de
SUMMARY:Star Wars Unlimited - Turnier
DESCRIPTION:Es war einmal vor langer Zeit\, in einem weit\, weit entfernten Verein…   \nKommt zu unserem Star Wars-Turnier vorbei und lasst uns eine gute Zeit haben. \nDie Plätze sind auf 32 limitiert also anmelden!! \nDies ist ein öffentliches Event zu dem auch Spieler kommen können die kein Mitglied des Vereins sind.\nBitte beachtet\, dass es nur Mitgliedern gestattet wird eigene Getränke mitzubringen.\nAlle anderen bedienen sich bitte an den von uns angebotenen Getränken. \nEventdetails: \nBeginn:  15:30 Uhr \nFormat: Constructed \nStartgeld: 5€ p.P \nWir freuen uns auf euch! \n„Ich finde Ihren Mangel an Glauben beklagenswert“
URL:https://katago-ev.de/event/star-wars-unlimited-turnier
LOCATION:Vereinsheim 2 (Hegelstraße 11a)\, Hegelstraße 11a\, Bamberg\, Bayern\, 96052\, Germany
CATEGORIES:Kartenspiele,Star Wars Unlimited
ATTACH;FMTTYPE=image/jpeg:https://katago-ev.de/wp-content/uploads/2024/03/20240325_134312.jpg
END:VEVENT
BEGIN:VEVENT
DTSTART;TZID=Europe/Berlin:20240414T150000
DTEND;TZID=Europe/Berlin:20240414T193000
DTSTAMP:20260423T070623
CREATED:20240306T134407Z
LAST-MODIFIED:20240306T134407Z
UID:10005201-1713106800-1713123000@katago-ev.de
SUMMARY:D&D Kampagne EBERRON: Die Schöpfungs Schmiede
DESCRIPTION:Eine Gruppe von Abenteurern versucht die Teile eines alten Relikts zu finden und was es damit auf sich hat. \nDies ist ein geschlossenes Event da alle Plätze in der Gruppe schon belegt sind.
URL:https://katago-ev.de/event/dd-kampagne-eberron-die-schoepfungs-schmiede-18/2024-04-14
LOCATION:Vereinsheim 2 (Hegelstraße 11a)\, Hegelstraße 11a\, Bamberg\, Bayern\, 96052\, Germany
CATEGORIES:Dungeons & Dragons,Eberron,Fantasy,Kampagne,Rollenspiel
ATTACH;FMTTYPE=image/jpeg:https://katago-ev.de/wp-content/uploads/2022/09/20220907_183447.jpg
END:VEVENT
BEGIN:VEVENT
DTSTART;TZID=Europe/Berlin:20240331T150000
DTEND;TZID=Europe/Berlin:20240331T193000
DTSTAMP:20260423T070623
CREATED:20240306T134407Z
LAST-MODIFIED:20240306T134407Z
UID:10005200-1711897200-1711913400@katago-ev.de
SUMMARY:D&D Kampagne EBERRON: Die Schöpfungs Schmiede
DESCRIPTION:Eine Gruppe von Abenteurern versucht die Teile eines alten Relikts zu finden und was es damit auf sich hat. \nDies ist ein geschlossenes Event da alle Plätze in der Gruppe schon belegt sind.
URL:https://katago-ev.de/event/dd-kampagne-eberron-die-schoepfungs-schmiede-18/2024-03-31
LOCATION:Vereinsheim 2 (Hegelstraße 11a)\, Hegelstraße 11a\, Bamberg\, Bayern\, 96052\, Germany
CATEGORIES:Dungeons & Dragons,Eberron,Fantasy,Kampagne,Rollenspiel
ATTACH;FMTTYPE=image/jpeg:https://katago-ev.de/wp-content/uploads/2022/09/20220907_183447.jpg
END:VEVENT
BEGIN:VEVENT
DTSTART;TZID=Europe/Berlin:20240225T103000
DTEND;TZID=Europe/Berlin:20240225T230000
DTSTAMP:20260423T070623
CREATED:20240125T110610Z
LAST-MODIFIED:20240223T143800Z
UID:10004984-1708857000-1708902000@katago-ev.de
SUMMARY:WPN-Qualifier Sealed
DESCRIPTION:WPN-Qualifier Sealed \n  \nBitte Meldet euch hier im Event Kalender für das Event an\, um euch einen Platz im Event zu sichern und dass ich besser mit den Teilnehmern und Preisen planen kann! \n  \nIhr benötigt für das Event die Companion App. Bitte ladet euch diese vorher runter und erstellt euch einen Account! \n  \nDies ist ein öffentliches Event\, zum dem auch Spieler kommen können\, die keine Mitglieder des Vereins sind. \nDas Event ist auf 32 Personen beschränkt. \nAchtet bei Registrierung darauf\, dass ihr eure Emailadresse angebt\, damit wir euch bei Änderungen oder Absagen informieren können.\nPrüft auch bitte am Tag es Events nochmal eure Emails\, ob noch neue Informationen rausgegeben wurden. \nBitte beachtet\, dass es nur Mitgliedern gestattet wird eigene Getränke mitzubringen.\nAlle Anderen bedienen sich bitte an den von uns angebotenen Getränken. (2€ pro Getränk) \nSolltet ihr noch kein Mitglied sein\, aber Interesse an unseren Events oder einer Mitgliedschaft haben\, könnt ihr gerne einen ausgefüllten Mitgliedsantrag zum entsprechenden Event mitbringen und ab da einen kostenlosen Probemonat bei uns starten. \n  \nEventdetails: \nAnmeldung: 10.30 – 11.00 Uhr \nStart Runde 1: 11.00 Uhr \nFormat: Sealed (Murders at Karlov Manor) \, Schweitzer System mit Cut auf Top 8 (Draft) \nRules Enforcement Level: Competitive \nStartgeld: 50€ \nPreise:  \nPlatz 1: qualifiziert sich für die LEC in Neapel vom 24. – 26. Mai 2024 / Foil Promo „Expressive Iteration“ \nTop 8: Nonfoil Promo „Expressive Iteration“ \nTop 16: Promo „Explore“ \nDes weiteren werden die Preise je nach Teilnehmerzahl mit Einzelkartenpreisen und Boostern angepasst.
URL:https://katago-ev.de/event/mtg-blocker-wpn-qualifier
LOCATION:Vereinsheim 2 (Hegelstraße 11a)\, Hegelstraße 11a\, Bamberg\, Bayern\, 96052\, Germany
ATTACH;FMTTYPE=image/jpeg:https://katago-ev.de/wp-content/uploads/2024/01/WPN-Qualifier.jpg
END:VEVENT
BEGIN:VEVENT
DTSTART;TZID=Europe/Berlin:20240217T090000
DTEND;TZID=Europe/Berlin:20240217T150000
DTSTAMP:20260423T070623
CREATED:20240202T210937Z
LAST-MODIFIED:20240202T210937Z
UID:10005024-1708160400-1708182000@katago-ev.de
SUMMARY:Yu-Gi-Oh! - 3 VS 3 PHNI Case Turnier
DESCRIPTION:Es wird wieder Zeit für ein Duell\, denn die Fabis laden ein!\nFür dieses 3vs3 Event meldet euch bitte als Team an. Das heißt bei dem Feld Vorname euren Teamnamen eintragen und bei Nachname die drei Namen der Teammitglieder. \n\nDie Plätze sind auf 12 Teams limitiert also anmelden!! \n!!Bei Teilnahme von 6-9 Teams besteht der Preispool aus einem halben Case. Ab 10 Teams aus einem ganzen. Sollten weniger als 6 Teams angemeldet sein fällt das Event aus!! \n\nDie Entscheidung wer Spieler 1\, 2 und 3 sein wird könnt ihr dann vor Ort uns Mitteilen. \n\nDies ist ein öffentliches Event zu dem auch Spieler kommen können die kein Mitglied des Vereins sind.\nBitte beachtet\, dass es nur Mitgliedern gestattet wird eigene Getränke mitzubringen.\nAlle anderen bedienen sich bitte an den von uns angebotenen Getränken. \n\nEventdetails: \nAnmeldung: 09:00 – 09:50 Uhr \nStart der 1. Runde: 10 Uhr \nFormat: Constructed Advanced \nStartgeld: 25€ p.P. \nPreis(bei 10 Teams\, ansonsten halbiert): \n1. Platz – 6 Displays \n2. Platz – 4 Displays \n3. Platz – 2 Displays \n  \nWir freuen uns auf euch!
URL:https://katago-ev.de/event/yu-gi-oh-3-vs-3-phni-case-turnier
LOCATION:Vereinsheim 2 (Hegelstraße 11a)\, Hegelstraße 11a\, Bamberg\, Bayern\, 96052\, Germany
CATEGORIES:3vs3,Kartenspiele,Yu-Gi-Oh!
ATTACH;FMTTYPE=image/jpeg:https://katago-ev.de/wp-content/uploads/2023/04/20230428_135037.jpg
END:VEVENT
BEGIN:VEVENT
DTSTART;TZID=Europe/Berlin:20240203T090000
DTEND;TZID=Europe/Berlin:20240203T150000
DTSTAMP:20260423T070623
CREATED:20240102T205346Z
LAST-MODIFIED:20240202T205524Z
UID:10004685-1706950800-1706972400@katago-ev.de
SUMMARY:Yu-Gi-Oh! Sneak "PHANTOM NIGHTMARE"
DESCRIPTION:Es wird wieder Zeit für ein Duell!\nDie Fabis laden ein also kommt vorbei und lasst uns zusammen die neuen Karten testen. \nDie Plätze sind limitiert also anmelden!! \nDies ist ein öffentliches Event zu dem auch Spieler kommen können die kein Mitglied des Vereins sind.\nBitte beachtet\, dass es nur Mitgliedern gestattet wird eigene Getränke mitzubringen.\nAlle anderen bedienen sich bitte an den von uns angebotenen Getränken. \nEventdetails: \nAnmeldung: 09:00 – 09:45 Uhr \nStart der 1. Runde: 10:00 \nFormat: Sneak \nStartgeld: 20€ p.P \nPreise: 1. Platz-> Matte + Promokarte \n2. Platz-> Promokarte \nWir freuen uns auf euch!
URL:https://katago-ev.de/event/yu-gi-oh-sneak-phantom-nightmare
LOCATION:Vereinsheim 2 (Hegelstraße 11a)\, Hegelstraße 11a\, Bamberg\, Bayern\, 96052\, Germany
CATEGORIES:Kartenspiele,Sneak,Yu-Gi-Oh!
END:VEVENT
END:VCALENDAR