BEGIN:VCALENDAR
VERSION:2.0
PRODID:-//katago-ev.de - ECPv6.15.0.1//NONSGML v1.0//EN
CALSCALE:GREGORIAN
METHOD:PUBLISH
X-ORIGINAL-URL:https://katago-ev.de
X-WR-CALDESC:Veranstaltungen für katago-ev.de
REFRESH-INTERVAL;VALUE=DURATION:PT1H
X-Robots-Tag:noindex
X-PUBLISHED-TTL:PT1H
BEGIN:VTIMEZONE
TZID:Europe/Berlin
BEGIN:DAYLIGHT
TZOFFSETFROM:+0100
TZOFFSETTO:+0200
TZNAME:CEST
DTSTART:20240331T010000
END:DAYLIGHT
BEGIN:STANDARD
TZOFFSETFROM:+0200
TZOFFSETTO:+0100
TZNAME:CET
DTSTART:20241027T010000
END:STANDARD
END:VTIMEZONE
BEGIN:VEVENT
DTSTART;TZID=Europe/Berlin:20240217T090000
DTEND;TZID=Europe/Berlin:20240217T150000
DTSTAMP:20260423T102614
CREATED:20240202T210937Z
LAST-MODIFIED:20240202T210937Z
UID:10005024-1708160400-1708182000@katago-ev.de
SUMMARY:Yu-Gi-Oh! - 3 VS 3 PHNI Case Turnier
DESCRIPTION:Es wird wieder Zeit für ein Duell\, denn die Fabis laden ein!\nFür dieses 3vs3 Event meldet euch bitte als Team an. Das heißt bei dem Feld Vorname euren Teamnamen eintragen und bei Nachname die drei Namen der Teammitglieder. \n\nDie Plätze sind auf 12 Teams limitiert also anmelden!! \n!!Bei Teilnahme von 6-9 Teams besteht der Preispool aus einem halben Case. Ab 10 Teams aus einem ganzen. Sollten weniger als 6 Teams angemeldet sein fällt das Event aus!! \n\nDie Entscheidung wer Spieler 1\, 2 und 3 sein wird könnt ihr dann vor Ort uns Mitteilen. \n\nDies ist ein öffentliches Event zu dem auch Spieler kommen können die kein Mitglied des Vereins sind.\nBitte beachtet\, dass es nur Mitgliedern gestattet wird eigene Getränke mitzubringen.\nAlle anderen bedienen sich bitte an den von uns angebotenen Getränken. \n\nEventdetails: \nAnmeldung: 09:00 – 09:50 Uhr \nStart der 1. Runde: 10 Uhr \nFormat: Constructed Advanced \nStartgeld: 25€ p.P. \nPreis(bei 10 Teams\, ansonsten halbiert): \n1. Platz – 6 Displays \n2. Platz – 4 Displays \n3. Platz – 2 Displays \n  \nWir freuen uns auf euch!
URL:https://katago-ev.de/event/yu-gi-oh-3-vs-3-phni-case-turnier
LOCATION:Vereinsheim 2 (Hegelstraße 11a)\, Hegelstraße 11a\, Bamberg\, Bayern\, 96052\, Germany
CATEGORIES:3vs3,Kartenspiele,Yu-Gi-Oh!
ATTACH;FMTTYPE=image/jpeg:https://katago-ev.de/wp-content/uploads/2023/04/20230428_135037.jpg
END:VEVENT
BEGIN:VEVENT
DTSTART;TZID=Europe/Berlin:20240203T090000
DTEND;TZID=Europe/Berlin:20240203T150000
DTSTAMP:20260423T102614
CREATED:20240102T205346Z
LAST-MODIFIED:20240202T205524Z
UID:10004685-1706950800-1706972400@katago-ev.de
SUMMARY:Yu-Gi-Oh! Sneak "PHANTOM NIGHTMARE"
DESCRIPTION:Es wird wieder Zeit für ein Duell!\nDie Fabis laden ein also kommt vorbei und lasst uns zusammen die neuen Karten testen. \nDie Plätze sind limitiert also anmelden!! \nDies ist ein öffentliches Event zu dem auch Spieler kommen können die kein Mitglied des Vereins sind.\nBitte beachtet\, dass es nur Mitgliedern gestattet wird eigene Getränke mitzubringen.\nAlle anderen bedienen sich bitte an den von uns angebotenen Getränken. \nEventdetails: \nAnmeldung: 09:00 – 09:45 Uhr \nStart der 1. Runde: 10:00 \nFormat: Sneak \nStartgeld: 20€ p.P \nPreise: 1. Platz-> Matte + Promokarte \n2. Platz-> Promokarte \nWir freuen uns auf euch!
URL:https://katago-ev.de/event/yu-gi-oh-sneak-phantom-nightmare
LOCATION:Vereinsheim 2 (Hegelstraße 11a)\, Hegelstraße 11a\, Bamberg\, Bayern\, 96052\, Germany
CATEGORIES:Kartenspiele,Sneak,Yu-Gi-Oh!
END:VEVENT
END:VCALENDAR