BEGIN:VCALENDAR
VERSION:2.0
PRODID:-//katago-ev.de - ECPv6.15.0.1//NONSGML v1.0//EN
CALSCALE:GREGORIAN
METHOD:PUBLISH
X-ORIGINAL-URL:https://katago-ev.de
X-WR-CALDESC:Veranstaltungen für katago-ev.de
REFRESH-INTERVAL;VALUE=DURATION:PT1H
X-Robots-Tag:noindex
X-PUBLISHED-TTL:PT1H
BEGIN:VTIMEZONE
TZID:Europe/Berlin
BEGIN:DAYLIGHT
TZOFFSETFROM:+0100
TZOFFSETTO:+0200
TZNAME:CEST
DTSTART:20300331T010000
END:DAYLIGHT
BEGIN:STANDARD
TZOFFSETFROM:+0200
TZOFFSETTO:+0100
TZNAME:CET
DTSTART:20301027T010000
END:STANDARD
BEGIN:DAYLIGHT
TZOFFSETFROM:+0100
TZOFFSETTO:+0200
TZNAME:CEST
DTSTART:20310330T010000
END:DAYLIGHT
BEGIN:STANDARD
TZOFFSETFROM:+0200
TZOFFSETTO:+0100
TZNAME:CET
DTSTART:20311026T010000
END:STANDARD
END:VTIMEZONE
BEGIN:VEVENT
DTSTART;TZID=Europe/Berlin:20301001T180000
DTEND;TZID=Europe/Berlin:20301001T210000
DTSTAMP:20260424T013639
CREATED:20251104T103910Z
LAST-MODIFIED:20251105T213622Z
UID:10010826-1917108000-1917118800@katago-ev.de
SUMMARY:Flesh and Blood Armory
DESCRIPTION:Willkommen zu unserem wöchentlichen Flesh and Blood Armory!\n\nDies ist ein öffentliches Event\, zum dem auch Spieler kommen können\, die keine Mitglieder des Vereins sind. \nWir spielen jeden zweiten Dienstag um 18:00 Uhr bei uns im Vereinsheim 2 ohne Teilnahmegebühr! \nDas Format wechselt immer zwischen Classic Constructed und Silver Age. \nFür jeden Rundensieg bei uns gibt es ein GEM-Pack der aktuellen Season aber per Amory immer für jeden mindestens eines. Man geht also nicht leer aus. \nWer noch neu ist kann gerne nur auch zum zuschauen vorbeikommen bzw. haben wir die Möglichkeit\, and den Tagen an denen wir Silver Age spielen\, euch Decks zu leihen. \n  \nBei Rückfragen wendet euch gerne per E-Mail an fab@katago-ev.de \nFragt uns auch gerne per Mail oder vor Ort nach unserer WhatsApp Gruppe. \nDarüber werdet ihr über geplante Turniere informiert. \n  \nWir freuen uns auf euch! \n  \n  \n  \nBitte beachtet\, dass es nur Vereinsmitgliedern gestattet ist eigene Getränke mitzubringen.Alle anderen bedienen sich bitte an den von uns angebotenen Getränken. (2€ pro Getränk) \nSolltet ihr noch kein Mitglied sein\, aber Interesse an unseren Events oder einer Mitgliedschaft haben\, könnt ihr gerne einen ausgefüllten Mitgliedsantrag zum entsprechenden Event mitbringen und ab da einen kostenlosen Probemonat bei uns starten. Mitgliedsanträge gibt es hier.
URL:https://katago-ev.de/event/flesh-and-blood-armory-28/2030-10-01
LOCATION:Vereinsheim 2 (Hegelstraße 11a)\, Hegelstraße 11a\, Bamberg\, Bayern\, 96052\, Germany
CATEGORIES:Flesh and Blood TCG
ATTACH;FMTTYPE=image/png:https://katago-ev.de/wp-content/uploads/2021/09/logo_fab_stroke_black_750.height-350.width-10000.png
END:VEVENT
BEGIN:VEVENT
DTSTART;TZID=Europe/Berlin:20301002T180000
DTEND;TZID=Europe/Berlin:20301002T220000
DTSTAMP:20260424T013639
CREATED:20250903T190049Z
LAST-MODIFIED:20260107T173637Z
UID:10010936-1917194400-1917208800@katago-ev.de
SUMMARY:Mittwochs Magic Rotation
DESCRIPTION:Es werden abwechselnd folgende Formate gespielt: \n1. Mittwoch im Monat: Draft (Start 19.00 Uhr)\n2. Mittwoch im Monat: Modern\n(3. Mittwoch im Monat: Pauper) findet bis auf weiteres nicht statt\, bis sich ein Organisator für das Event gefunden hat\n4. Mittwoch im Monat: Legacy\n(5. Mittwoch im Monat: frei zur Abstimmung) \n  \nFür Modern\, Pauper und Legacy dürft ihr an den Mittwochsterminen auch Proxies spielen. \n  \nDraft wird entsprechend des Sets einen buy in haben\, alle anderen Formate werden keinen buy in haben. \n  \nWeitere Infos und ob das Event zustande kommt wird in unseren WhatsApp Gruppen kommuniziert! \n  \n 
URL:https://katago-ev.de/event/mittwochs-magic-rotation/2030-10-02
LOCATION:Vereinsheim 2 (Hegelstraße 11a)\, Hegelstraße 11a\, Bamberg\, Bayern\, 96052\, Germany
ATTACH;FMTTYPE=image/png:https://katago-ev.de/wp-content/uploads/2023/12/cropped-Magic-The-Gathering-logo.png
END:VEVENT
BEGIN:VEVENT
DTSTART;TZID=Europe/Berlin:20301009T180000
DTEND;TZID=Europe/Berlin:20301009T220000
DTSTAMP:20260424T013639
CREATED:20250903T190049Z
LAST-MODIFIED:20260107T173637Z
UID:10010937-1917799200-1917813600@katago-ev.de
SUMMARY:Mittwochs Magic Rotation
DESCRIPTION:Es werden abwechselnd folgende Formate gespielt: \n1. Mittwoch im Monat: Draft (Start 19.00 Uhr)\n2. Mittwoch im Monat: Modern\n(3. Mittwoch im Monat: Pauper) findet bis auf weiteres nicht statt\, bis sich ein Organisator für das Event gefunden hat\n4. Mittwoch im Monat: Legacy\n(5. Mittwoch im Monat: frei zur Abstimmung) \n  \nFür Modern\, Pauper und Legacy dürft ihr an den Mittwochsterminen auch Proxies spielen. \n  \nDraft wird entsprechend des Sets einen buy in haben\, alle anderen Formate werden keinen buy in haben. \n  \nWeitere Infos und ob das Event zustande kommt wird in unseren WhatsApp Gruppen kommuniziert! \n  \n 
URL:https://katago-ev.de/event/mittwochs-magic-rotation/2030-10-09
LOCATION:Vereinsheim 2 (Hegelstraße 11a)\, Hegelstraße 11a\, Bamberg\, Bayern\, 96052\, Germany
ATTACH;FMTTYPE=image/png:https://katago-ev.de/wp-content/uploads/2023/12/cropped-Magic-The-Gathering-logo.png
END:VEVENT
BEGIN:VEVENT
DTSTART;TZID=Europe/Berlin:20301015T180000
DTEND;TZID=Europe/Berlin:20301015T210000
DTSTAMP:20260424T013639
CREATED:20251104T103910Z
LAST-MODIFIED:20251105T213622Z
UID:10010827-1918317600-1918328400@katago-ev.de
SUMMARY:Flesh and Blood Armory
DESCRIPTION:Willkommen zu unserem wöchentlichen Flesh and Blood Armory!\n\nDies ist ein öffentliches Event\, zum dem auch Spieler kommen können\, die keine Mitglieder des Vereins sind. \nWir spielen jeden zweiten Dienstag um 18:00 Uhr bei uns im Vereinsheim 2 ohne Teilnahmegebühr! \nDas Format wechselt immer zwischen Classic Constructed und Silver Age. \nFür jeden Rundensieg bei uns gibt es ein GEM-Pack der aktuellen Season aber per Amory immer für jeden mindestens eines. Man geht also nicht leer aus. \nWer noch neu ist kann gerne nur auch zum zuschauen vorbeikommen bzw. haben wir die Möglichkeit\, and den Tagen an denen wir Silver Age spielen\, euch Decks zu leihen. \n  \nBei Rückfragen wendet euch gerne per E-Mail an fab@katago-ev.de \nFragt uns auch gerne per Mail oder vor Ort nach unserer WhatsApp Gruppe. \nDarüber werdet ihr über geplante Turniere informiert. \n  \nWir freuen uns auf euch! \n  \n  \n  \nBitte beachtet\, dass es nur Vereinsmitgliedern gestattet ist eigene Getränke mitzubringen.Alle anderen bedienen sich bitte an den von uns angebotenen Getränken. (2€ pro Getränk) \nSolltet ihr noch kein Mitglied sein\, aber Interesse an unseren Events oder einer Mitgliedschaft haben\, könnt ihr gerne einen ausgefüllten Mitgliedsantrag zum entsprechenden Event mitbringen und ab da einen kostenlosen Probemonat bei uns starten. Mitgliedsanträge gibt es hier.
URL:https://katago-ev.de/event/flesh-and-blood-armory-28/2030-10-15
LOCATION:Vereinsheim 2 (Hegelstraße 11a)\, Hegelstraße 11a\, Bamberg\, Bayern\, 96052\, Germany
CATEGORIES:Flesh and Blood TCG
ATTACH;FMTTYPE=image/png:https://katago-ev.de/wp-content/uploads/2021/09/logo_fab_stroke_black_750.height-350.width-10000.png
END:VEVENT
BEGIN:VEVENT
DTSTART;TZID=Europe/Berlin:20301016T180000
DTEND;TZID=Europe/Berlin:20301016T220000
DTSTAMP:20260424T013639
CREATED:20250903T190049Z
LAST-MODIFIED:20260107T173637Z
UID:10010938-1918404000-1918418400@katago-ev.de
SUMMARY:Mittwochs Magic Rotation
DESCRIPTION:Es werden abwechselnd folgende Formate gespielt: \n1. Mittwoch im Monat: Draft (Start 19.00 Uhr)\n2. Mittwoch im Monat: Modern\n(3. Mittwoch im Monat: Pauper) findet bis auf weiteres nicht statt\, bis sich ein Organisator für das Event gefunden hat\n4. Mittwoch im Monat: Legacy\n(5. Mittwoch im Monat: frei zur Abstimmung) \n  \nFür Modern\, Pauper und Legacy dürft ihr an den Mittwochsterminen auch Proxies spielen. \n  \nDraft wird entsprechend des Sets einen buy in haben\, alle anderen Formate werden keinen buy in haben. \n  \nWeitere Infos und ob das Event zustande kommt wird in unseren WhatsApp Gruppen kommuniziert! \n  \n 
URL:https://katago-ev.de/event/mittwochs-magic-rotation/2030-10-16
LOCATION:Vereinsheim 2 (Hegelstraße 11a)\, Hegelstraße 11a\, Bamberg\, Bayern\, 96052\, Germany
ATTACH;FMTTYPE=image/png:https://katago-ev.de/wp-content/uploads/2023/12/cropped-Magic-The-Gathering-logo.png
END:VEVENT
BEGIN:VEVENT
DTSTART;TZID=Europe/Berlin:20301023T180000
DTEND;TZID=Europe/Berlin:20301023T220000
DTSTAMP:20260424T013639
CREATED:20250903T190049Z
LAST-MODIFIED:20260107T173637Z
UID:10010939-1919008800-1919023200@katago-ev.de
SUMMARY:Mittwochs Magic Rotation
DESCRIPTION:Es werden abwechselnd folgende Formate gespielt: \n1. Mittwoch im Monat: Draft (Start 19.00 Uhr)\n2. Mittwoch im Monat: Modern\n(3. Mittwoch im Monat: Pauper) findet bis auf weiteres nicht statt\, bis sich ein Organisator für das Event gefunden hat\n4. Mittwoch im Monat: Legacy\n(5. Mittwoch im Monat: frei zur Abstimmung) \n  \nFür Modern\, Pauper und Legacy dürft ihr an den Mittwochsterminen auch Proxies spielen. \n  \nDraft wird entsprechend des Sets einen buy in haben\, alle anderen Formate werden keinen buy in haben. \n  \nWeitere Infos und ob das Event zustande kommt wird in unseren WhatsApp Gruppen kommuniziert! \n  \n 
URL:https://katago-ev.de/event/mittwochs-magic-rotation/2030-10-23
LOCATION:Vereinsheim 2 (Hegelstraße 11a)\, Hegelstraße 11a\, Bamberg\, Bayern\, 96052\, Germany
ATTACH;FMTTYPE=image/png:https://katago-ev.de/wp-content/uploads/2023/12/cropped-Magic-The-Gathering-logo.png
END:VEVENT
BEGIN:VEVENT
DTSTART;TZID=Europe/Berlin:20301029T180000
DTEND;TZID=Europe/Berlin:20301029T210000
DTSTAMP:20260424T013639
CREATED:20251104T103910Z
LAST-MODIFIED:20251105T213622Z
UID:10010828-1919527200-1919538000@katago-ev.de
SUMMARY:Flesh and Blood Armory
DESCRIPTION:Willkommen zu unserem wöchentlichen Flesh and Blood Armory!\n\nDies ist ein öffentliches Event\, zum dem auch Spieler kommen können\, die keine Mitglieder des Vereins sind. \nWir spielen jeden zweiten Dienstag um 18:00 Uhr bei uns im Vereinsheim 2 ohne Teilnahmegebühr! \nDas Format wechselt immer zwischen Classic Constructed und Silver Age. \nFür jeden Rundensieg bei uns gibt es ein GEM-Pack der aktuellen Season aber per Amory immer für jeden mindestens eines. Man geht also nicht leer aus. \nWer noch neu ist kann gerne nur auch zum zuschauen vorbeikommen bzw. haben wir die Möglichkeit\, and den Tagen an denen wir Silver Age spielen\, euch Decks zu leihen. \n  \nBei Rückfragen wendet euch gerne per E-Mail an fab@katago-ev.de \nFragt uns auch gerne per Mail oder vor Ort nach unserer WhatsApp Gruppe. \nDarüber werdet ihr über geplante Turniere informiert. \n  \nWir freuen uns auf euch! \n  \n  \n  \nBitte beachtet\, dass es nur Vereinsmitgliedern gestattet ist eigene Getränke mitzubringen.Alle anderen bedienen sich bitte an den von uns angebotenen Getränken. (2€ pro Getränk) \nSolltet ihr noch kein Mitglied sein\, aber Interesse an unseren Events oder einer Mitgliedschaft haben\, könnt ihr gerne einen ausgefüllten Mitgliedsantrag zum entsprechenden Event mitbringen und ab da einen kostenlosen Probemonat bei uns starten. Mitgliedsanträge gibt es hier.
URL:https://katago-ev.de/event/flesh-and-blood-armory-28/2030-10-29
LOCATION:Vereinsheim 2 (Hegelstraße 11a)\, Hegelstraße 11a\, Bamberg\, Bayern\, 96052\, Germany
CATEGORIES:Flesh and Blood TCG
ATTACH;FMTTYPE=image/png:https://katago-ev.de/wp-content/uploads/2021/09/logo_fab_stroke_black_750.height-350.width-10000.png
END:VEVENT
BEGIN:VEVENT
DTSTART;TZID=Europe/Berlin:20301030T180000
DTEND;TZID=Europe/Berlin:20301030T220000
DTSTAMP:20260424T013639
CREATED:20250903T190049Z
LAST-MODIFIED:20260107T173637Z
UID:10010940-1919613600-1919628000@katago-ev.de
SUMMARY:Mittwochs Magic Rotation
DESCRIPTION:Es werden abwechselnd folgende Formate gespielt: \n1. Mittwoch im Monat: Draft (Start 19.00 Uhr)\n2. Mittwoch im Monat: Modern\n(3. Mittwoch im Monat: Pauper) findet bis auf weiteres nicht statt\, bis sich ein Organisator für das Event gefunden hat\n4. Mittwoch im Monat: Legacy\n(5. Mittwoch im Monat: frei zur Abstimmung) \n  \nFür Modern\, Pauper und Legacy dürft ihr an den Mittwochsterminen auch Proxies spielen. \n  \nDraft wird entsprechend des Sets einen buy in haben\, alle anderen Formate werden keinen buy in haben. \n  \nWeitere Infos und ob das Event zustande kommt wird in unseren WhatsApp Gruppen kommuniziert! \n  \n 
URL:https://katago-ev.de/event/mittwochs-magic-rotation/2030-10-30
LOCATION:Vereinsheim 2 (Hegelstraße 11a)\, Hegelstraße 11a\, Bamberg\, Bayern\, 96052\, Germany
ATTACH;FMTTYPE=image/png:https://katago-ev.de/wp-content/uploads/2023/12/cropped-Magic-The-Gathering-logo.png
END:VEVENT
BEGIN:VEVENT
DTSTART;TZID=Europe/Berlin:20301106T180000
DTEND;TZID=Europe/Berlin:20301106T220000
DTSTAMP:20260424T013639
CREATED:20250903T190049Z
LAST-MODIFIED:20260107T173637Z
UID:10010941-1920218400-1920232800@katago-ev.de
SUMMARY:Mittwochs Magic Rotation
DESCRIPTION:Es werden abwechselnd folgende Formate gespielt: \n1. Mittwoch im Monat: Draft (Start 19.00 Uhr)\n2. Mittwoch im Monat: Modern\n(3. Mittwoch im Monat: Pauper) findet bis auf weiteres nicht statt\, bis sich ein Organisator für das Event gefunden hat\n4. Mittwoch im Monat: Legacy\n(5. Mittwoch im Monat: frei zur Abstimmung) \n  \nFür Modern\, Pauper und Legacy dürft ihr an den Mittwochsterminen auch Proxies spielen. \n  \nDraft wird entsprechend des Sets einen buy in haben\, alle anderen Formate werden keinen buy in haben. \n  \nWeitere Infos und ob das Event zustande kommt wird in unseren WhatsApp Gruppen kommuniziert! \n  \n 
URL:https://katago-ev.de/event/mittwochs-magic-rotation/2030-11-06
LOCATION:Vereinsheim 2 (Hegelstraße 11a)\, Hegelstraße 11a\, Bamberg\, Bayern\, 96052\, Germany
ATTACH;FMTTYPE=image/png:https://katago-ev.de/wp-content/uploads/2023/12/cropped-Magic-The-Gathering-logo.png
END:VEVENT
BEGIN:VEVENT
DTSTART;TZID=Europe/Berlin:20301113T180000
DTEND;TZID=Europe/Berlin:20301113T220000
DTSTAMP:20260424T013639
CREATED:20250903T190049Z
LAST-MODIFIED:20260107T173637Z
UID:10010942-1920823200-1920837600@katago-ev.de
SUMMARY:Mittwochs Magic Rotation
DESCRIPTION:Es werden abwechselnd folgende Formate gespielt: \n1. Mittwoch im Monat: Draft (Start 19.00 Uhr)\n2. Mittwoch im Monat: Modern\n(3. Mittwoch im Monat: Pauper) findet bis auf weiteres nicht statt\, bis sich ein Organisator für das Event gefunden hat\n4. Mittwoch im Monat: Legacy\n(5. Mittwoch im Monat: frei zur Abstimmung) \n  \nFür Modern\, Pauper und Legacy dürft ihr an den Mittwochsterminen auch Proxies spielen. \n  \nDraft wird entsprechend des Sets einen buy in haben\, alle anderen Formate werden keinen buy in haben. \n  \nWeitere Infos und ob das Event zustande kommt wird in unseren WhatsApp Gruppen kommuniziert! \n  \n 
URL:https://katago-ev.de/event/mittwochs-magic-rotation/2030-11-13
LOCATION:Vereinsheim 2 (Hegelstraße 11a)\, Hegelstraße 11a\, Bamberg\, Bayern\, 96052\, Germany
ATTACH;FMTTYPE=image/png:https://katago-ev.de/wp-content/uploads/2023/12/cropped-Magic-The-Gathering-logo.png
END:VEVENT
BEGIN:VEVENT
DTSTART;TZID=Europe/Berlin:20301120T180000
DTEND;TZID=Europe/Berlin:20301120T220000
DTSTAMP:20260424T013639
CREATED:20250903T190049Z
LAST-MODIFIED:20260107T173637Z
UID:10011235-1921428000-1921442400@katago-ev.de
SUMMARY:Mittwochs Magic Rotation
DESCRIPTION:Es werden abwechselnd folgende Formate gespielt: \n1. Mittwoch im Monat: Draft (Start 19.00 Uhr)\n2. Mittwoch im Monat: Modern\n(3. Mittwoch im Monat: Pauper) findet bis auf weiteres nicht statt\, bis sich ein Organisator für das Event gefunden hat\n4. Mittwoch im Monat: Legacy\n(5. Mittwoch im Monat: frei zur Abstimmung) \n  \nFür Modern\, Pauper und Legacy dürft ihr an den Mittwochsterminen auch Proxies spielen. \n  \nDraft wird entsprechend des Sets einen buy in haben\, alle anderen Formate werden keinen buy in haben. \n  \nWeitere Infos und ob das Event zustande kommt wird in unseren WhatsApp Gruppen kommuniziert! \n  \n 
URL:https://katago-ev.de/event/mittwochs-magic-rotation/2030-11-20
LOCATION:Vereinsheim 2 (Hegelstraße 11a)\, Hegelstraße 11a\, Bamberg\, Bayern\, 96052\, Germany
ATTACH;FMTTYPE=image/png:https://katago-ev.de/wp-content/uploads/2023/12/cropped-Magic-The-Gathering-logo.png
END:VEVENT
BEGIN:VEVENT
DTSTART;TZID=Europe/Berlin:20301127T180000
DTEND;TZID=Europe/Berlin:20301127T220000
DTSTAMP:20260424T013639
CREATED:20250903T190049Z
LAST-MODIFIED:20260107T173637Z
UID:10011236-1922032800-1922047200@katago-ev.de
SUMMARY:Mittwochs Magic Rotation
DESCRIPTION:Es werden abwechselnd folgende Formate gespielt: \n1. Mittwoch im Monat: Draft (Start 19.00 Uhr)\n2. Mittwoch im Monat: Modern\n(3. Mittwoch im Monat: Pauper) findet bis auf weiteres nicht statt\, bis sich ein Organisator für das Event gefunden hat\n4. Mittwoch im Monat: Legacy\n(5. Mittwoch im Monat: frei zur Abstimmung) \n  \nFür Modern\, Pauper und Legacy dürft ihr an den Mittwochsterminen auch Proxies spielen. \n  \nDraft wird entsprechend des Sets einen buy in haben\, alle anderen Formate werden keinen buy in haben. \n  \nWeitere Infos und ob das Event zustande kommt wird in unseren WhatsApp Gruppen kommuniziert! \n  \n 
URL:https://katago-ev.de/event/mittwochs-magic-rotation/2030-11-27
LOCATION:Vereinsheim 2 (Hegelstraße 11a)\, Hegelstraße 11a\, Bamberg\, Bayern\, 96052\, Germany
ATTACH;FMTTYPE=image/png:https://katago-ev.de/wp-content/uploads/2023/12/cropped-Magic-The-Gathering-logo.png
END:VEVENT
BEGIN:VEVENT
DTSTART;TZID=Europe/Berlin:20301204T180000
DTEND;TZID=Europe/Berlin:20301204T220000
DTSTAMP:20260424T013639
CREATED:20250903T190049Z
LAST-MODIFIED:20260107T173637Z
UID:10011237-1922637600-1922652000@katago-ev.de
SUMMARY:Mittwochs Magic Rotation
DESCRIPTION:Es werden abwechselnd folgende Formate gespielt: \n1. Mittwoch im Monat: Draft (Start 19.00 Uhr)\n2. Mittwoch im Monat: Modern\n(3. Mittwoch im Monat: Pauper) findet bis auf weiteres nicht statt\, bis sich ein Organisator für das Event gefunden hat\n4. Mittwoch im Monat: Legacy\n(5. Mittwoch im Monat: frei zur Abstimmung) \n  \nFür Modern\, Pauper und Legacy dürft ihr an den Mittwochsterminen auch Proxies spielen. \n  \nDraft wird entsprechend des Sets einen buy in haben\, alle anderen Formate werden keinen buy in haben. \n  \nWeitere Infos und ob das Event zustande kommt wird in unseren WhatsApp Gruppen kommuniziert! \n  \n 
URL:https://katago-ev.de/event/mittwochs-magic-rotation/2030-12-04
LOCATION:Vereinsheim 2 (Hegelstraße 11a)\, Hegelstraße 11a\, Bamberg\, Bayern\, 96052\, Germany
ATTACH;FMTTYPE=image/png:https://katago-ev.de/wp-content/uploads/2023/12/cropped-Magic-The-Gathering-logo.png
END:VEVENT
BEGIN:VEVENT
DTSTART;TZID=Europe/Berlin:20301211T180000
DTEND;TZID=Europe/Berlin:20301211T220000
DTSTAMP:20260424T013639
CREATED:20250903T190049Z
LAST-MODIFIED:20260107T173637Z
UID:10011238-1923242400-1923256800@katago-ev.de
SUMMARY:Mittwochs Magic Rotation
DESCRIPTION:Es werden abwechselnd folgende Formate gespielt: \n1. Mittwoch im Monat: Draft (Start 19.00 Uhr)\n2. Mittwoch im Monat: Modern\n(3. Mittwoch im Monat: Pauper) findet bis auf weiteres nicht statt\, bis sich ein Organisator für das Event gefunden hat\n4. Mittwoch im Monat: Legacy\n(5. Mittwoch im Monat: frei zur Abstimmung) \n  \nFür Modern\, Pauper und Legacy dürft ihr an den Mittwochsterminen auch Proxies spielen. \n  \nDraft wird entsprechend des Sets einen buy in haben\, alle anderen Formate werden keinen buy in haben. \n  \nWeitere Infos und ob das Event zustande kommt wird in unseren WhatsApp Gruppen kommuniziert! \n  \n 
URL:https://katago-ev.de/event/mittwochs-magic-rotation/2030-12-11
LOCATION:Vereinsheim 2 (Hegelstraße 11a)\, Hegelstraße 11a\, Bamberg\, Bayern\, 96052\, Germany
ATTACH;FMTTYPE=image/png:https://katago-ev.de/wp-content/uploads/2023/12/cropped-Magic-The-Gathering-logo.png
END:VEVENT
BEGIN:VEVENT
DTSTART;TZID=Europe/Berlin:20301218T180000
DTEND;TZID=Europe/Berlin:20301218T220000
DTSTAMP:20260424T013639
CREATED:20250903T190049Z
LAST-MODIFIED:20260107T173637Z
UID:10011239-1923847200-1923861600@katago-ev.de
SUMMARY:Mittwochs Magic Rotation
DESCRIPTION:Es werden abwechselnd folgende Formate gespielt: \n1. Mittwoch im Monat: Draft (Start 19.00 Uhr)\n2. Mittwoch im Monat: Modern\n(3. Mittwoch im Monat: Pauper) findet bis auf weiteres nicht statt\, bis sich ein Organisator für das Event gefunden hat\n4. Mittwoch im Monat: Legacy\n(5. Mittwoch im Monat: frei zur Abstimmung) \n  \nFür Modern\, Pauper und Legacy dürft ihr an den Mittwochsterminen auch Proxies spielen. \n  \nDraft wird entsprechend des Sets einen buy in haben\, alle anderen Formate werden keinen buy in haben. \n  \nWeitere Infos und ob das Event zustande kommt wird in unseren WhatsApp Gruppen kommuniziert! \n  \n 
URL:https://katago-ev.de/event/mittwochs-magic-rotation/2030-12-18
LOCATION:Vereinsheim 2 (Hegelstraße 11a)\, Hegelstraße 11a\, Bamberg\, Bayern\, 96052\, Germany
ATTACH;FMTTYPE=image/png:https://katago-ev.de/wp-content/uploads/2023/12/cropped-Magic-The-Gathering-logo.png
END:VEVENT
BEGIN:VEVENT
DTSTART;TZID=Europe/Berlin:20301225T180000
DTEND;TZID=Europe/Berlin:20301225T220000
DTSTAMP:20260424T013639
CREATED:20250903T190049Z
LAST-MODIFIED:20260107T173637Z
UID:10011240-1924452000-1924466400@katago-ev.de
SUMMARY:Mittwochs Magic Rotation
DESCRIPTION:Es werden abwechselnd folgende Formate gespielt: \n1. Mittwoch im Monat: Draft (Start 19.00 Uhr)\n2. Mittwoch im Monat: Modern\n(3. Mittwoch im Monat: Pauper) findet bis auf weiteres nicht statt\, bis sich ein Organisator für das Event gefunden hat\n4. Mittwoch im Monat: Legacy\n(5. Mittwoch im Monat: frei zur Abstimmung) \n  \nFür Modern\, Pauper und Legacy dürft ihr an den Mittwochsterminen auch Proxies spielen. \n  \nDraft wird entsprechend des Sets einen buy in haben\, alle anderen Formate werden keinen buy in haben. \n  \nWeitere Infos und ob das Event zustande kommt wird in unseren WhatsApp Gruppen kommuniziert! \n  \n 
URL:https://katago-ev.de/event/mittwochs-magic-rotation/2030-12-25
LOCATION:Vereinsheim 2 (Hegelstraße 11a)\, Hegelstraße 11a\, Bamberg\, Bayern\, 96052\, Germany
ATTACH;FMTTYPE=image/png:https://katago-ev.de/wp-content/uploads/2023/12/cropped-Magic-The-Gathering-logo.png
END:VEVENT
BEGIN:VEVENT
DTSTART;TZID=Europe/Berlin:20310101T180000
DTEND;TZID=Europe/Berlin:20310101T220000
DTSTAMP:20260424T013639
CREATED:20250903T190049Z
LAST-MODIFIED:20260107T173637Z
UID:10011241-1925056800-1925071200@katago-ev.de
SUMMARY:Mittwochs Magic Rotation
DESCRIPTION:Es werden abwechselnd folgende Formate gespielt: \n1. Mittwoch im Monat: Draft (Start 19.00 Uhr)\n2. Mittwoch im Monat: Modern\n(3. Mittwoch im Monat: Pauper) findet bis auf weiteres nicht statt\, bis sich ein Organisator für das Event gefunden hat\n4. Mittwoch im Monat: Legacy\n(5. Mittwoch im Monat: frei zur Abstimmung) \n  \nFür Modern\, Pauper und Legacy dürft ihr an den Mittwochsterminen auch Proxies spielen. \n  \nDraft wird entsprechend des Sets einen buy in haben\, alle anderen Formate werden keinen buy in haben. \n  \nWeitere Infos und ob das Event zustande kommt wird in unseren WhatsApp Gruppen kommuniziert! \n  \n 
URL:https://katago-ev.de/event/mittwochs-magic-rotation/2031-01-01
LOCATION:Vereinsheim 2 (Hegelstraße 11a)\, Hegelstraße 11a\, Bamberg\, Bayern\, 96052\, Germany
ATTACH;FMTTYPE=image/png:https://katago-ev.de/wp-content/uploads/2023/12/cropped-Magic-The-Gathering-logo.png
END:VEVENT
END:VCALENDAR