BEGIN:VCALENDAR
VERSION:2.0
PRODID:-//katago-ev.de - ECPv6.15.0.1//NONSGML v1.0//EN
CALSCALE:GREGORIAN
METHOD:PUBLISH
X-WR-CALNAME:katago-ev.de
X-ORIGINAL-URL:https://katago-ev.de
X-WR-CALDESC:Veranstaltungen für katago-ev.de
REFRESH-INTERVAL;VALUE=DURATION:PT1H
X-Robots-Tag:noindex
X-PUBLISHED-TTL:PT1H
BEGIN:VTIMEZONE
TZID:Europe/Berlin
BEGIN:DAYLIGHT
TZOFFSETFROM:+0100
TZOFFSETTO:+0200
TZNAME:CEST
DTSTART:20270328T010000
END:DAYLIGHT
BEGIN:STANDARD
TZOFFSETFROM:+0200
TZOFFSETTO:+0100
TZNAME:CET
DTSTART:20271031T010000
END:STANDARD
BEGIN:DAYLIGHT
TZOFFSETFROM:+0100
TZOFFSETTO:+0200
TZNAME:CEST
DTSTART:20280326T010000
END:DAYLIGHT
BEGIN:STANDARD
TZOFFSETFROM:+0200
TZOFFSETTO:+0100
TZNAME:CET
DTSTART:20281029T010000
END:STANDARD
END:VTIMEZONE
BEGIN:VEVENT
DTSTART;TZID=Europe/Berlin:20271003T140000
DTEND;TZID=Europe/Berlin:20271003T190000
DTSTAMP:20260423T100241
CREATED:20250425T075636Z
LAST-MODIFIED:20250425T133711Z
UID:10009088-1822572000-1822590000@katago-ev.de
SUMMARY:Custom40k - A Warhammer 40.000 Homebrew
DESCRIPTION:Einsteiger gern gesehen! \nEs wird Warhammer 40k mit einem eigenen\, von unserer Community entwickelten Regelwerk samt Codizes gespielt. \nFür Details schau bei uns im Discord vorbei\, dort finden alle relevanten Diskussionen dazu statt oder besuch uns direkt.
URL:https://katago-ev.de/event/custom40k-a-warhammer-40-000-homebrew-2/2027-10-03
LOCATION:Vereinsheim 1 – Keller (Hegelstraße 1a)\, Hegelstraße 1a\, Bamberg\, Bayern\, 96052\, Germany
CATEGORIES:Tabletop,Warhammer 40k
ATTACH;FMTTYPE=image/jpeg:https://katago-ev.de/wp-content/uploads/2025/04/40k_3rdEditionLogo.jpg
END:VEVENT
BEGIN:VEVENT
DTSTART;TZID=Europe/Berlin:20271010T140000
DTEND;TZID=Europe/Berlin:20271010T190000
DTSTAMP:20260423T100241
CREATED:20250425T075636Z
LAST-MODIFIED:20250425T133711Z
UID:10009089-1823176800-1823194800@katago-ev.de
SUMMARY:Custom40k - A Warhammer 40.000 Homebrew
DESCRIPTION:Einsteiger gern gesehen! \nEs wird Warhammer 40k mit einem eigenen\, von unserer Community entwickelten Regelwerk samt Codizes gespielt. \nFür Details schau bei uns im Discord vorbei\, dort finden alle relevanten Diskussionen dazu statt oder besuch uns direkt.
URL:https://katago-ev.de/event/custom40k-a-warhammer-40-000-homebrew-2/2027-10-10
LOCATION:Vereinsheim 1 – Keller (Hegelstraße 1a)\, Hegelstraße 1a\, Bamberg\, Bayern\, 96052\, Germany
CATEGORIES:Tabletop,Warhammer 40k
ATTACH;FMTTYPE=image/jpeg:https://katago-ev.de/wp-content/uploads/2025/04/40k_3rdEditionLogo.jpg
END:VEVENT
BEGIN:VEVENT
DTSTART;TZID=Europe/Berlin:20271013T180000
DTEND;TZID=Europe/Berlin:20271013T220000
DTSTAMP:20260423T100241
CREATED:20260302T074039Z
LAST-MODIFIED:20260302T074040Z
UID:10009344-1823450400-1823464800@katago-ev.de
SUMMARY:Dungeons and Dragons 3.5 - "HAMMERFAST" Kampagne
DESCRIPTION:Geschlossene Veranstaltung \nPen and Paper
URL:https://katago-ev.de/event/eclipse-phase-2/2027-10-13
LOCATION:Vereinsheim 1 – Keller (Hegelstraße 1a)\, Hegelstraße 1a\, Bamberg\, Bayern\, 96052\, Germany
CATEGORIES:Dungeons & Dragons,Rollenspiel
ATTACH;FMTTYPE=image/jpeg:https://katago-ev.de/wp-content/uploads/2023/06/141-1413446_dungeons-dragons-dungeons-dragons-logo.jpg
END:VEVENT
BEGIN:VEVENT
DTSTART;TZID=Europe/Berlin:20271017T140000
DTEND;TZID=Europe/Berlin:20271017T190000
DTSTAMP:20260423T100241
CREATED:20250425T075636Z
LAST-MODIFIED:20250425T133711Z
UID:10009090-1823781600-1823799600@katago-ev.de
SUMMARY:Custom40k - A Warhammer 40.000 Homebrew
DESCRIPTION:Einsteiger gern gesehen! \nEs wird Warhammer 40k mit einem eigenen\, von unserer Community entwickelten Regelwerk samt Codizes gespielt. \nFür Details schau bei uns im Discord vorbei\, dort finden alle relevanten Diskussionen dazu statt oder besuch uns direkt.
URL:https://katago-ev.de/event/custom40k-a-warhammer-40-000-homebrew-2/2027-10-17
LOCATION:Vereinsheim 1 – Keller (Hegelstraße 1a)\, Hegelstraße 1a\, Bamberg\, Bayern\, 96052\, Germany
CATEGORIES:Tabletop,Warhammer 40k
ATTACH;FMTTYPE=image/jpeg:https://katago-ev.de/wp-content/uploads/2025/04/40k_3rdEditionLogo.jpg
END:VEVENT
BEGIN:VEVENT
DTSTART;TZID=Europe/Berlin:20271024T140000
DTEND;TZID=Europe/Berlin:20271024T190000
DTSTAMP:20260423T100241
CREATED:20250425T075636Z
LAST-MODIFIED:20250425T133711Z
UID:10009091-1824386400-1824404400@katago-ev.de
SUMMARY:Custom40k - A Warhammer 40.000 Homebrew
DESCRIPTION:Einsteiger gern gesehen! \nEs wird Warhammer 40k mit einem eigenen\, von unserer Community entwickelten Regelwerk samt Codizes gespielt. \nFür Details schau bei uns im Discord vorbei\, dort finden alle relevanten Diskussionen dazu statt oder besuch uns direkt.
URL:https://katago-ev.de/event/custom40k-a-warhammer-40-000-homebrew-2/2027-10-24
LOCATION:Vereinsheim 1 – Keller (Hegelstraße 1a)\, Hegelstraße 1a\, Bamberg\, Bayern\, 96052\, Germany
CATEGORIES:Tabletop,Warhammer 40k
ATTACH;FMTTYPE=image/jpeg:https://katago-ev.de/wp-content/uploads/2025/04/40k_3rdEditionLogo.jpg
END:VEVENT
BEGIN:VEVENT
DTSTART;TZID=Europe/Berlin:20271027T180000
DTEND;TZID=Europe/Berlin:20271027T220000
DTSTAMP:20260423T100241
CREATED:20260302T074039Z
LAST-MODIFIED:20260302T074040Z
UID:10009345-1824660000-1824674400@katago-ev.de
SUMMARY:Dungeons and Dragons 3.5 - "HAMMERFAST" Kampagne
DESCRIPTION:Geschlossene Veranstaltung \nPen and Paper
URL:https://katago-ev.de/event/eclipse-phase-2/2027-10-27
LOCATION:Vereinsheim 1 – Keller (Hegelstraße 1a)\, Hegelstraße 1a\, Bamberg\, Bayern\, 96052\, Germany
CATEGORIES:Dungeons & Dragons,Rollenspiel
ATTACH;FMTTYPE=image/jpeg:https://katago-ev.de/wp-content/uploads/2023/06/141-1413446_dungeons-dragons-dungeons-dragons-logo.jpg
END:VEVENT
BEGIN:VEVENT
DTSTART;TZID=Europe/Berlin:20271031T140000
DTEND;TZID=Europe/Berlin:20271031T190000
DTSTAMP:20260423T100241
CREATED:20250425T075636Z
LAST-MODIFIED:20250425T133711Z
UID:10009092-1824991200-1825009200@katago-ev.de
SUMMARY:Custom40k - A Warhammer 40.000 Homebrew
DESCRIPTION:Einsteiger gern gesehen! \nEs wird Warhammer 40k mit einem eigenen\, von unserer Community entwickelten Regelwerk samt Codizes gespielt. \nFür Details schau bei uns im Discord vorbei\, dort finden alle relevanten Diskussionen dazu statt oder besuch uns direkt.
URL:https://katago-ev.de/event/custom40k-a-warhammer-40-000-homebrew-2/2027-10-31
LOCATION:Vereinsheim 1 – Keller (Hegelstraße 1a)\, Hegelstraße 1a\, Bamberg\, Bayern\, 96052\, Germany
CATEGORIES:Tabletop,Warhammer 40k
ATTACH;FMTTYPE=image/jpeg:https://katago-ev.de/wp-content/uploads/2025/04/40k_3rdEditionLogo.jpg
END:VEVENT
BEGIN:VEVENT
DTSTART;TZID=Europe/Berlin:20271107T140000
DTEND;TZID=Europe/Berlin:20271107T190000
DTSTAMP:20260423T100241
CREATED:20250425T075636Z
LAST-MODIFIED:20250425T133711Z
UID:10009093-1825596000-1825614000@katago-ev.de
SUMMARY:Custom40k - A Warhammer 40.000 Homebrew
DESCRIPTION:Einsteiger gern gesehen! \nEs wird Warhammer 40k mit einem eigenen\, von unserer Community entwickelten Regelwerk samt Codizes gespielt. \nFür Details schau bei uns im Discord vorbei\, dort finden alle relevanten Diskussionen dazu statt oder besuch uns direkt.
URL:https://katago-ev.de/event/custom40k-a-warhammer-40-000-homebrew-2/2027-11-07
LOCATION:Vereinsheim 1 – Keller (Hegelstraße 1a)\, Hegelstraße 1a\, Bamberg\, Bayern\, 96052\, Germany
CATEGORIES:Tabletop,Warhammer 40k
ATTACH;FMTTYPE=image/jpeg:https://katago-ev.de/wp-content/uploads/2025/04/40k_3rdEditionLogo.jpg
END:VEVENT
BEGIN:VEVENT
DTSTART;TZID=Europe/Berlin:20271110T180000
DTEND;TZID=Europe/Berlin:20271110T220000
DTSTAMP:20260423T100241
CREATED:20260302T074039Z
LAST-MODIFIED:20260302T074040Z
UID:10009346-1825869600-1825884000@katago-ev.de
SUMMARY:Dungeons and Dragons 3.5 - "HAMMERFAST" Kampagne
DESCRIPTION:Geschlossene Veranstaltung \nPen and Paper
URL:https://katago-ev.de/event/eclipse-phase-2/2027-11-10
LOCATION:Vereinsheim 1 – Keller (Hegelstraße 1a)\, Hegelstraße 1a\, Bamberg\, Bayern\, 96052\, Germany
CATEGORIES:Dungeons & Dragons,Rollenspiel
ATTACH;FMTTYPE=image/jpeg:https://katago-ev.de/wp-content/uploads/2023/06/141-1413446_dungeons-dragons-dungeons-dragons-logo.jpg
END:VEVENT
BEGIN:VEVENT
DTSTART;TZID=Europe/Berlin:20271114T140000
DTEND;TZID=Europe/Berlin:20271114T190000
DTSTAMP:20260423T100241
CREATED:20250425T075636Z
LAST-MODIFIED:20250425T133711Z
UID:10009094-1826200800-1826218800@katago-ev.de
SUMMARY:Custom40k - A Warhammer 40.000 Homebrew
DESCRIPTION:Einsteiger gern gesehen! \nEs wird Warhammer 40k mit einem eigenen\, von unserer Community entwickelten Regelwerk samt Codizes gespielt. \nFür Details schau bei uns im Discord vorbei\, dort finden alle relevanten Diskussionen dazu statt oder besuch uns direkt.
URL:https://katago-ev.de/event/custom40k-a-warhammer-40-000-homebrew-2/2027-11-14
LOCATION:Vereinsheim 1 – Keller (Hegelstraße 1a)\, Hegelstraße 1a\, Bamberg\, Bayern\, 96052\, Germany
CATEGORIES:Tabletop,Warhammer 40k
ATTACH;FMTTYPE=image/jpeg:https://katago-ev.de/wp-content/uploads/2025/04/40k_3rdEditionLogo.jpg
END:VEVENT
BEGIN:VEVENT
DTSTART;TZID=Europe/Berlin:20271121T140000
DTEND;TZID=Europe/Berlin:20271121T190000
DTSTAMP:20260423T100241
CREATED:20250425T075636Z
LAST-MODIFIED:20250425T133711Z
UID:10009095-1826805600-1826823600@katago-ev.de
SUMMARY:Custom40k - A Warhammer 40.000 Homebrew
DESCRIPTION:Einsteiger gern gesehen! \nEs wird Warhammer 40k mit einem eigenen\, von unserer Community entwickelten Regelwerk samt Codizes gespielt. \nFür Details schau bei uns im Discord vorbei\, dort finden alle relevanten Diskussionen dazu statt oder besuch uns direkt.
URL:https://katago-ev.de/event/custom40k-a-warhammer-40-000-homebrew-2/2027-11-21
LOCATION:Vereinsheim 1 – Keller (Hegelstraße 1a)\, Hegelstraße 1a\, Bamberg\, Bayern\, 96052\, Germany
CATEGORIES:Tabletop,Warhammer 40k
ATTACH;FMTTYPE=image/jpeg:https://katago-ev.de/wp-content/uploads/2025/04/40k_3rdEditionLogo.jpg
END:VEVENT
BEGIN:VEVENT
DTSTART;TZID=Europe/Berlin:20271124T180000
DTEND;TZID=Europe/Berlin:20271124T220000
DTSTAMP:20260423T100241
CREATED:20260302T074039Z
LAST-MODIFIED:20260302T074040Z
UID:10009347-1827079200-1827093600@katago-ev.de
SUMMARY:Dungeons and Dragons 3.5 - "HAMMERFAST" Kampagne
DESCRIPTION:Geschlossene Veranstaltung \nPen and Paper
URL:https://katago-ev.de/event/eclipse-phase-2/2027-11-24
LOCATION:Vereinsheim 1 – Keller (Hegelstraße 1a)\, Hegelstraße 1a\, Bamberg\, Bayern\, 96052\, Germany
CATEGORIES:Dungeons & Dragons,Rollenspiel
ATTACH;FMTTYPE=image/jpeg:https://katago-ev.de/wp-content/uploads/2023/06/141-1413446_dungeons-dragons-dungeons-dragons-logo.jpg
END:VEVENT
BEGIN:VEVENT
DTSTART;TZID=Europe/Berlin:20271128T140000
DTEND;TZID=Europe/Berlin:20271128T190000
DTSTAMP:20260423T100241
CREATED:20250425T075636Z
LAST-MODIFIED:20250425T133711Z
UID:10009096-1827410400-1827428400@katago-ev.de
SUMMARY:Custom40k - A Warhammer 40.000 Homebrew
DESCRIPTION:Einsteiger gern gesehen! \nEs wird Warhammer 40k mit einem eigenen\, von unserer Community entwickelten Regelwerk samt Codizes gespielt. \nFür Details schau bei uns im Discord vorbei\, dort finden alle relevanten Diskussionen dazu statt oder besuch uns direkt.
URL:https://katago-ev.de/event/custom40k-a-warhammer-40-000-homebrew-2/2027-11-28
LOCATION:Vereinsheim 1 – Keller (Hegelstraße 1a)\, Hegelstraße 1a\, Bamberg\, Bayern\, 96052\, Germany
CATEGORIES:Tabletop,Warhammer 40k
ATTACH;FMTTYPE=image/jpeg:https://katago-ev.de/wp-content/uploads/2025/04/40k_3rdEditionLogo.jpg
END:VEVENT
BEGIN:VEVENT
DTSTART;TZID=Europe/Berlin:20271205T140000
DTEND;TZID=Europe/Berlin:20271205T190000
DTSTAMP:20260423T100241
CREATED:20250425T075636Z
LAST-MODIFIED:20250425T133711Z
UID:10009097-1828015200-1828033200@katago-ev.de
SUMMARY:Custom40k - A Warhammer 40.000 Homebrew
DESCRIPTION:Einsteiger gern gesehen! \nEs wird Warhammer 40k mit einem eigenen\, von unserer Community entwickelten Regelwerk samt Codizes gespielt. \nFür Details schau bei uns im Discord vorbei\, dort finden alle relevanten Diskussionen dazu statt oder besuch uns direkt.
URL:https://katago-ev.de/event/custom40k-a-warhammer-40-000-homebrew-2/2027-12-05
LOCATION:Vereinsheim 1 – Keller (Hegelstraße 1a)\, Hegelstraße 1a\, Bamberg\, Bayern\, 96052\, Germany
CATEGORIES:Tabletop,Warhammer 40k
ATTACH;FMTTYPE=image/jpeg:https://katago-ev.de/wp-content/uploads/2025/04/40k_3rdEditionLogo.jpg
END:VEVENT
BEGIN:VEVENT
DTSTART;TZID=Europe/Berlin:20271208T180000
DTEND;TZID=Europe/Berlin:20271208T220000
DTSTAMP:20260423T100241
CREATED:20260302T074039Z
LAST-MODIFIED:20260302T074040Z
UID:10009348-1828288800-1828303200@katago-ev.de
SUMMARY:Dungeons and Dragons 3.5 - "HAMMERFAST" Kampagne
DESCRIPTION:Geschlossene Veranstaltung \nPen and Paper
URL:https://katago-ev.de/event/eclipse-phase-2/2027-12-08
LOCATION:Vereinsheim 1 – Keller (Hegelstraße 1a)\, Hegelstraße 1a\, Bamberg\, Bayern\, 96052\, Germany
CATEGORIES:Dungeons & Dragons,Rollenspiel
ATTACH;FMTTYPE=image/jpeg:https://katago-ev.de/wp-content/uploads/2023/06/141-1413446_dungeons-dragons-dungeons-dragons-logo.jpg
END:VEVENT
BEGIN:VEVENT
DTSTART;TZID=Europe/Berlin:20271212T140000
DTEND;TZID=Europe/Berlin:20271212T190000
DTSTAMP:20260423T100241
CREATED:20250425T075636Z
LAST-MODIFIED:20250425T133711Z
UID:10009098-1828620000-1828638000@katago-ev.de
SUMMARY:Custom40k - A Warhammer 40.000 Homebrew
DESCRIPTION:Einsteiger gern gesehen! \nEs wird Warhammer 40k mit einem eigenen\, von unserer Community entwickelten Regelwerk samt Codizes gespielt. \nFür Details schau bei uns im Discord vorbei\, dort finden alle relevanten Diskussionen dazu statt oder besuch uns direkt.
URL:https://katago-ev.de/event/custom40k-a-warhammer-40-000-homebrew-2/2027-12-12
LOCATION:Vereinsheim 1 – Keller (Hegelstraße 1a)\, Hegelstraße 1a\, Bamberg\, Bayern\, 96052\, Germany
CATEGORIES:Tabletop,Warhammer 40k
ATTACH;FMTTYPE=image/jpeg:https://katago-ev.de/wp-content/uploads/2025/04/40k_3rdEditionLogo.jpg
END:VEVENT
BEGIN:VEVENT
DTSTART;TZID=Europe/Berlin:20271219T140000
DTEND;TZID=Europe/Berlin:20271219T190000
DTSTAMP:20260423T100241
CREATED:20250425T075636Z
LAST-MODIFIED:20250425T133711Z
UID:10009099-1829224800-1829242800@katago-ev.de
SUMMARY:Custom40k - A Warhammer 40.000 Homebrew
DESCRIPTION:Einsteiger gern gesehen! \nEs wird Warhammer 40k mit einem eigenen\, von unserer Community entwickelten Regelwerk samt Codizes gespielt. \nFür Details schau bei uns im Discord vorbei\, dort finden alle relevanten Diskussionen dazu statt oder besuch uns direkt.
URL:https://katago-ev.de/event/custom40k-a-warhammer-40-000-homebrew-2/2027-12-19
LOCATION:Vereinsheim 1 – Keller (Hegelstraße 1a)\, Hegelstraße 1a\, Bamberg\, Bayern\, 96052\, Germany
CATEGORIES:Tabletop,Warhammer 40k
ATTACH;FMTTYPE=image/jpeg:https://katago-ev.de/wp-content/uploads/2025/04/40k_3rdEditionLogo.jpg
END:VEVENT
BEGIN:VEVENT
DTSTART;TZID=Europe/Berlin:20271222T180000
DTEND;TZID=Europe/Berlin:20271222T220000
DTSTAMP:20260423T100241
CREATED:20260302T074039Z
LAST-MODIFIED:20260302T074040Z
UID:10009349-1829498400-1829512800@katago-ev.de
SUMMARY:Dungeons and Dragons 3.5 - "HAMMERFAST" Kampagne
DESCRIPTION:Geschlossene Veranstaltung \nPen and Paper
URL:https://katago-ev.de/event/eclipse-phase-2/2027-12-22
LOCATION:Vereinsheim 1 – Keller (Hegelstraße 1a)\, Hegelstraße 1a\, Bamberg\, Bayern\, 96052\, Germany
CATEGORIES:Dungeons & Dragons,Rollenspiel
ATTACH;FMTTYPE=image/jpeg:https://katago-ev.de/wp-content/uploads/2023/06/141-1413446_dungeons-dragons-dungeons-dragons-logo.jpg
END:VEVENT
BEGIN:VEVENT
DTSTART;TZID=Europe/Berlin:20271226T140000
DTEND;TZID=Europe/Berlin:20271226T190000
DTSTAMP:20260423T100241
CREATED:20250425T075636Z
LAST-MODIFIED:20250425T133711Z
UID:10009100-1829829600-1829847600@katago-ev.de
SUMMARY:Custom40k - A Warhammer 40.000 Homebrew
DESCRIPTION:Einsteiger gern gesehen! \nEs wird Warhammer 40k mit einem eigenen\, von unserer Community entwickelten Regelwerk samt Codizes gespielt. \nFür Details schau bei uns im Discord vorbei\, dort finden alle relevanten Diskussionen dazu statt oder besuch uns direkt.
URL:https://katago-ev.de/event/custom40k-a-warhammer-40-000-homebrew-2/2027-12-26
LOCATION:Vereinsheim 1 – Keller (Hegelstraße 1a)\, Hegelstraße 1a\, Bamberg\, Bayern\, 96052\, Germany
CATEGORIES:Tabletop,Warhammer 40k
ATTACH;FMTTYPE=image/jpeg:https://katago-ev.de/wp-content/uploads/2025/04/40k_3rdEditionLogo.jpg
END:VEVENT
BEGIN:VEVENT
DTSTART;TZID=Europe/Berlin:20280102T140000
DTEND;TZID=Europe/Berlin:20280102T190000
DTSTAMP:20260423T100241
CREATED:20250425T075636Z
LAST-MODIFIED:20250425T133711Z
UID:10009101-1830434400-1830452400@katago-ev.de
SUMMARY:Custom40k - A Warhammer 40.000 Homebrew
DESCRIPTION:Einsteiger gern gesehen! \nEs wird Warhammer 40k mit einem eigenen\, von unserer Community entwickelten Regelwerk samt Codizes gespielt. \nFür Details schau bei uns im Discord vorbei\, dort finden alle relevanten Diskussionen dazu statt oder besuch uns direkt.
URL:https://katago-ev.de/event/custom40k-a-warhammer-40-000-homebrew-2/2028-01-02
LOCATION:Vereinsheim 1 – Keller (Hegelstraße 1a)\, Hegelstraße 1a\, Bamberg\, Bayern\, 96052\, Germany
CATEGORIES:Tabletop,Warhammer 40k
ATTACH;FMTTYPE=image/jpeg:https://katago-ev.de/wp-content/uploads/2025/04/40k_3rdEditionLogo.jpg
END:VEVENT
BEGIN:VEVENT
DTSTART;TZID=Europe/Berlin:20280105T180000
DTEND;TZID=Europe/Berlin:20280105T220000
DTSTAMP:20260423T100241
CREATED:20260302T074039Z
LAST-MODIFIED:20260302T074040Z
UID:10009350-1830708000-1830722400@katago-ev.de
SUMMARY:Dungeons and Dragons 3.5 - "HAMMERFAST" Kampagne
DESCRIPTION:Geschlossene Veranstaltung \nPen and Paper
URL:https://katago-ev.de/event/eclipse-phase-2/2028-01-05
LOCATION:Vereinsheim 1 – Keller (Hegelstraße 1a)\, Hegelstraße 1a\, Bamberg\, Bayern\, 96052\, Germany
CATEGORIES:Dungeons & Dragons,Rollenspiel
ATTACH;FMTTYPE=image/jpeg:https://katago-ev.de/wp-content/uploads/2023/06/141-1413446_dungeons-dragons-dungeons-dragons-logo.jpg
END:VEVENT
BEGIN:VEVENT
DTSTART;TZID=Europe/Berlin:20280109T140000
DTEND;TZID=Europe/Berlin:20280109T190000
DTSTAMP:20260423T100241
CREATED:20250425T075636Z
LAST-MODIFIED:20250425T133711Z
UID:10009102-1831039200-1831057200@katago-ev.de
SUMMARY:Custom40k - A Warhammer 40.000 Homebrew
DESCRIPTION:Einsteiger gern gesehen! \nEs wird Warhammer 40k mit einem eigenen\, von unserer Community entwickelten Regelwerk samt Codizes gespielt. \nFür Details schau bei uns im Discord vorbei\, dort finden alle relevanten Diskussionen dazu statt oder besuch uns direkt.
URL:https://katago-ev.de/event/custom40k-a-warhammer-40-000-homebrew-2/2028-01-09
LOCATION:Vereinsheim 1 – Keller (Hegelstraße 1a)\, Hegelstraße 1a\, Bamberg\, Bayern\, 96052\, Germany
CATEGORIES:Tabletop,Warhammer 40k
ATTACH;FMTTYPE=image/jpeg:https://katago-ev.de/wp-content/uploads/2025/04/40k_3rdEditionLogo.jpg
END:VEVENT
BEGIN:VEVENT
DTSTART;TZID=Europe/Berlin:20280116T140000
DTEND;TZID=Europe/Berlin:20280116T190000
DTSTAMP:20260423T100241
CREATED:20250425T075636Z
LAST-MODIFIED:20250425T133711Z
UID:10009103-1831644000-1831662000@katago-ev.de
SUMMARY:Custom40k - A Warhammer 40.000 Homebrew
DESCRIPTION:Einsteiger gern gesehen! \nEs wird Warhammer 40k mit einem eigenen\, von unserer Community entwickelten Regelwerk samt Codizes gespielt. \nFür Details schau bei uns im Discord vorbei\, dort finden alle relevanten Diskussionen dazu statt oder besuch uns direkt.
URL:https://katago-ev.de/event/custom40k-a-warhammer-40-000-homebrew-2/2028-01-16
LOCATION:Vereinsheim 1 – Keller (Hegelstraße 1a)\, Hegelstraße 1a\, Bamberg\, Bayern\, 96052\, Germany
CATEGORIES:Tabletop,Warhammer 40k
ATTACH;FMTTYPE=image/jpeg:https://katago-ev.de/wp-content/uploads/2025/04/40k_3rdEditionLogo.jpg
END:VEVENT
BEGIN:VEVENT
DTSTART;TZID=Europe/Berlin:20280119T180000
DTEND;TZID=Europe/Berlin:20280119T220000
DTSTAMP:20260423T100241
CREATED:20260302T074039Z
LAST-MODIFIED:20260302T074040Z
UID:10009351-1831917600-1831932000@katago-ev.de
SUMMARY:Dungeons and Dragons 3.5 - "HAMMERFAST" Kampagne
DESCRIPTION:Geschlossene Veranstaltung \nPen and Paper
URL:https://katago-ev.de/event/eclipse-phase-2/2028-01-19
LOCATION:Vereinsheim 1 – Keller (Hegelstraße 1a)\, Hegelstraße 1a\, Bamberg\, Bayern\, 96052\, Germany
CATEGORIES:Dungeons & Dragons,Rollenspiel
ATTACH;FMTTYPE=image/jpeg:https://katago-ev.de/wp-content/uploads/2023/06/141-1413446_dungeons-dragons-dungeons-dragons-logo.jpg
END:VEVENT
BEGIN:VEVENT
DTSTART;TZID=Europe/Berlin:20280123T140000
DTEND;TZID=Europe/Berlin:20280123T190000
DTSTAMP:20260423T100241
CREATED:20250425T075636Z
LAST-MODIFIED:20250425T133711Z
UID:10009104-1832248800-1832266800@katago-ev.de
SUMMARY:Custom40k - A Warhammer 40.000 Homebrew
DESCRIPTION:Einsteiger gern gesehen! \nEs wird Warhammer 40k mit einem eigenen\, von unserer Community entwickelten Regelwerk samt Codizes gespielt. \nFür Details schau bei uns im Discord vorbei\, dort finden alle relevanten Diskussionen dazu statt oder besuch uns direkt.
URL:https://katago-ev.de/event/custom40k-a-warhammer-40-000-homebrew-2/2028-01-23
LOCATION:Vereinsheim 1 – Keller (Hegelstraße 1a)\, Hegelstraße 1a\, Bamberg\, Bayern\, 96052\, Germany
CATEGORIES:Tabletop,Warhammer 40k
ATTACH;FMTTYPE=image/jpeg:https://katago-ev.de/wp-content/uploads/2025/04/40k_3rdEditionLogo.jpg
END:VEVENT
BEGIN:VEVENT
DTSTART;TZID=Europe/Berlin:20280130T140000
DTEND;TZID=Europe/Berlin:20280130T190000
DTSTAMP:20260423T100241
CREATED:20250425T075636Z
LAST-MODIFIED:20250425T133711Z
UID:10009105-1832853600-1832871600@katago-ev.de
SUMMARY:Custom40k - A Warhammer 40.000 Homebrew
DESCRIPTION:Einsteiger gern gesehen! \nEs wird Warhammer 40k mit einem eigenen\, von unserer Community entwickelten Regelwerk samt Codizes gespielt. \nFür Details schau bei uns im Discord vorbei\, dort finden alle relevanten Diskussionen dazu statt oder besuch uns direkt.
URL:https://katago-ev.de/event/custom40k-a-warhammer-40-000-homebrew-2/2028-01-30
LOCATION:Vereinsheim 1 – Keller (Hegelstraße 1a)\, Hegelstraße 1a\, Bamberg\, Bayern\, 96052\, Germany
CATEGORIES:Tabletop,Warhammer 40k
ATTACH;FMTTYPE=image/jpeg:https://katago-ev.de/wp-content/uploads/2025/04/40k_3rdEditionLogo.jpg
END:VEVENT
BEGIN:VEVENT
DTSTART;TZID=Europe/Berlin:20280202T180000
DTEND;TZID=Europe/Berlin:20280202T220000
DTSTAMP:20260423T100241
CREATED:20260302T074039Z
LAST-MODIFIED:20260302T074040Z
UID:10009352-1833127200-1833141600@katago-ev.de
SUMMARY:Dungeons and Dragons 3.5 - "HAMMERFAST" Kampagne
DESCRIPTION:Geschlossene Veranstaltung \nPen and Paper
URL:https://katago-ev.de/event/eclipse-phase-2/2028-02-02
LOCATION:Vereinsheim 1 – Keller (Hegelstraße 1a)\, Hegelstraße 1a\, Bamberg\, Bayern\, 96052\, Germany
CATEGORIES:Dungeons & Dragons,Rollenspiel
ATTACH;FMTTYPE=image/jpeg:https://katago-ev.de/wp-content/uploads/2023/06/141-1413446_dungeons-dragons-dungeons-dragons-logo.jpg
END:VEVENT
BEGIN:VEVENT
DTSTART;TZID=Europe/Berlin:20280206T140000
DTEND;TZID=Europe/Berlin:20280206T190000
DTSTAMP:20260423T100241
CREATED:20250425T075636Z
LAST-MODIFIED:20250425T133711Z
UID:10009106-1833458400-1833476400@katago-ev.de
SUMMARY:Custom40k - A Warhammer 40.000 Homebrew
DESCRIPTION:Einsteiger gern gesehen! \nEs wird Warhammer 40k mit einem eigenen\, von unserer Community entwickelten Regelwerk samt Codizes gespielt. \nFür Details schau bei uns im Discord vorbei\, dort finden alle relevanten Diskussionen dazu statt oder besuch uns direkt.
URL:https://katago-ev.de/event/custom40k-a-warhammer-40-000-homebrew-2/2028-02-06
LOCATION:Vereinsheim 1 – Keller (Hegelstraße 1a)\, Hegelstraße 1a\, Bamberg\, Bayern\, 96052\, Germany
CATEGORIES:Tabletop,Warhammer 40k
ATTACH;FMTTYPE=image/jpeg:https://katago-ev.de/wp-content/uploads/2025/04/40k_3rdEditionLogo.jpg
END:VEVENT
BEGIN:VEVENT
DTSTART;TZID=Europe/Berlin:20280213T140000
DTEND;TZID=Europe/Berlin:20280213T190000
DTSTAMP:20260423T100241
CREATED:20250425T075636Z
LAST-MODIFIED:20250425T133711Z
UID:10009107-1834063200-1834081200@katago-ev.de
SUMMARY:Custom40k - A Warhammer 40.000 Homebrew
DESCRIPTION:Einsteiger gern gesehen! \nEs wird Warhammer 40k mit einem eigenen\, von unserer Community entwickelten Regelwerk samt Codizes gespielt. \nFür Details schau bei uns im Discord vorbei\, dort finden alle relevanten Diskussionen dazu statt oder besuch uns direkt.
URL:https://katago-ev.de/event/custom40k-a-warhammer-40-000-homebrew-2/2028-02-13
LOCATION:Vereinsheim 1 – Keller (Hegelstraße 1a)\, Hegelstraße 1a\, Bamberg\, Bayern\, 96052\, Germany
CATEGORIES:Tabletop,Warhammer 40k
ATTACH;FMTTYPE=image/jpeg:https://katago-ev.de/wp-content/uploads/2025/04/40k_3rdEditionLogo.jpg
END:VEVENT
BEGIN:VEVENT
DTSTART;TZID=Europe/Berlin:20280216T180000
DTEND;TZID=Europe/Berlin:20280216T220000
DTSTAMP:20260423T100241
CREATED:20260302T074039Z
LAST-MODIFIED:20260302T074040Z
UID:10009353-1834336800-1834351200@katago-ev.de
SUMMARY:Dungeons and Dragons 3.5 - "HAMMERFAST" Kampagne
DESCRIPTION:Geschlossene Veranstaltung \nPen and Paper
URL:https://katago-ev.de/event/eclipse-phase-2/2028-02-16
LOCATION:Vereinsheim 1 – Keller (Hegelstraße 1a)\, Hegelstraße 1a\, Bamberg\, Bayern\, 96052\, Germany
CATEGORIES:Dungeons & Dragons,Rollenspiel
ATTACH;FMTTYPE=image/jpeg:https://katago-ev.de/wp-content/uploads/2023/06/141-1413446_dungeons-dragons-dungeons-dragons-logo.jpg
END:VEVENT
END:VCALENDAR