BEGIN:VCALENDAR
VERSION:2.0
PRODID:-//katago-ev.de - ECPv6.15.0.1//NONSGML v1.0//EN
CALSCALE:GREGORIAN
METHOD:PUBLISH
X-WR-CALNAME:katago-ev.de
X-ORIGINAL-URL:https://katago-ev.de
X-WR-CALDESC:Veranstaltungen für katago-ev.de
REFRESH-INTERVAL;VALUE=DURATION:PT1H
X-Robots-Tag:noindex
X-PUBLISHED-TTL:PT1H
BEGIN:VTIMEZONE
TZID:Europe/Berlin
BEGIN:DAYLIGHT
TZOFFSETFROM:+0100
TZOFFSETTO:+0200
TZNAME:CEST
DTSTART:20220327T010000
END:DAYLIGHT
BEGIN:STANDARD
TZOFFSETFROM:+0200
TZOFFSETTO:+0100
TZNAME:CET
DTSTART:20221030T010000
END:STANDARD
BEGIN:DAYLIGHT
TZOFFSETFROM:+0100
TZOFFSETTO:+0200
TZNAME:CEST
DTSTART:20230326T010000
END:DAYLIGHT
BEGIN:STANDARD
TZOFFSETFROM:+0200
TZOFFSETTO:+0100
TZNAME:CET
DTSTART:20231029T010000
END:STANDARD
END:VTIMEZONE
BEGIN:VEVENT
DTSTART;TZID=Europe/Berlin:20230312T140000
DTEND;TZID=Europe/Berlin:20230312T180000
DTSTAMP:20260423T134328
CREATED:20230312T092456Z
LAST-MODIFIED:20230312T092456Z
UID:10003660-1678629600-1678644000@katago-ev.de
SUMMARY:Age of Sigmar - Schlacht
DESCRIPTION:Geschlossenes Event \nMarv \nVS \nThomas
URL:https://katago-ev.de/event/age-of-sigmar-schlacht-15
LOCATION:Vereinsheim 1 – Keller (Hegelstraße 1a)\, Hegelstraße 1a\, Bamberg\, Bayern\, 96052\, Germany
CATEGORIES:Age of Sigmar,Fantasy,Tabletop
ATTACH;FMTTYPE=image/jpeg:https://katago-ev.de/wp-content/uploads/2022/07/20220718_210251.jpg
END:VEVENT
BEGIN:VEVENT
DTSTART;TZID=Europe/Berlin:20230312T140000
DTEND;TZID=Europe/Berlin:20230312T180000
DTSTAMP:20260423T134328
CREATED:20230111T193007Z
LAST-MODIFIED:20230315T224500Z
UID:10003529-1678629600-1678644000@katago-ev.de
SUMMARY:Custom 40K (Warhammer 40k)
DESCRIPTION:Geschlossene Veranstaltung\, nur für Mitglieder! \nSolltet ihr noch kein Mitglied sein\, aber Interesse an unseren Events oder einer Mitgliedschaft haben\, könnt ihr gerne einen ausgefüllten Mitgliedsantrag zum entsprechenden Event mitbringen und ab da einen kostenlosen Probemonat bei uns starten. Mitgliedsanträge gibt es hier. \nEinsteiger gern gesehen! \nEs wird Warhammer 40k mit einem eigenen\, von unserer Community entwickelten\, Regelwerk samt Kodizes gespielt. \nFür Details schau bei uns im Discord vorbei\, dort finden alle relevanten Diskussionen dazu statt oder besuch uns direkt.
URL:https://katago-ev.de/event/custom-40k-warhammer-40k-2/2023-03-12
LOCATION:Vereinsheim 1 – Keller (Hegelstraße 1a)\, Hegelstraße 1a\, Bamberg\, Bayern\, 96052\, Germany
CATEGORIES:Tabletop,Warhammer 40k
ATTACH;FMTTYPE=image/jpeg:https://katago-ev.de/wp-content/uploads/2022/10/Warhammer-40K-Logo2-scaled.jpg
END:VEVENT
BEGIN:VEVENT
DTSTART;TZID=Europe/Berlin:20230310T183000
DTEND;TZID=Europe/Berlin:20230310T223000
DTSTAMP:20260423T134328
CREATED:20230308T181255Z
LAST-MODIFIED:20230308T181255Z
UID:10003649-1678473000-1678487400@katago-ev.de
SUMMARY:Yu-Gi-Oh! - Inhouse
DESCRIPTION:Geschlossenes Event \nDuellanten duellieren sich im Duell
URL:https://katago-ev.de/event/yu-gi-oh-inhouse-8
LOCATION:Vereinsheim 1 – Keller (Hegelstraße 1a)\, Hegelstraße 1a\, Bamberg\, Bayern\, 96052\, Germany
CATEGORIES:Yu-Gi-Oh!
END:VEVENT
BEGIN:VEVENT
DTSTART;TZID=Europe/Berlin:20230305T140000
DTEND;TZID=Europe/Berlin:20230305T200000
DTSTAMP:20260423T134328
CREATED:20221225T131139Z
LAST-MODIFIED:20221225T131142Z
UID:10002784-1678024800-1678046400@katago-ev.de
SUMMARY:D&D Kampagne EBERRON: Die Schöpfungs Schmiede
DESCRIPTION:Eine Gruppe von Abenteurern versucht die Teile eines alten Relikts zu finden und was es damit auf sich hat. \nDies ist ein geschlossenes Event da alle Plätze in der Gruppe schon belegt sind.
URL:https://katago-ev.de/event/dd-kampagne-eberron-die-schoepfungs-schmiede-5/2023-03-05
LOCATION:Vereinsheim 1 – Keller (Hegelstraße 1a)\, Hegelstraße 1a\, Bamberg\, Bayern\, 96052\, Germany
CATEGORIES:Dungeons & Dragons,Fantasy,Rollenspiel
ATTACH;FMTTYPE=image/jpeg:https://katago-ev.de/wp-content/uploads/2022/09/20220907_183447.jpg
END:VEVENT
BEGIN:VEVENT
DTSTART;TZID=Europe/Berlin:20230226T140000
DTEND;TZID=Europe/Berlin:20230226T180000
DTSTAMP:20260423T134328
CREATED:20230111T193007Z
LAST-MODIFIED:20230315T224500Z
UID:10003527-1677420000-1677434400@katago-ev.de
SUMMARY:Custom 40K (Warhammer 40k)
DESCRIPTION:Geschlossene Veranstaltung\, nur für Mitglieder! \nSolltet ihr noch kein Mitglied sein\, aber Interesse an unseren Events oder einer Mitgliedschaft haben\, könnt ihr gerne einen ausgefüllten Mitgliedsantrag zum entsprechenden Event mitbringen und ab da einen kostenlosen Probemonat bei uns starten. Mitgliedsanträge gibt es hier. \nEinsteiger gern gesehen! \nEs wird Warhammer 40k mit einem eigenen\, von unserer Community entwickelten\, Regelwerk samt Kodizes gespielt. \nFür Details schau bei uns im Discord vorbei\, dort finden alle relevanten Diskussionen dazu statt oder besuch uns direkt.
URL:https://katago-ev.de/event/custom-40k-warhammer-40k-2/2023-02-26
LOCATION:Vereinsheim 1 – Keller (Hegelstraße 1a)\, Hegelstraße 1a\, Bamberg\, Bayern\, 96052\, Germany
CATEGORIES:Tabletop,Warhammer 40k
ATTACH;FMTTYPE=image/jpeg:https://katago-ev.de/wp-content/uploads/2022/10/Warhammer-40K-Logo2-scaled.jpg
END:VEVENT
BEGIN:VEVENT
DTSTART;TZID=Europe/Berlin:20230226T103000
DTEND;TZID=Europe/Berlin:20230226T153000
DTSTAMP:20260423T134328
CREATED:20230224T161910Z
LAST-MODIFIED:20230224T161911Z
UID:10003624-1677407400-1677425400@katago-ev.de
SUMMARY:Age of Sigmar - Schlacht
DESCRIPTION:Geschlossenes Event \n1000pt Schlacht \nMarv(STORMCAST ETERNALS) \nVS \nFabian(FLESH-EATER COURTS)
URL:https://katago-ev.de/event/age-of-sigmar-schlacht-14
LOCATION:Vereinsheim 1 – Keller (Hegelstraße 1a)\, Hegelstraße 1a\, Bamberg\, Bayern\, 96052\, Germany
CATEGORIES:Age of Sigmar,Fantasy,Tabletop
ATTACH;FMTTYPE=image/jpeg:https://katago-ev.de/wp-content/uploads/2022/07/20220718_210251.jpg
END:VEVENT
BEGIN:VEVENT
DTSTART;TZID=Europe/Berlin:20230220T190000
DTEND;TZID=Europe/Berlin:20230220T223000
DTSTAMP:20260423T134328
CREATED:20230219T182123Z
LAST-MODIFIED:20230219T182124Z
UID:10003616-1676919600-1676932200@katago-ev.de
SUMMARY:Yu-Gi-Oh! - Inhouse
DESCRIPTION:Dies ist ein geschlossenes Event an dem nur Mitglieder des Vereins teilnehmen dürfen. \nEventdetails: \nStart: 19:00 Uhr \nFormat: Constructed Advanced \nStartgeld: 5€ p.P
URL:https://katago-ev.de/event/yu-gi-oh-inhouse-5
LOCATION:Vereinsheim 1 – Keller (Hegelstraße 1a)\, Hegelstraße 1a\, Bamberg\, Bayern\, 96052\, Germany
CATEGORIES:Kartenspiele,Yu-Gi-Oh!
END:VEVENT
BEGIN:VEVENT
DTSTART;TZID=Europe/Berlin:20230219T140000
DTEND;TZID=Europe/Berlin:20230219T200000
DTSTAMP:20260423T134328
CREATED:20221225T131139Z
LAST-MODIFIED:20221225T131142Z
UID:10002783-1676815200-1676836800@katago-ev.de
SUMMARY:D&D Kampagne EBERRON: Die Schöpfungs Schmiede
DESCRIPTION:Eine Gruppe von Abenteurern versucht die Teile eines alten Relikts zu finden und was es damit auf sich hat. \nDies ist ein geschlossenes Event da alle Plätze in der Gruppe schon belegt sind.
URL:https://katago-ev.de/event/dd-kampagne-eberron-die-schoepfungs-schmiede-5/2023-02-19
LOCATION:Vereinsheim 1 – Keller (Hegelstraße 1a)\, Hegelstraße 1a\, Bamberg\, Bayern\, 96052\, Germany
CATEGORIES:Dungeons & Dragons,Fantasy,Rollenspiel
ATTACH;FMTTYPE=image/jpeg:https://katago-ev.de/wp-content/uploads/2022/09/20220907_183447.jpg
END:VEVENT
BEGIN:VEVENT
DTSTART;TZID=Europe/Berlin:20230219T140000
DTEND;TZID=Europe/Berlin:20230219T180000
DTSTAMP:20260423T134328
CREATED:20230111T193007Z
LAST-MODIFIED:20230315T224500Z
UID:10003526-1676815200-1676829600@katago-ev.de
SUMMARY:Custom 40K (Warhammer 40k)
DESCRIPTION:Geschlossene Veranstaltung\, nur für Mitglieder! \nSolltet ihr noch kein Mitglied sein\, aber Interesse an unseren Events oder einer Mitgliedschaft haben\, könnt ihr gerne einen ausgefüllten Mitgliedsantrag zum entsprechenden Event mitbringen und ab da einen kostenlosen Probemonat bei uns starten. Mitgliedsanträge gibt es hier. \nEinsteiger gern gesehen! \nEs wird Warhammer 40k mit einem eigenen\, von unserer Community entwickelten\, Regelwerk samt Kodizes gespielt. \nFür Details schau bei uns im Discord vorbei\, dort finden alle relevanten Diskussionen dazu statt oder besuch uns direkt.
URL:https://katago-ev.de/event/custom-40k-warhammer-40k-2/2023-02-19
LOCATION:Vereinsheim 1 – Keller (Hegelstraße 1a)\, Hegelstraße 1a\, Bamberg\, Bayern\, 96052\, Germany
CATEGORIES:Tabletop,Warhammer 40k
ATTACH;FMTTYPE=image/jpeg:https://katago-ev.de/wp-content/uploads/2022/10/Warhammer-40K-Logo2-scaled.jpg
END:VEVENT
BEGIN:VEVENT
DTSTART;TZID=Europe/Berlin:20230213T190000
DTEND;TZID=Europe/Berlin:20230213T230000
DTSTAMP:20260423T134328
CREATED:20230212T161253Z
LAST-MODIFIED:20230212T161253Z
UID:10003612-1676314800-1676329200@katago-ev.de
SUMMARY:Age of Sigmar - Schlacht
DESCRIPTION:Geschlossenes Event \nFYRESLAYERS \nVS \nSERAPHON
URL:https://katago-ev.de/event/age-of-sigmar-schlacht-13
LOCATION:Vereinsheim 1 – Keller (Hegelstraße 1a)\, Hegelstraße 1a\, Bamberg\, Bayern\, 96052\, Germany
CATEGORIES:Age of Sigmar,Fantasy,Tabletop
ATTACH;FMTTYPE=image/jpeg:https://katago-ev.de/wp-content/uploads/2022/07/20220718_210251.jpg
END:VEVENT
BEGIN:VEVENT
DTSTART;TZID=Europe/Berlin:20230213T190000
DTEND;TZID=Europe/Berlin:20230213T223000
DTSTAMP:20260423T134328
CREATED:20230207T175754Z
LAST-MODIFIED:20230207T175754Z
UID:10003610-1676314800-1676327400@katago-ev.de
SUMMARY:Yu-Gi-Oh! - Inhouse
DESCRIPTION:Dies ist ein geschlossenes Event an dem nur Mitglieder des Vereins teilnehmen dürfen. \nEventdetails: \nAnmeldung: 19:00 – 19:30 Uhr \nFormat: Constructed Advanced \nStartgeld: 5€ p.P \nPreise: OTS 20 Booster Packs
URL:https://katago-ev.de/event/yu-gi-oh-inhouse-4
LOCATION:Vereinsheim 1 – Keller (Hegelstraße 1a)\, Hegelstraße 1a\, Bamberg\, Bayern\, 96052\, Germany
CATEGORIES:Kartenspiele,Yu-Gi-Oh!
END:VEVENT
BEGIN:VEVENT
DTSTART;TZID=Europe/Berlin:20230212T140000
DTEND;TZID=Europe/Berlin:20230212T180000
DTSTAMP:20260423T134328
CREATED:20230111T193007Z
LAST-MODIFIED:20230315T224500Z
UID:10003525-1676210400-1676224800@katago-ev.de
SUMMARY:Custom 40K (Warhammer 40k)
DESCRIPTION:Geschlossene Veranstaltung\, nur für Mitglieder! \nSolltet ihr noch kein Mitglied sein\, aber Interesse an unseren Events oder einer Mitgliedschaft haben\, könnt ihr gerne einen ausgefüllten Mitgliedsantrag zum entsprechenden Event mitbringen und ab da einen kostenlosen Probemonat bei uns starten. Mitgliedsanträge gibt es hier. \nEinsteiger gern gesehen! \nEs wird Warhammer 40k mit einem eigenen\, von unserer Community entwickelten\, Regelwerk samt Kodizes gespielt. \nFür Details schau bei uns im Discord vorbei\, dort finden alle relevanten Diskussionen dazu statt oder besuch uns direkt.
URL:https://katago-ev.de/event/custom-40k-warhammer-40k-2/2023-02-12
LOCATION:Vereinsheim 1 – Keller (Hegelstraße 1a)\, Hegelstraße 1a\, Bamberg\, Bayern\, 96052\, Germany
CATEGORIES:Tabletop,Warhammer 40k
ATTACH;FMTTYPE=image/jpeg:https://katago-ev.de/wp-content/uploads/2022/10/Warhammer-40K-Logo2-scaled.jpg
END:VEVENT
BEGIN:VEVENT
DTSTART;TZID=Europe/Berlin:20230206T190000
DTEND;TZID=Europe/Berlin:20230206T230000
DTSTAMP:20260423T134328
CREATED:20230131T223935Z
LAST-MODIFIED:20230131T223935Z
UID:10003595-1675710000-1675724400@katago-ev.de
SUMMARY:Yu-Gi-Oh! - Inhouse
DESCRIPTION:Dies ist ein geschlossenes Event an dem nur Mitglieder des Vereins teilnehmen dürfen. \nEventdetails: \nAnmeldung: 19:00 – 19:30 Uhr \nFormat: Constructed Advanced \nStartgeld: 5€ p.P \nPreise: OTS 20 Booster Packs
URL:https://katago-ev.de/event/yu-gi-oh-inhouse-3
LOCATION:Vereinsheim 1 – Keller (Hegelstraße 1a)\, Hegelstraße 1a\, Bamberg\, Bayern\, 96052\, Germany
CATEGORIES:Kartenspiele,Yu-Gi-Oh!
END:VEVENT
BEGIN:VEVENT
DTSTART;TZID=Europe/Berlin:20230206T183000
DTEND;TZID=Europe/Berlin:20230206T220000
DTSTAMP:20260423T134328
CREATED:20230205T114247Z
LAST-MODIFIED:20230205T114247Z
UID:10003604-1675708200-1675720800@katago-ev.de
SUMMARY:Age of Sigmar - Schlacht
DESCRIPTION:Geschlossenes Event \nORKS \nVS \nFYRESLAYERS
URL:https://katago-ev.de/event/age-of-sigmar-schlacht-10
LOCATION:Vereinsheim 1 – Keller (Hegelstraße 1a)\, Hegelstraße 1a\, Bamberg\, Bayern\, 96052\, Germany
ATTACH;FMTTYPE=image/jpeg:https://katago-ev.de/wp-content/uploads/2022/07/20220718_210251.jpg
END:VEVENT
BEGIN:VEVENT
DTSTART;TZID=Europe/Berlin:20230206T183000
DTEND;TZID=Europe/Berlin:20230206T220000
DTSTAMP:20260423T134328
CREATED:20230205T104821Z
LAST-MODIFIED:20230205T104821Z
UID:10003603-1675708200-1675720800@katago-ev.de
SUMMARY:Magic
DESCRIPTION:Geschlossenes Event
URL:https://katago-ev.de/event/magic
LOCATION:Vereinsheim 1 – Keller (Hegelstraße 1a)\, Hegelstraße 1a\, Bamberg\, Bayern\, 96052\, Germany
END:VEVENT
BEGIN:VEVENT
DTSTART;TZID=Europe/Berlin:20230205T140000
DTEND;TZID=Europe/Berlin:20230205T200000
DTSTAMP:20260423T134328
CREATED:20221225T131139Z
LAST-MODIFIED:20221225T131142Z
UID:10002782-1675605600-1675627200@katago-ev.de
SUMMARY:D&D Kampagne EBERRON: Die Schöpfungs Schmiede
DESCRIPTION:Eine Gruppe von Abenteurern versucht die Teile eines alten Relikts zu finden und was es damit auf sich hat. \nDies ist ein geschlossenes Event da alle Plätze in der Gruppe schon belegt sind.
URL:https://katago-ev.de/event/dd-kampagne-eberron-die-schoepfungs-schmiede-5/2023-02-05
LOCATION:Vereinsheim 1 – Keller (Hegelstraße 1a)\, Hegelstraße 1a\, Bamberg\, Bayern\, 96052\, Germany
CATEGORIES:Dungeons & Dragons,Fantasy,Rollenspiel
ATTACH;FMTTYPE=image/jpeg:https://katago-ev.de/wp-content/uploads/2022/09/20220907_183447.jpg
END:VEVENT
BEGIN:VEVENT
DTSTART;TZID=Europe/Berlin:20230204T153000
DTEND;TZID=Europe/Berlin:20230204T230000
DTSTAMP:20260423T134328
CREATED:20230131T143119Z
LAST-MODIFIED:20230131T143119Z
UID:10003594-1675524600-1675551600@katago-ev.de
SUMMARY:Warhammer 40k 9te Edition
DESCRIPTION:Wir spielen an diesem Nachmittag Warhammer 40K im Keller.
URL:https://katago-ev.de/event/warhammer-40k-9te-edition
LOCATION:Vereinsheim 1 – Keller (Hegelstraße 1a)\, Hegelstraße 1a\, Bamberg\, Bayern\, 96052\, Germany
CATEGORIES:Tabletop,Warhammer 40k
ATTACH;FMTTYPE=image/jpeg:https://katago-ev.de/wp-content/uploads/2022/10/Warhammer-40K-Logo2-scaled.jpg
END:VEVENT
BEGIN:VEVENT
DTSTART;TZID=Europe/Berlin:20230204T110000
DTEND;TZID=Europe/Berlin:20230204T153000
DTSTAMP:20260423T134328
CREATED:20230128T153140Z
LAST-MODIFIED:20230128T153140Z
UID:10003593-1675508400-1675524600@katago-ev.de
SUMMARY:Das Schwarze Auge - Einführung
DESCRIPTION:Geschlossenes Event \nLucca bringt ein paar neuen Abenteurern die Welt von Aventurien mit all ihrer Flora\, Fauna\, Zauber und Götter näher.
URL:https://katago-ev.de/event/das-schwarze-auge-einfuehrung
LOCATION:Vereinsheim 1 – Keller (Hegelstraße 1a)\, Hegelstraße 1a\, Bamberg\, Bayern\, 96052\, Germany
CATEGORIES:Das Schwarze Auge,Fantasy,Rollenspiel
ATTACH;FMTTYPE=image/jpeg:https://katago-ev.de/wp-content/uploads/2023/01/20230128_162035.jpg
END:VEVENT
BEGIN:VEVENT
DTSTART;TZID=Europe/Berlin:20230131T190000
DTEND;TZID=Europe/Berlin:20230131T190000
DTSTAMP:20260423T134328
CREATED:20230125T174020Z
LAST-MODIFIED:20230125T174020Z
UID:10003592-1675191600-1675191600@katago-ev.de
SUMMARY:Yu-Gi-Oh! - Inhouse
DESCRIPTION:Dies ist ein geschlossenes Event an dem nur Mitglieder des Vereins teilnehmen dürfen. \nEventdetails: \nAnmeldung: 19:00 – 19:30 Uhr \nFormat: Constructed Advanced \nStartgeld: 5€ p.P \nPreise: OTS 20 Booster Packs
URL:https://katago-ev.de/event/yu-gi-oh-inhouse-2
LOCATION:Vereinsheim 1 – Keller (Hegelstraße 1a)\, Hegelstraße 1a\, Bamberg\, Bayern\, 96052\, Germany
CATEGORIES:Kartenspiele,Yu-Gi-Oh!
END:VEVENT
BEGIN:VEVENT
DTSTART;TZID=Europe/Berlin:20230124T190000
DTEND;TZID=Europe/Berlin:20230124T230000
DTSTAMP:20260423T134328
CREATED:20230120T150911Z
LAST-MODIFIED:20230120T150911Z
UID:10003587-1674586800-1674601200@katago-ev.de
SUMMARY:Yu-Gi-Oh! - Inhouse
DESCRIPTION:Dies ist ein geschlossenes Event an dem nur Mitglieder des Vereins teilnehmen dürfen. \nEventdetails: \nAnmeldung: 19:00 – 19:30 Uhr \nFormat: Constructed Advanced \nStartgeld: 5€ p.P \nPreise: OTS 20 Booster Packs
URL:https://katago-ev.de/event/yu-gi-oh-inhouse
LOCATION:Vereinsheim 1 – Keller (Hegelstraße 1a)\, Hegelstraße 1a\, Bamberg\, Bayern\, 96052\, Germany
CATEGORIES:Kartenspiele,Yu-Gi-Oh!
END:VEVENT
BEGIN:VEVENT
DTSTART;TZID=Europe/Berlin:20230122T140000
DTEND;TZID=Europe/Berlin:20230122T200000
DTSTAMP:20260423T134328
CREATED:20221225T131139Z
LAST-MODIFIED:20221225T131142Z
UID:10002781-1674396000-1674417600@katago-ev.de
SUMMARY:D&D Kampagne EBERRON: Die Schöpfungs Schmiede
DESCRIPTION:Eine Gruppe von Abenteurern versucht die Teile eines alten Relikts zu finden und was es damit auf sich hat. \nDies ist ein geschlossenes Event da alle Plätze in der Gruppe schon belegt sind.
URL:https://katago-ev.de/event/dd-kampagne-eberron-die-schoepfungs-schmiede-5/2023-01-22
LOCATION:Vereinsheim 1 – Keller (Hegelstraße 1a)\, Hegelstraße 1a\, Bamberg\, Bayern\, 96052\, Germany
CATEGORIES:Dungeons & Dragons,Fantasy,Rollenspiel
ATTACH;FMTTYPE=image/jpeg:https://katago-ev.de/wp-content/uploads/2022/09/20220907_183447.jpg
END:VEVENT
BEGIN:VEVENT
DTSTART;TZID=Europe/Berlin:20230119T180000
DTEND;TZID=Europe/Berlin:20230119T223000
DTSTAMP:20260423T134328
CREATED:20230118T162900Z
LAST-MODIFIED:20230118T162900Z
UID:10003584-1674151200-1674167400@katago-ev.de
SUMMARY:Age of Sigmar - Schlacht
DESCRIPTION:Geschlossenes Event \nMarv(SYLVANETH) \nVS \nTim(FYRESLAYERS)
URL:https://katago-ev.de/event/age-of-sigmar-schlacht-9
LOCATION:Vereinsheim 1 – Keller (Hegelstraße 1a)\, Hegelstraße 1a\, Bamberg\, Bayern\, 96052\, Germany
CATEGORIES:Age of Sigmar,Fantasy,Tabletop
ATTACH;FMTTYPE=image/jpeg:https://katago-ev.de/wp-content/uploads/2022/07/20220718_210251.jpg
END:VEVENT
BEGIN:VEVENT
DTSTART;TZID=Europe/Berlin:20230111T180000
DTEND;TZID=Europe/Berlin:20230111T230000
DTSTAMP:20260423T134328
CREATED:20230105T201718Z
LAST-MODIFIED:20230105T201718Z
UID:10003181-1673460000-1673478000@katago-ev.de
SUMMARY:Age of Sigmar - Schlacht
DESCRIPTION:Geschlossenes Event
URL:https://katago-ev.de/event/age-of-sigmar-schlacht-8
LOCATION:Vereinsheim 1 – Keller (Hegelstraße 1a)\, Hegelstraße 1a\, Bamberg\, Bayern\, 96052\, Germany
CATEGORIES:Age of Sigmar,Fantasy,Tabletop
ATTACH;FMTTYPE=image/jpeg:https://katago-ev.de/wp-content/uploads/2022/07/20220718_210251.jpg
END:VEVENT
BEGIN:VEVENT
DTSTART;TZID=Europe/Berlin:20230107T150000
DTEND;TZID=Europe/Berlin:20230107T200000
DTSTAMP:20260423T134328
CREATED:20230102T200115Z
LAST-MODIFIED:20230102T200115Z
UID:10003179-1673103600-1673121600@katago-ev.de
SUMMARY:Age of Sigmar - Schlacht
DESCRIPTION:Geschlossenes Event
URL:https://katago-ev.de/event/age-of-sigmar-schlacht-7
LOCATION:Vereinsheim 1 – Keller (Hegelstraße 1a)\, Hegelstraße 1a\, Bamberg\, Bayern\, 96052\, Germany
CATEGORIES:Age of Sigmar,Tabletop
ATTACH;FMTTYPE=image/jpeg:https://katago-ev.de/wp-content/uploads/2022/07/20220718_210251.jpg
END:VEVENT
BEGIN:VEVENT
DTSTART;TZID=Europe/Berlin:20230105T183000
DTEND;TZID=Europe/Berlin:20230105T233000
DTSTAMP:20260423T134328
CREATED:20230102T112344Z
LAST-MODIFIED:20230102T112345Z
UID:10003176-1672943400-1672961400@katago-ev.de
SUMMARY:MTG Modern Thursday Night Magic
DESCRIPTION:Willkommen zu unserem wöchentlichen Modern FNM im KaTaGO e.V. \nDies ist ein kein öffentliches Event zum dem auch Spieler kommen können die keine Mitglieder des Vereins sind. Falls ihr trotzdem kommen wollt gibt es die Möglichkeit vor Ort einen Mitgliedsantrag auszufüllen und einen kostenlosen Probemonat zu nutzen. \nDa wir dieses Mal im Kellerraum spielen müssen ist die Teilnehmerzahl auf 16 begrenzt. Einen Platz könnt ihr euch über die Anmeldung sichern! \nSolltet ihr noch kein Mitglied sein\, aber Interesse an unseren Events oder einer Mitgliedschaft haben\, könnt ihr gerne einen ausgefüllten Mitgliedsantrag zum entsprechenden Event mitbringen und ab da einen kostenlosen Probemonat bei uns starten. Mitgliedsanträge gibt es hier. \nEventdetails: \nAnmeldung: 18:45 – 19:00 Uhr          (Solltet ihr euch verspäten gebt uns rechtzeitig Bescheid\, wir können auch mal warten) \nFormat: Modern Constructed             (Keine Deckliste notwendig) \nStartgeld: 5€ p. P. \nPreise: Cardmarket-Gutscheine. Ausschüttung nach Final Standings im Nachgang per WA \nWir freuen uns auf euch! \nAußerdem bitten wir um euer Verständnis\, dass sich die Umstände aufgrund der aktuellen Situation jederzeit ändern können und wir ggf. vom oben beschriebenen Ablauf abweichen müssen!
URL:https://katago-ev.de/event/mtg-modern-thursday-night-magic
LOCATION:Vereinsheim 1 – Keller (Hegelstraße 1a)\, Hegelstraße 1a\, Bamberg\, Bayern\, 96052\, Germany
CATEGORIES:Magic the Gathering
ATTACH;FMTTYPE=image/png:https://katago-ev.de/wp-content/uploads/2022/07/fnm_logo_front_schwarz-e1702314703609.png
END:VEVENT
BEGIN:VEVENT
DTSTART;TZID=Europe/Berlin:20221230T170000
DTEND;TZID=Europe/Berlin:20221230T230000
DTSTAMP:20260423T134328
CREATED:20221223T191349Z
LAST-MODIFIED:20221224T122805Z
UID:10003163-1672419600-1672441200@katago-ev.de
SUMMARY:Warhammer Age of Sigmar - Jahresabschlussschlacht
DESCRIPTION:Zum Jahresende liefern sich die Feldherren unseres Vereins nochmal eine ordentliche Schlacht. \n3-VS-3 \n1000 Punkte pro Spieler
URL:https://katago-ev.de/event/warhammer-age-of-sigmar-jahresabschlussschlacht
LOCATION:Vereinsheim 1 – Keller (Hegelstraße 1a)\, Hegelstraße 1a\, Bamberg\, Bayern\, 96052\, Germany
CATEGORIES:Age of Sigmar,Fantasy,Tabletop
ATTACH;FMTTYPE=image/jpeg:https://katago-ev.de/wp-content/uploads/2022/07/20220718_210251.jpg
END:VEVENT
BEGIN:VEVENT
DTSTART;TZID=Europe/Berlin:20221205T170000
DTEND;TZID=Europe/Berlin:20221205T200000
DTSTAMP:20260423T134328
CREATED:20221013T161814Z
LAST-MODIFIED:20221013T161814Z
UID:10003006-1670259600-1670270400@katago-ev.de
SUMMARY:Arkham Horror LCG
DESCRIPTION:Dies ist ein geschlossenes Event. \nFür weitere Mitglieder ist der Verein geöffnet.
URL:https://katago-ev.de/event/arkham-horror-lcg-5-2/2022-12-05
LOCATION:Vereinsheim 1 – Keller (Hegelstraße 1a)\, Hegelstraße 1a\, Bamberg\, Bayern\, 96052\, Germany
CATEGORIES:Arkham Horror LCG,Kartenspiele
ATTACH;FMTTYPE=image/png:https://katago-ev.de/wp-content/uploads/2022/09/ahb01_logo.png
END:VEVENT
BEGIN:VEVENT
DTSTART;TZID=Europe/Berlin:20221128T170000
DTEND;TZID=Europe/Berlin:20221128T200000
DTSTAMP:20260423T134328
CREATED:20221013T161814Z
LAST-MODIFIED:20221013T161814Z
UID:10003005-1669654800-1669665600@katago-ev.de
SUMMARY:Arkham Horror LCG
DESCRIPTION:Dies ist ein geschlossenes Event. \nFür weitere Mitglieder ist der Verein geöffnet.
URL:https://katago-ev.de/event/arkham-horror-lcg-5-2/2022-11-28
LOCATION:Vereinsheim 1 – Keller (Hegelstraße 1a)\, Hegelstraße 1a\, Bamberg\, Bayern\, 96052\, Germany
CATEGORIES:Arkham Horror LCG,Kartenspiele
ATTACH;FMTTYPE=image/png:https://katago-ev.de/wp-content/uploads/2022/09/ahb01_logo.png
END:VEVENT
BEGIN:VEVENT
DTSTART;TZID=Europe/Berlin:20221127T140000
DTEND;TZID=Europe/Berlin:20221127T200000
DTSTAMP:20260423T134328
CREATED:20220908T051933Z
LAST-MODIFIED:20221008T093019Z
UID:10002777-1669557600-1669579200@katago-ev.de
SUMMARY:D&D Kampagne EBERRON: Die Schöpfungs Schmiede
DESCRIPTION:Eine Gruppe von Abenteurern versucht die Teile eines alten Relikts zu finden und was es damit auf sich hat. \nDies ist ein geschlossenes Event da alle Plätze in der Gruppe schon belegt sind.
URL:https://katago-ev.de/event/dd-kampagne-eberron-die-schoepfungs-schmiede/2022-11-27
LOCATION:Vereinsheim 1 – Keller (Hegelstraße 1a)\, Hegelstraße 1a\, Bamberg\, Bayern\, 96052\, Germany
CATEGORIES:Dungeons & Dragons,Fantasy,Rollenspiel
ATTACH;FMTTYPE=image/jpeg:https://katago-ev.de/wp-content/uploads/2022/09/20220907_183447.jpg
END:VEVENT
BEGIN:VEVENT
DTSTART;TZID=Europe/Berlin:20221126T140000
DTEND;TZID=Europe/Berlin:20221126T190000
DTSTAMP:20260423T134328
CREATED:20221122T101616Z
LAST-MODIFIED:20221122T101618Z
UID:10003103-1669471200-1669489200@katago-ev.de
SUMMARY:RISK 2210 AD
DESCRIPTION:Dies ist ein geschlossenes Event nur für Mitglieder
URL:https://katago-ev.de/event/risk-2210-ad
LOCATION:Vereinsheim 1 – Keller (Hegelstraße 1a)\, Hegelstraße 1a\, Bamberg\, Bayern\, 96052\, Germany
CATEGORIES:Brettspiel,Brettspiele,Gesellschaftsspiele
ATTACH;FMTTYPE=image/jpeg:https://katago-ev.de/wp-content/uploads/2022/11/20221122_111354.jpg
END:VEVENT
END:VCALENDAR