BEGIN:VCALENDAR
VERSION:2.0
PRODID:-//katago-ev.de - ECPv6.15.0.1//NONSGML v1.0//EN
CALSCALE:GREGORIAN
METHOD:PUBLISH
X-ORIGINAL-URL:https://katago-ev.de
X-WR-CALDESC:Veranstaltungen für katago-ev.de
REFRESH-INTERVAL;VALUE=DURATION:PT1H
X-Robots-Tag:noindex
X-PUBLISHED-TTL:PT1H
BEGIN:VTIMEZONE
TZID:Europe/Berlin
BEGIN:DAYLIGHT
TZOFFSETFROM:+0100
TZOFFSETTO:+0200
TZNAME:CEST
DTSTART:20220327T010000
END:DAYLIGHT
BEGIN:STANDARD
TZOFFSETFROM:+0200
TZOFFSETTO:+0100
TZNAME:CET
DTSTART:20221030T010000
END:STANDARD
END:VTIMEZONE
BEGIN:VEVENT
DTSTART;TZID=Europe/Berlin:20221016T140000
DTEND;TZID=Europe/Berlin:20221016T200000
DTSTAMP:20260424T000126
CREATED:20220908T051933Z
LAST-MODIFIED:20221008T093019Z
UID:10002774-1665928800-1665950400@katago-ev.de
SUMMARY:D&D Kampagne EBERRON: Die Schöpfungs Schmiede
DESCRIPTION:Eine Gruppe von Abenteurern versucht die Teile eines alten Relikts zu finden und was es damit auf sich hat. \nDies ist ein geschlossenes Event da alle Plätze in der Gruppe schon belegt sind.
URL:https://katago-ev.de/event/dd-kampagne-eberron-die-schoepfungs-schmiede/2022-10-16
LOCATION:Vereinsheim 1 – Keller (Hegelstraße 1a)\, Hegelstraße 1a\, Bamberg\, Bayern\, 96052\, Germany
CATEGORIES:Dungeons & Dragons,Fantasy,Rollenspiel
ATTACH;FMTTYPE=image/jpeg:https://katago-ev.de/wp-content/uploads/2022/09/20220907_183447.jpg
END:VEVENT
BEGIN:VEVENT
DTSTART;TZID=Europe/Berlin:20221015T140000
DTEND;TZID=Europe/Berlin:20221015T180000
DTSTAMP:20260424T000126
CREATED:20220926T111917Z
LAST-MODIFIED:20220926T111923Z
UID:10002944-1665842400-1665856800@katago-ev.de
SUMMARY:Warhammer 40K - Kill Team
DESCRIPTION:Hallo Rekrut\, \nwir laden dich ein auf eine epische Mission mit schnellen Taktiken und gefährlichen Feuergefechten\, in dem jeder Fehler dein letzter sein wird. \nWir spielen Warhammer 40K Kill Team. \nDies ist keine öffentliche Veranstaltung. \nEinsteiger sind gerne willkommen.
URL:https://katago-ev.de/event/warhammer-40k-kill-team
LOCATION:Vereinsheim 1 – Keller (Hegelstraße 1a)\, Hegelstraße 1a\, Bamberg\, Bayern\, 96052\, Germany
CATEGORIES:Kill Team
ATTACH;FMTTYPE=image/jpeg:https://katago-ev.de/wp-content/uploads/2022/03/kill-team.jpg
END:VEVENT
BEGIN:VEVENT
DTSTART;TZID=Europe/Berlin:20221007T190000
DTEND;TZID=Europe/Berlin:20221007T230000
DTSTAMP:20260424T000126
CREATED:20221001T113209Z
LAST-MODIFIED:20221005T131343Z
UID:10002966-1665169200-1665183600@katago-ev.de
SUMMARY:Flesh and Blood Blitz
DESCRIPTION:Flesh and Blood intern nur für Mitglieder
URL:https://katago-ev.de/event/flesh-and-blood-7
LOCATION:Vereinsheim 1 – Keller (Hegelstraße 1a)\, Hegelstraße 1a\, Bamberg\, Bayern\, 96052\, Germany
CATEGORIES:Flesh and Blood TCG
ATTACH;FMTTYPE=image/png:https://katago-ev.de/wp-content/uploads/2021/09/logo_fab_stroke_black_750.height-350.width-10000.png
ORGANIZER;CN="Thomas Scheer":MAILTO:thomas.scheer999[AT]googlemail.com
END:VEVENT
BEGIN:VEVENT
DTSTART;TZID=Europe/Berlin:20221003T170000
DTEND;TZID=Europe/Berlin:20221003T200000
DTSTAMP:20260424T000126
CREATED:20220929T165212Z
LAST-MODIFIED:20220929T180949Z
UID:10002959-1664816400-1664827200@katago-ev.de
SUMMARY:DnD Kampagne: Der Drache vom Eiswindgipfel
DESCRIPTION:Dies ist ein geschlossenes Event
URL:https://katago-ev.de/event/dnd-kampagne-der-drache-vom-eiswindgipfel
LOCATION:Vereinsheim 1 – Keller (Hegelstraße 1a)\, Hegelstraße 1a\, Bamberg\, Bayern\, 96052\, Germany
CATEGORIES:Dungeons & Dragons,Fantasy,Rollenspiel
ATTACH;FMTTYPE=image/jpeg:https://katago-ev.de/wp-content/uploads/2022/09/20220929_125143.jpg
END:VEVENT
END:VCALENDAR