BEGIN:VCALENDAR
VERSION:2.0
PRODID:-//katago-ev.de - ECPv6.15.0.1//NONSGML v1.0//EN
CALSCALE:GREGORIAN
METHOD:PUBLISH
X-WR-CALNAME:katago-ev.de
X-ORIGINAL-URL:https://katago-ev.de
X-WR-CALDESC:Veranstaltungen für katago-ev.de
REFRESH-INTERVAL;VALUE=DURATION:PT1H
X-Robots-Tag:noindex
X-PUBLISHED-TTL:PT1H
BEGIN:VTIMEZONE
TZID:Europe/Berlin
BEGIN:DAYLIGHT
TZOFFSETFROM:+0100
TZOFFSETTO:+0200
TZNAME:CEST
DTSTART:20240331T010000
END:DAYLIGHT
BEGIN:STANDARD
TZOFFSETFROM:+0200
TZOFFSETTO:+0100
TZNAME:CET
DTSTART:20241027T010000
END:STANDARD
END:VTIMEZONE
BEGIN:VEVENT
DTSTART;TZID=Europe/Berlin:20240401T130000
DTEND;TZID=Europe/Berlin:20240401T220000
DTSTAMP:20260423T173321
CREATED:20240318T143953Z
LAST-MODIFIED:20240318T143953Z
UID:10005226-1711976400-1712008800@katago-ev.de
SUMMARY:Yu-Gi-Oh! - 1. April Deck Roulette
DESCRIPTION:Geschlossenes Event \nBringt paar funktionstüchtige Decks mit die zu jeder neuen Runde zugelost werden. Und lasst uns nen entspannten Tag zusammen verbringen 🙂
URL:https://katago-ev.de/event/yu-gi-oh-1-april-deck-roulette
LOCATION:Vereinsheim 1 (Hegelstraße 1a)\, Hegelstraße 1a\, Bamberg\, Bayern\, 96052\, Germany
CATEGORIES:Kartenspiele,Yu-Gi-Oh!
END:VEVENT
BEGIN:VEVENT
DTSTART;TZID=Europe/Berlin:20240331T140000
DTEND;TZID=Europe/Berlin:20240331T190000
DTSTAMP:20260423T173321
CREATED:20240101T210031Z
LAST-MODIFIED:20240101T210031Z
UID:10004425-1711893600-1711911600@katago-ev.de
SUMMARY:Custom 40K
DESCRIPTION:Custom 40K
URL:https://katago-ev.de/event/custom-40k-36/2024-03-31
LOCATION:Vereinsheim 1 (Hegelstraße 1a)\, Hegelstraße 1a\, Bamberg\, Bayern\, 96052\, Germany
CATEGORIES:Tabletop,Warhammer 40k
ATTACH;FMTTYPE=image/jpeg:https://katago-ev.de/wp-content/uploads/2022/10/Warhammer-40K-Logo2-scaled.jpg
END:VEVENT
BEGIN:VEVENT
DTSTART;TZID=Europe/Berlin:20240330T130000
DTEND;TZID=Europe/Berlin:20240330T190000
DTSTAMP:20260423T173321
CREATED:20240307T122528Z
LAST-MODIFIED:20240307T122528Z
UID:10005210-1711803600-1711825200@katago-ev.de
SUMMARY:Warhammer 40K Liga 10. Edition – Runde 6
DESCRIPTION:Warhammer 40K Liga 10. Edition – Runde 6
URL:https://katago-ev.de/event/warhammer-40k-liga-10-edition-runde-6
LOCATION:Vereinsheim 1 (Hegelstraße 1a)\, Hegelstraße 1a\, Bamberg\, Bayern\, 96052\, Germany
CATEGORIES:Tabletop,Warhammer 40k
ATTACH;FMTTYPE=image/webp:https://katago-ev.de/wp-content/uploads/2022/09/warhaaa.webp
ORGANIZER;CN="Thomas Scheer":MAILTO:thomas.scheer999[AT]googlemail.com
END:VEVENT
BEGIN:VEVENT
DTSTART;TZID=Europe/Berlin:20240328T183000
DTEND;TZID=Europe/Berlin:20240328T230000
DTSTAMP:20260423T173321
CREATED:20240325T123721Z
LAST-MODIFIED:20240325T123721Z
UID:10005250-1711650600-1711666800@katago-ev.de
SUMMARY:Yu-Gi-Oh! - Inhouse
DESCRIPTION:Geschlossenes Event \nDuellanten duellieren sich im Duell
URL:https://katago-ev.de/event/yu-gi-oh-inhouse-54
LOCATION:Vereinsheim 1 (Hegelstraße 1a)\, Hegelstraße 1a\, Bamberg\, Bayern\, 96052\, Germany
CATEGORIES:Kartenspiele,Yu-Gi-Oh!
END:VEVENT
BEGIN:VEVENT
DTSTART;TZID=Europe/Berlin:20240326T180000
DTEND;TZID=Europe/Berlin:20240326T220000
DTSTAMP:20260423T173321
CREATED:20240320T181937Z
LAST-MODIFIED:20240505T083929Z
UID:10005228-1711476000-1711490400@katago-ev.de
SUMMARY:Kartenabend Flesh & Blood und Lorcana
DESCRIPTION:Herzlich willkommen zum Kartenabend Flesh & Blood\, Lorcana und Star Wars unlimited im KaTaGO e.V. \nWir treffen uns alle 2 Wochen am Dienstag um einen gemütlichen Abend mit Kartenspielen zu verbringen. Der Abend wird mit kleinen Turnieren je nach Lust und Laune verbracht und bietet zudem eine gute Gelegenheit zum Tauschen von Karten sowie Gelegenheit sich über das Spiel auszutauschen. Aktuell treffen sich Flesh & Blood und Lorcana Begeisterte. Sollten sich weitere Systeme anschließen wollen sind diese herzlich eingeladen. \nDies ist ein öffentliches Event und sowohl für Mitglieder als auch für Nichtmitglieder offen. Es kann auch als erste Anlaufstelle dienen um sich den Verein anzuschauen und erste Infos zum Verein einzuholen. Eine Anmeldung ist nicht zwingend notwendig oder verbindlich\, hilft uns jedoch sehr bei der Planung. Außerdem können wir euch so informieren falls eine Veranstaltung doch mal ausfällt. \nBitte beachtet\, dass es nur Mitgliedern gestattet wird eigene Getränke mitzubringen.\nAlle Anderen bedienen sich bitte an den von uns angebotenen Getränken. (2€ pro Getränk im Kühlschrank) \nSolltet ihr noch kein Mitglied sein\, aber Interesse an unseren Events oder einer Mitgliedschaft haben\, könnt ihr gerne einen ausgefüllten Mitgliedsantrag zum entsprechenden Event mitbringen und ab da einen kostenlosen Probemonat bei uns starten. Mitgliedsanträge gibt es hier
URL:https://katago-ev.de/event/kartenabend-flesh-blood-und-lorcana/2024-03-26
LOCATION:Vereinsheim 1 (Hegelstraße 1a)\, Hegelstraße 1a\, Bamberg\, Bayern\, 96052\, Germany
CATEGORIES:Flesh and Blood TCG,Lorcana,Turnierserie
ATTACH;FMTTYPE=image/png:https://katago-ev.de/wp-content/uploads/2024/03/Kartenabend-Logo.png
END:VEVENT
BEGIN:VEVENT
DTSTART;TZID=Europe/Berlin:20240324T140000
DTEND;TZID=Europe/Berlin:20240324T190000
DTSTAMP:20260423T173321
CREATED:20240101T210031Z
LAST-MODIFIED:20240101T210031Z
UID:10004424-1711288800-1711306800@katago-ev.de
SUMMARY:Custom 40K
DESCRIPTION:Custom 40K
URL:https://katago-ev.de/event/custom-40k-36/2024-03-24
LOCATION:Vereinsheim 1 (Hegelstraße 1a)\, Hegelstraße 1a\, Bamberg\, Bayern\, 96052\, Germany
CATEGORIES:Tabletop,Warhammer 40k
ATTACH;FMTTYPE=image/jpeg:https://katago-ev.de/wp-content/uploads/2022/10/Warhammer-40K-Logo2-scaled.jpg
END:VEVENT
BEGIN:VEVENT
DTSTART;TZID=Europe/Berlin:20240323T143000
DTEND;TZID=Europe/Berlin:20240323T193000
DTSTAMP:20260423T173321
CREATED:20240322T124149Z
LAST-MODIFIED:20240322T124149Z
UID:10005248-1711204200-1711222200@katago-ev.de
SUMMARY:Custom40k
DESCRIPTION:
URL:https://katago-ev.de/event/custom40k
LOCATION:Vereinsheim 1 (Hegelstraße 1a)\, Hegelstraße 1a\, Bamberg\, Bayern\, 96052\, Germany
END:VEVENT
BEGIN:VEVENT
DTSTART;TZID=Europe/Berlin:20240319T180000
DTEND;TZID=Europe/Berlin:20240319T220000
DTSTAMP:20260423T173321
CREATED:20240312T133705Z
LAST-MODIFIED:20240313T102237Z
UID:10005223-1710871200-1710885600@katago-ev.de
SUMMARY:Lorcana Draft „Die Tintenlande“
DESCRIPTION:Herzlich willkommen zum Lorcana Draft im KaTaGO e.V. \nAuch wenn Ihr neu im Sammelkartenspiel seit oder die Regeln von Lorcana nicht kennt\, scheut Euch nicht vorbei zu kommen wenn Ihr Interesse habt. Für den Draft erhaltet Ihr 4 Booster und im Preispool sind 1\,5 Booster je Teilnehmer. \nTeilnahme kostet: 30 Euro \nPreis: mindestens 1 Booster für jeden Teilnehmer \nDies ist ein öffentliches Event und sowohl für Mitglieder als auch für Nichtmitglieder offen. Es kann auch als erste Anlaufstelle dienen um sich den Verein anzuschauen und erste Infos zum Verein einzuholen.\nEine Anmeldung ist nicht zwingend notwendig oder verbindlich\, hilft uns jedoch sehr bei der Planung. Außerdem können wir euch so informieren falls eine Veranstaltung doch mal ausfällt. \nBitte beachtet\, dass es nur Mitgliedern gestattet wird eigene Getränke mitzubringen.\nAlle Anderen bedienen sich bitte an den von uns angebotenen Getränken. (2€ pro Getränk im Kühlschrank) \nSolltet ihr noch kein Mitglied sein\, aber Interesse an unseren Events oder einer Mitgliedschaft haben\, könnt ihr gerne einen ausgefüllten Mitgliedsantrag zum entsprechenden Event mitbringen und ab da einen kostenlosen Probemonat bei uns starten. Mitgliedsanträge gibt es hier
URL:https://katago-ev.de/event/lorcana-draft-die-tintenlande
LOCATION:Vereinsheim 1 (Hegelstraße 1a)\, Hegelstraße 1a\, Bamberg\, Bayern\, 96052\, Germany
CATEGORIES:Lorcana
ATTACH;FMTTYPE=image/png:https://katago-ev.de/wp-content/uploads/2023/10/Lorcana-Logo.png
ORGANIZER;CN="Thomas Scheer":MAILTO:thomas.scheer999[AT]googlemail.com
END:VEVENT
BEGIN:VEVENT
DTSTART;TZID=Europe/Berlin:20240317T183000
DTEND;TZID=Europe/Berlin:20240317T230000
DTSTAMP:20260423T173321
CREATED:20240227T083928Z
LAST-MODIFIED:20240227T083928Z
UID:10005185-1710700200-1710716400@katago-ev.de
SUMMARY:Inhouse - Meta-Analyse LEC Prag
DESCRIPTION:Event nur für Mitglieder \nSolltet ihr noch kein Mitglied sein\, aber Interesse an unseren Events oder einer Mitgliedschaft haben\, könnt ihr gerne einen ausgefüllten Mitgliedsantrag zum entsprechenden Event mitbringen und ab da einen kostenlosen Probemonat bei uns starten. Mitgliedsanträge gibt es hier. \nBei Rückfragen wendet euch gerne an magic@katago-ev.de \nFragt uns auch gerne per Mail oder vor Ort nach unserer whatsapp Gruppe.\nÜber die Gruppe werden kurzfirstige Abstimmungen vorgenommen\, Infos und Termine kommuniziert.
URL:https://katago-ev.de/event/inhouse-meta-analyse-lec-prag
LOCATION:Vereinsheim 1 (Hegelstraße 1a)\, Hegelstraße 1a\, Bamberg\, Bayern\, 96052\, Germany
CATEGORIES:Magic the Gathering
END:VEVENT
BEGIN:VEVENT
DTSTART;TZID=Europe/Berlin:20240317T140000
DTEND;TZID=Europe/Berlin:20240317T200000
DTSTAMP:20260423T173321
CREATED:20230527T145733Z
LAST-MODIFIED:20230527T145733Z
UID:10003959-1710684000-1710705600@katago-ev.de
SUMMARY:D&D Kampagne EBERRON: Die Schöpfungs Schmiede
DESCRIPTION:Eine Gruppe von Abenteurern versucht die Teile eines alten Relikts zu finden und was es damit auf sich hat. \nDies ist ein geschlossenes Event da alle Plätze in der Gruppe schon belegt sind.
URL:https://katago-ev.de/event/dd-kampagne-eberron-die-schoepfungs-schmiede-10/2024-03-17
LOCATION:Vereinsheim 1 (Hegelstraße 1a)\, Hegelstraße 1a\, Bamberg\, Bayern\, 96052\, Germany
CATEGORIES:Dungeons & Dragons,Eberron,Fantasy,Kampagne,Rollenspiel
ATTACH;FMTTYPE=image/jpeg:https://katago-ev.de/wp-content/uploads/2022/09/20220907_183447.jpg
END:VEVENT
BEGIN:VEVENT
DTSTART;TZID=Europe/Berlin:20240317T140000
DTEND;TZID=Europe/Berlin:20240317T190000
DTSTAMP:20260423T173321
CREATED:20240101T210031Z
LAST-MODIFIED:20240101T210031Z
UID:10004423-1710684000-1710702000@katago-ev.de
SUMMARY:Custom 40K
DESCRIPTION:Custom 40K
URL:https://katago-ev.de/event/custom-40k-36/2024-03-17
LOCATION:Vereinsheim 1 (Hegelstraße 1a)\, Hegelstraße 1a\, Bamberg\, Bayern\, 96052\, Germany
CATEGORIES:Tabletop,Warhammer 40k
ATTACH;FMTTYPE=image/jpeg:https://katago-ev.de/wp-content/uploads/2022/10/Warhammer-40K-Logo2-scaled.jpg
END:VEVENT
BEGIN:VEVENT
DTSTART;TZID=Europe/Berlin:20240310T140000
DTEND;TZID=Europe/Berlin:20240310T190000
DTSTAMP:20260423T173321
CREATED:20240101T210031Z
LAST-MODIFIED:20240101T210031Z
UID:10004422-1710079200-1710097200@katago-ev.de
SUMMARY:Custom 40K
DESCRIPTION:Custom 40K
URL:https://katago-ev.de/event/custom-40k-36/2024-03-10
LOCATION:Vereinsheim 1 (Hegelstraße 1a)\, Hegelstraße 1a\, Bamberg\, Bayern\, 96052\, Germany
CATEGORIES:Tabletop,Warhammer 40k
ATTACH;FMTTYPE=image/jpeg:https://katago-ev.de/wp-content/uploads/2022/10/Warhammer-40K-Logo2-scaled.jpg
END:VEVENT
BEGIN:VEVENT
DTSTART;TZID=Europe/Berlin:20240310T130000
DTEND;TZID=Europe/Berlin:20240310T170000
DTSTAMP:20260423T173321
CREATED:20240306T101807Z
LAST-MODIFIED:20240306T112217Z
UID:10005189-1710075600-1710090000@katago-ev.de
SUMMARY:Lorcana Release Event Draft "Die Tintenlande"
DESCRIPTION:Herzlich willkommen zum ersten Lorcana Draft im KaTaGO e.V. \nAuch wenn Ihr neu im Sammelkartenspiel seit oder die Regeln von Lorcana nicht kennt\, scheut Euch nicht vorbei zu kommen wenn Ihr Interesse habt. Für den Draft erhaltet Ihr 4 Booster und im Preispool sind 1\,5 Booster je Teilnehmer. \nTeilnahme kostet: 30 Euro \nPreis: mindestens 1 Booster für jeden Teilnehmer \nDies ist ein öffentliches Event und sowohl für Mitglieder als auch für Nichtmitglieder offen. Es kann auch als erste Anlaufstelle dienen um sich den Verein anzuschauen und erste Infos zum Verein einzuholen.\nEine Anmeldung ist nicht zwingend notwendig oder verbindlich\, hilft uns jedoch sehr bei der Planung. Außerdem können wir euch so informieren falls eine Veranstaltung doch mal ausfällt. \nBitte beachtet\, dass es nur Mitgliedern gestattet wird eigene Getränke mitzubringen.\nAlle Anderen bedienen sich bitte an den von uns angebotenen Getränken. (2€ pro Getränk im Kühlschrank) \nSolltet ihr noch kein Mitglied sein\, aber Interesse an unseren Events oder einer Mitgliedschaft haben\, könnt ihr gerne einen ausgefüllten Mitgliedsantrag zum entsprechenden Event mitbringen und ab da einen kostenlosen Probemonat bei uns starten. Mitgliedsanträge gibt es hier
URL:https://katago-ev.de/event/lorcana-release-event-draft-die-tintenlande
LOCATION:Vereinsheim 1 (Hegelstraße 1a)\, Hegelstraße 1a\, Bamberg\, Bayern\, 96052\, Germany
CATEGORIES:Lorcana
ATTACH;FMTTYPE=image/png:https://katago-ev.de/wp-content/uploads/2023/10/Lorcana-Logo.png
ORGANIZER;CN="Thomas Scheer":MAILTO:thomas.scheer999[AT]googlemail.com
END:VEVENT
BEGIN:VEVENT
DTSTART;TZID=Europe/Berlin:20240309T140000
DTEND;TZID=Europe/Berlin:20240309T173000
DTSTAMP:20260423T173321
CREATED:20240304T123915Z
LAST-MODIFIED:20240304T123915Z
UID:10005188-1709992800-1710005400@katago-ev.de
SUMMARY:Age of Sigmar - Schlacht
DESCRIPTION:Geschlossenes Event \nFabian(FLESH-EATER COURTS) \nVS \nJohannes(???)
URL:https://katago-ev.de/event/age-of-sigmar-schlacht-32
LOCATION:Vereinsheim 1 (Hegelstraße 1a)\, Hegelstraße 1a\, Bamberg\, Bayern\, 96052\, Germany
CATEGORIES:Age of Sigmar,Fantasy
ATTACH;FMTTYPE=image/jpeg:https://katago-ev.de/wp-content/uploads/2022/07/20220718_210251.jpg
END:VEVENT
BEGIN:VEVENT
DTSTART;TZID=Europe/Berlin:20240305T183000
DTEND;TZID=Europe/Berlin:20240305T230000
DTSTAMP:20260423T173321
CREATED:20240304T111628Z
LAST-MODIFIED:20240304T111629Z
UID:10005187-1709663400-1709679600@katago-ev.de
SUMMARY:Yu-Gi-Oh! - Inhouse
DESCRIPTION:Geschlossenes Event \nDuellanten duellieren sich im Duell
URL:https://katago-ev.de/event/yu-gi-oh-inhouse-51
LOCATION:Vereinsheim 1 (Hegelstraße 1a)\, Hegelstraße 1a\, Bamberg\, Bayern\, 96052\, Germany
CATEGORIES:Kartenspiele,Yu-Gi-Oh!
END:VEVENT
BEGIN:VEVENT
DTSTART;TZID=Europe/Berlin:20240303T140000
DTEND;TZID=Europe/Berlin:20240303T200000
DTSTAMP:20260423T173321
CREATED:20230527T145733Z
LAST-MODIFIED:20230527T145733Z
UID:10003877-1709474400-1709496000@katago-ev.de
SUMMARY:D&D Kampagne EBERRON: Die Schöpfungs Schmiede
DESCRIPTION:Eine Gruppe von Abenteurern versucht die Teile eines alten Relikts zu finden und was es damit auf sich hat. \nDies ist ein geschlossenes Event da alle Plätze in der Gruppe schon belegt sind.
URL:https://katago-ev.de/event/dd-kampagne-eberron-die-schoepfungs-schmiede-10/2024-03-03
LOCATION:Vereinsheim 1 (Hegelstraße 1a)\, Hegelstraße 1a\, Bamberg\, Bayern\, 96052\, Germany
CATEGORIES:Dungeons & Dragons,Eberron,Fantasy,Kampagne,Rollenspiel
ATTACH;FMTTYPE=image/jpeg:https://katago-ev.de/wp-content/uploads/2022/09/20220907_183447.jpg
END:VEVENT
BEGIN:VEVENT
DTSTART;TZID=Europe/Berlin:20240303T140000
DTEND;TZID=Europe/Berlin:20240303T190000
DTSTAMP:20260423T173321
CREATED:20240101T210031Z
LAST-MODIFIED:20240101T210031Z
UID:10004421-1709474400-1709492400@katago-ev.de
SUMMARY:Custom 40K
DESCRIPTION:Custom 40K
URL:https://katago-ev.de/event/custom-40k-36/2024-03-03
LOCATION:Vereinsheim 1 (Hegelstraße 1a)\, Hegelstraße 1a\, Bamberg\, Bayern\, 96052\, Germany
CATEGORIES:Tabletop,Warhammer 40k
ATTACH;FMTTYPE=image/jpeg:https://katago-ev.de/wp-content/uploads/2022/10/Warhammer-40K-Logo2-scaled.jpg
END:VEVENT
BEGIN:VEVENT
DTSTART;TZID=Europe/Berlin:20240229T200000
DTEND;TZID=Europe/Berlin:20240229T230000
DTSTAMP:20260423T173321
CREATED:20240226T095947Z
LAST-MODIFIED:20240226T095947Z
UID:10005153-1709236800-1709247600@katago-ev.de
SUMMARY:Age of Sigmar - Schlacht
DESCRIPTION:Geschlossenes Event \nFabian(FLESH-EATER COURTS) \nVS \nNiklas(GLOOMSPITE GITZ)
URL:https://katago-ev.de/event/age-of-sigmar-schlacht-29
LOCATION:Vereinsheim 1 (Hegelstraße 1a)\, Hegelstraße 1a\, Bamberg\, Bayern\, 96052\, Germany
CATEGORIES:Age of Sigmar,Fantasy,Tabletop
ATTACH;FMTTYPE=image/jpeg:https://katago-ev.de/wp-content/uploads/2022/07/20220718_210251.jpg
END:VEVENT
BEGIN:VEVENT
DTSTART;TZID=Europe/Berlin:20240229T183000
DTEND;TZID=Europe/Berlin:20240229T230000
DTSTAMP:20260423T173321
CREATED:20240226T100204Z
LAST-MODIFIED:20240226T100205Z
UID:10005154-1709231400-1709247600@katago-ev.de
SUMMARY:Yu-Gi-Oh! - Inhouse
DESCRIPTION:Geschlossenes Event \nDuellanten duellieren sich im Duell
URL:https://katago-ev.de/event/yu-gi-oh-inhouse-50
LOCATION:Vereinsheim 1 (Hegelstraße 1a)\, Hegelstraße 1a\, Bamberg\, Bayern\, 96052\, Germany
CATEGORIES:Kartenspiele,Yu-Gi-Oh!
END:VEVENT
BEGIN:VEVENT
DTSTART;TZID=Europe/Berlin:20240226T160000
DTEND;TZID=Europe/Berlin:20240226T200000
DTSTAMP:20260423T173321
CREATED:20240226T095502Z
LAST-MODIFIED:20240226T095502Z
UID:10005152-1708963200-1708977600@katago-ev.de
SUMMARY:Age of Sigmar - Schlacht
DESCRIPTION:Geschlossenes Event \nFabian(FLESH-EATER COURTS) \nVS \nThomas(???)
URL:https://katago-ev.de/event/age-of-sigmar-schlacht-28
LOCATION:Vereinsheim 1 (Hegelstraße 1a)\, Hegelstraße 1a\, Bamberg\, Bayern\, 96052\, Germany
CATEGORIES:Age of Sigmar,Fantasy,Tabletop
ATTACH;FMTTYPE=image/jpeg:https://katago-ev.de/wp-content/uploads/2022/07/20220718_210251.jpg
END:VEVENT
BEGIN:VEVENT
DTSTART;TZID=Europe/Berlin:20240225T150000
DTEND;TZID=Europe/Berlin:20240225T190000
DTSTAMP:20260423T173321
CREATED:20240224T131926Z
LAST-MODIFIED:20240224T131927Z
UID:10005151-1708873200-1708887600@katago-ev.de
SUMMARY:WTR Booster Draft Side Event RTN Bamberg
DESCRIPTION:Side Event für Diejenigen die nicht mehr im Hauptturnier spielen wollen. \nStart:        kann variieren je nach dem wie wir durchkommen beim RTN \nEintritt:   20€ \nPreise:     Promos\, Matten und Booster
URL:https://katago-ev.de/event/wtr-booster-draft-side-event-rtn-bamberg
LOCATION:Vereinsheim 1 (Hegelstraße 1a)\, Hegelstraße 1a\, Bamberg\, Bayern\, 96052\, Germany
CATEGORIES:Flesh and Blood TCG
ATTACH;FMTTYPE=image/png:https://katago-ev.de/wp-content/uploads/2021/09/logo_fab_stroke_black_750.height-350.width-10000.png
ORGANIZER;CN="Thomas Scheer":MAILTO:thomas.scheer999[AT]googlemail.com
END:VEVENT
BEGIN:VEVENT
DTSTART;TZID=Europe/Berlin:20240225T140000
DTEND;TZID=Europe/Berlin:20240225T190000
DTSTAMP:20260423T173321
CREATED:20240101T210031Z
LAST-MODIFIED:20240101T210031Z
UID:10004420-1708869600-1708887600@katago-ev.de
SUMMARY:Custom 40K
DESCRIPTION:Custom 40K
URL:https://katago-ev.de/event/custom-40k-36/2024-02-25
LOCATION:Vereinsheim 1 (Hegelstraße 1a)\, Hegelstraße 1a\, Bamberg\, Bayern\, 96052\, Germany
CATEGORIES:Tabletop,Warhammer 40k
ATTACH;FMTTYPE=image/jpeg:https://katago-ev.de/wp-content/uploads/2022/10/Warhammer-40K-Logo2-scaled.jpg
END:VEVENT
BEGIN:VEVENT
DTSTART;TZID=Europe/Berlin:20240225T093000
DTEND;TZID=Europe/Berlin:20240225T220000
DTSTAMP:20260423T173321
CREATED:20231201T151202Z
LAST-MODIFIED:20231216T101948Z
UID:10004300-1708853400-1708898400@katago-ev.de
SUMMARY:Flesh and Blood Comix Art  Road to Nationals
DESCRIPTION:Wann: 25.02.24 ab 9:30 Uhr Anmeldung\, 10:00 Uhr Start\nWo: Hegelstraße 1a\, 96052 Bamberg (Im Vereinsheim des KaTaGo e.V) \nFormat: Classic Constructed\nRundenanzahl: bis zu 5 Runden (nach Teilnehemeranzahl)\, anschließend Top Cut (bei mehr als 8 Spielern) \nStartgebühr: 35€ (Bezahlt wird nur vor Ort nur in Bar!)\nSpielercap: max. 32 \nPreise: \n1. Platz: 1x Random Drop Gold Cold Foil Card (Common or Rare or Majestic)\, 1x Road to Nationals 2024 Playmat\, 1x Rainbow Foil Hero Promo Card\, Quali für die Nationals 2024 \n2. Platz: 1x Road to Nationals 2024 Playmat\, 1x Rainbow Foil Hero Promo Card\, Quali für die Nationals 2024 \n3.-4. Platz: 1x Rainbow Foil Hero Promo Card\, Quali für die Nationals 2024 \n5.-8. Platz: 1x Rainbow Foil Hero Promo Card \nZudem erhält jeder Teilnehmer Booster je nach Platzierung. Keiner geht Leer aus! \nBei diesem Event handelt es sich um eine Möglichkeit euch für die kommenden Nationals zu Qualifizieren! \nDa es sich um ein Event auf competetive Level handelt seit ihr dazu verpflichtet eine Deckliste von eurem Deck mitzubringen. \nBitte meldet euch an da wir das Turnier auf 32 Spieler\, aufgrund von Platzmangel begrenzen müssen.\nBitte meldet euch auch wieder ab falls ihr doch nicht kommen könnt\, damit andere Spieler noch die Chance haben sich anzumelden. Dies könnt ihr machen indem ihr auf „Bereits angemeldet?“ neben den Anmelde button klickt. \nHier handelt es sich um ein Öffentliches Event das für alle\, auch nicht Mitgliedern zugänglich ist.\nNicht-Mitgliedern ist nicht gestattet selbst Getränke mitzunehmen. Ihr könnt aber vor Ort Getränke erwerben. \n 
URL:https://katago-ev.de/event/fab-blocker
LOCATION:Vereinsheim 1 (Hegelstraße 1a)\, Hegelstraße 1a\, Bamberg\, Bayern\, 96052\, Germany
CATEGORIES:Flesh and Blood TCG
ATTACH;FMTTYPE=image/png:https://katago-ev.de/wp-content/uploads/2021/09/logo_fab_stroke_black_750.height-350.width-10000.png
END:VEVENT
BEGIN:VEVENT
DTSTART;TZID=Europe/Berlin:20240218T140000
DTEND;TZID=Europe/Berlin:20240218T200000
DTSTAMP:20260423T173321
CREATED:20230527T145733Z
LAST-MODIFIED:20230527T145733Z
UID:10003874-1708264800-1708286400@katago-ev.de
SUMMARY:D&D Kampagne EBERRON: Die Schöpfungs Schmiede
DESCRIPTION:Eine Gruppe von Abenteurern versucht die Teile eines alten Relikts zu finden und was es damit auf sich hat. \nDies ist ein geschlossenes Event da alle Plätze in der Gruppe schon belegt sind.
URL:https://katago-ev.de/event/dd-kampagne-eberron-die-schoepfungs-schmiede-10/2024-02-18
LOCATION:Vereinsheim 1 (Hegelstraße 1a)\, Hegelstraße 1a\, Bamberg\, Bayern\, 96052\, Germany
CATEGORIES:Dungeons & Dragons,Eberron,Fantasy,Kampagne,Rollenspiel
ATTACH;FMTTYPE=image/jpeg:https://katago-ev.de/wp-content/uploads/2022/09/20220907_183447.jpg
END:VEVENT
BEGIN:VEVENT
DTSTART;TZID=Europe/Berlin:20240218T140000
DTEND;TZID=Europe/Berlin:20240218T190000
DTSTAMP:20260423T173321
CREATED:20240101T210031Z
LAST-MODIFIED:20240101T210031Z
UID:10004419-1708264800-1708282800@katago-ev.de
SUMMARY:Custom 40K
DESCRIPTION:Custom 40K
URL:https://katago-ev.de/event/custom-40k-36/2024-02-18
LOCATION:Vereinsheim 1 (Hegelstraße 1a)\, Hegelstraße 1a\, Bamberg\, Bayern\, 96052\, Germany
CATEGORIES:Tabletop,Warhammer 40k
ATTACH;FMTTYPE=image/jpeg:https://katago-ev.de/wp-content/uploads/2022/10/Warhammer-40K-Logo2-scaled.jpg
END:VEVENT
BEGIN:VEVENT
DTSTART;TZID=Europe/Berlin:20240211T140000
DTEND;TZID=Europe/Berlin:20240211T190000
DTSTAMP:20260423T173321
CREATED:20240101T210031Z
LAST-MODIFIED:20240101T210031Z
UID:10004418-1707660000-1707678000@katago-ev.de
SUMMARY:Custom 40K
DESCRIPTION:Custom 40K
URL:https://katago-ev.de/event/custom-40k-36/2024-02-11
LOCATION:Vereinsheim 1 (Hegelstraße 1a)\, Hegelstraße 1a\, Bamberg\, Bayern\, 96052\, Germany
CATEGORIES:Tabletop,Warhammer 40k
ATTACH;FMTTYPE=image/jpeg:https://katago-ev.de/wp-content/uploads/2022/10/Warhammer-40K-Logo2-scaled.jpg
END:VEVENT
BEGIN:VEVENT
DTSTART;TZID=Europe/Berlin:20240211T140000
DTEND;TZID=Europe/Berlin:20240211T180000
DTSTAMP:20260423T173321
CREATED:20240114T173051Z
LAST-MODIFIED:20240114T173051Z
UID:10004911-1707660000-1707674400@katago-ev.de
SUMMARY:Lorcana Draft „Aufstieg der Flutgestalten“
DESCRIPTION:Herzlich willkommen zum ersten Lorcana Draft im KaTaGO e.V. \nAuch wenn Ihr neu im Sammelkartenspiel seit oder die Regeln von Lorcana nicht kennt\, scheut Euch nicht vorbei zu kommen wenn Ihr Interesse habt. Für den Draft erhaltet Ihr 4 Booster und im Preispool sind 1\,5 Booster je Teilnehmer. \nTeilnahme kostet: 30 Euro \nPreis: mindestens 1 Booster für jeden Teilnehmer \nDies ist ein öffentliches Event und sowohl für Mitglieder als auch für Nichtmitglieder offen. Es kann auch als erste Anlaufstelle dienen um sich den Verein anzuschauen und erste Infos zum Verein einzuholen.\nEine Anmeldung ist nicht zwingend notwendig oder verbindlich\, hilft uns jedoch sehr bei der Planung. Außerdem können wir euch so informieren falls eine Veranstaltung doch mal ausfällt. \nBitte beachtet\, dass es nur Mitgliedern gestattet wird eigene Getränke mitzubringen.\nAlle Anderen bedienen sich bitte an den von uns angebotenen Getränken. (2€ pro Getränk im Kühlschrank) \nSolltet ihr noch kein Mitglied sein\, aber Interesse an unseren Events oder einer Mitgliedschaft haben\, könnt ihr gerne einen ausgefüllten Mitgliedsantrag zum entsprechenden Event mitbringen und ab da einen kostenlosen Probemonat bei uns starten. Mitgliedsanträge gibt es hier
URL:https://katago-ev.de/event/lorcana-draft-aufstieg-der-flutgestalten-2
LOCATION:Vereinsheim 1 (Hegelstraße 1a)\, Hegelstraße 1a\, Bamberg\, Bayern\, 96052\, Germany
CATEGORIES:Kartenspiele,Lorcana TCG
ATTACH;FMTTYPE=image/png:https://katago-ev.de/wp-content/uploads/2023/10/Lorcana-Logo.png
ORGANIZER;CN="Thomas Scheer":MAILTO:thomas.scheer999[AT]googlemail.com
END:VEVENT
BEGIN:VEVENT
DTSTART;TZID=Europe/Berlin:20240211T120000
DTEND;TZID=Europe/Berlin:20240211T180000
DTSTAMP:20260423T173321
CREATED:20240205T103321Z
LAST-MODIFIED:20240205T103321Z
UID:10005026-1707652800-1707674400@katago-ev.de
SUMMARY:Yu-Gi-Oh! - TOP 16 2023
DESCRIPTION:Geschlossenes Event \nDie Besten Duellanten des Vereins von 2023. Spielen um den großen Preis von KaTaGO!
URL:https://katago-ev.de/event/yu-gi-oh-top-16-2023
LOCATION:Vereinsheim 1 (Hegelstraße 1a)\, Hegelstraße 1a\, Bamberg\, Bayern\, 96052\, Germany
CATEGORIES:Kartenspiele,Yu-Gi-Oh!
ATTACH;FMTTYPE=image/jpeg:https://katago-ev.de/wp-content/uploads/2023/12/20231218_144052.jpg
END:VEVENT
BEGIN:VEVENT
DTSTART;TZID=Europe/Berlin:20240210T130000
DTEND;TZID=Europe/Berlin:20240210T190000
DTSTAMP:20260423T173321
CREATED:20240103T165848Z
LAST-MODIFIED:20240103T165848Z
UID:10004689-1707570000-1707591600@katago-ev.de
SUMMARY:Warhammer 40K Liga 10. Edition – Runde 5
DESCRIPTION:Warhammer 40K Liga 10. Edition – Runde 5
URL:https://katago-ev.de/event/warhammer-40k-liga-10-edition-runde-5
LOCATION:Vereinsheim 1 (Hegelstraße 1a)\, Hegelstraße 1a\, Bamberg\, Bayern\, 96052\, Germany
CATEGORIES:Tabletop,Warhammer 40k
ATTACH;FMTTYPE=image/jpeg:https://katago-ev.de/wp-content/uploads/2022/10/Warhammer-40K-Logo2-scaled.jpg
ORGANIZER;CN="Thomas Scheer":MAILTO:thomas.scheer999[AT]googlemail.com
END:VEVENT
BEGIN:VEVENT
DTSTART;TZID=Europe/Berlin:20240209T183000
DTEND;TZID=Europe/Berlin:20240209T230000
DTSTAMP:20260423T173321
CREATED:20240205T102942Z
LAST-MODIFIED:20240205T102942Z
UID:10005025-1707503400-1707519600@katago-ev.de
SUMMARY:Yu-Gi-Oh! - Inhouse
DESCRIPTION:Geschlossenes Event \nDuellanten duellieren sich im Duell
URL:https://katago-ev.de/event/yu-gi-oh-inhouse-49
LOCATION:Vereinsheim 1 (Hegelstraße 1a)\, Hegelstraße 1a\, Bamberg\, Bayern\, 96052\, Germany
CATEGORIES:Kartenspiele,Yu-Gi-Oh!
END:VEVENT
END:VCALENDAR