BEGIN:VCALENDAR
VERSION:2.0
PRODID:-//katago-ev.de - ECPv6.15.0.1//NONSGML v1.0//EN
CALSCALE:GREGORIAN
METHOD:PUBLISH
X-WR-CALNAME:katago-ev.de
X-ORIGINAL-URL:https://katago-ev.de
X-WR-CALDESC:Veranstaltungen für katago-ev.de
REFRESH-INTERVAL;VALUE=DURATION:PT1H
X-Robots-Tag:noindex
X-PUBLISHED-TTL:PT1H
BEGIN:VTIMEZONE
TZID:Europe/Berlin
BEGIN:DAYLIGHT
TZOFFSETFROM:+0100
TZOFFSETTO:+0200
TZNAME:CEST
DTSTART:20230326T010000
END:DAYLIGHT
BEGIN:STANDARD
TZOFFSETFROM:+0200
TZOFFSETTO:+0100
TZNAME:CET
DTSTART:20231029T010000
END:STANDARD
END:VTIMEZONE
BEGIN:VEVENT
DTSTART;TZID=Europe/Berlin:20231109T170000
DTEND;TZID=Europe/Berlin:20231109T220000
DTSTAMP:20260424T162156
CREATED:20231026T145558Z
LAST-MODIFIED:20231026T145558Z
UID:10004249-1699549200-1699567200@katago-ev.de
SUMMARY:Infinity Aristeia! und TAG Raid
DESCRIPTION:Infinity Aristeia! und TAG Raid
URL:https://katago-ev.de/event/infinity-aristeia-und-tag-raid
LOCATION:Vereinsheim 1 (Hegelstraße 1a)\, Hegelstraße 1a\, Bamberg\, Bayern\, 96052\, Germany
CATEGORIES:Tabletop
ORGANIZER;CN="Thomas Brandt":MAILTO:advi@hackerspace-bamberg.de
END:VEVENT
BEGIN:VEVENT
DTSTART;TZID=Europe/Berlin:20231101T090000
DTEND;TZID=Europe/Berlin:20231101T200000
DTSTAMP:20260424T162156
CREATED:20230804T170752Z
LAST-MODIFIED:20230804T170752Z
UID:10003838-1698829200-1698868800@katago-ev.de
SUMMARY:Infinity Turnier
DESCRIPTION:Infinity Turnier
URL:https://katago-ev.de/event/infinity-turnier
LOCATION:Vereinsheim 1 (Hegelstraße 1a)\, Hegelstraße 1a\, Bamberg\, Bayern\, 96052\, Germany
CATEGORIES:Tabletop
ORGANIZER;CN="Thomas Brandt":MAILTO:advi@hackerspace-bamberg.de
END:VEVENT
BEGIN:VEVENT
DTSTART;TZID=Europe/Berlin:20231028T130000
DTEND;TZID=Europe/Berlin:20231028T170000
DTSTAMP:20260424T162156
CREATED:20230731T193838Z
LAST-MODIFIED:20230804T175326Z
UID:10003828-1698498000-1698512400@katago-ev.de
SUMMARY:Mitgliederversammlung 2023
DESCRIPTION:Alle Infos per Mail
URL:https://katago-ev.de/event/mitgliederversammlung-2023
LOCATION:Vereinsheim 1 (Hegelstraße 1a)\, Hegelstraße 1a\, Bamberg\, Bayern\, 96052\, Germany
CATEGORIES:Mitgliedervollversammlung,Versammlung
ATTACH;FMTTYPE=image/jpeg:https://katago-ev.de/wp-content/uploads/2021/10/Katago_Logo.jpg
END:VEVENT
BEGIN:VEVENT
DTSTART;TZID=Europe/Berlin:20231018T170000
DTEND;TZID=Europe/Berlin:20231018T200000
DTSTAMP:20260424T162156
CREATED:20231013T151753Z
LAST-MODIFIED:20231013T151753Z
UID:10004240-1697648400-1697659200@katago-ev.de
SUMMARY:Flesh and Blood Demo
DESCRIPTION:Flesh and Blood Demo \nDies ist ein öffentliches Event zu dem auch Spieler kommen können die kein Mitglied des Vereins sind.\nBitte beachtet\, dass es nur Mitgliedern gestattet wird eigene Getränke mitzubringen.\nAlle anderen bedienen sich bitte an den von uns angebotenen Getränken.
URL:https://katago-ev.de/event/flesh-and-blood-demo-5
LOCATION:Vereinsheim 1 (Hegelstraße 1a)\, Hegelstraße 1a\, Bamberg\, Bayern\, 96052\, Germany
ORGANIZER;CN="Thomas Scheer":MAILTO:thomas.scheer999[AT]googlemail.com
END:VEVENT
BEGIN:VEVENT
DTSTART;TZID=Europe/Berlin:20231018T170000
DTEND;TZID=Europe/Berlin:20231018T200000
DTSTAMP:20260424T162156
CREATED:20231013T151507Z
LAST-MODIFIED:20231013T152007Z
UID:10004239-1697648400-1697659200@katago-ev.de
SUMMARY:Lorcana TCG
DESCRIPTION:Lasst uns einen gemütlichen Lorcana Abend verbringen. Jeder ist herzlich eingeladen\, bitte um Anmeldung. \nDies ist ein öffentliches Event zu dem auch Spieler kommen können die kein Mitglied des Vereins sind.\nBitte beachtet\, dass es nur Mitgliedern gestattet wird eigene Getränke mitzubringen.\nAlle anderen bedienen sich bitte an den von uns angebotenen Getränken.
URL:https://katago-ev.de/event/lorcana-tcg-2
LOCATION:Vereinsheim 1 (Hegelstraße 1a)\, Hegelstraße 1a\, Bamberg\, Bayern\, 96052\, Germany
CATEGORIES:Lorcana TCG
ATTACH;FMTTYPE=image/png:https://katago-ev.de/wp-content/uploads/2023/10/Lorcana-Logo.png
ORGANIZER;CN="Thomas Scheer":MAILTO:thomas.scheer999[AT]googlemail.com
END:VEVENT
BEGIN:VEVENT
DTSTART;TZID=Europe/Berlin:20231017T183000
DTEND;TZID=Europe/Berlin:20231017T230000
DTSTAMP:20260424T162156
CREATED:20231015T074037Z
LAST-MODIFIED:20231015T074038Z
UID:10004241-1697567400-1697583600@katago-ev.de
SUMMARY:Yu-Gi-Oh! - Inhouse
DESCRIPTION:Geschlossenes Event \nDuellanten duellieren sich im Duell
URL:https://katago-ev.de/event/yu-gi-oh-inhouse-33
LOCATION:Vereinsheim 1 (Hegelstraße 1a)\, Hegelstraße 1a\, Bamberg\, Bayern\, 96052\, Germany
CATEGORIES:Kartenspiele,Yu-Gi-Oh!
END:VEVENT
BEGIN:VEVENT
DTSTART;TZID=Europe/Berlin:20231015T130000
DTEND;TZID=Europe/Berlin:20231015T190000
DTSTAMP:20260424T162156
CREATED:20230918T140813Z
LAST-MODIFIED:20230918T141601Z
UID:10003948-1697374800-1697396400@katago-ev.de
SUMMARY:Warhammer 40K Liga 10. Edition
DESCRIPTION:Warhammer 40K Liga 10. Edition \nWer Interesse hat einfach über den WhatsApp Link in die Gruppe da gibt es Infos\, bitte bis spätestens 30.09.2023 anmelden. \nhttps://chat.whatsapp.com/GMRfr1uCmCW9nhha04JQ21
URL:https://katago-ev.de/event/warhammer-40k-liga-10-edition
LOCATION:Vereinsheim 1 (Hegelstraße 1a)\, Hegelstraße 1a\, Bamberg\, Bayern\, 96052\, Germany
CATEGORIES:Tabletop,Warhammer 40k
ATTACH;FMTTYPE=image/jpeg:https://katago-ev.de/wp-content/uploads/2022/10/Warhammer-40K-Logo2-scaled.jpg
ORGANIZER;CN="Thomas Scheer":MAILTO:thomas.scheer999[AT]googlemail.com
END:VEVENT
BEGIN:VEVENT
DTSTART;TZID=Europe/Berlin:20231012T183000
DTEND;TZID=Europe/Berlin:20231012T230000
DTSTAMP:20260424T162156
CREATED:20231009T130903Z
LAST-MODIFIED:20231009T130903Z
UID:10003972-1697135400-1697151600@katago-ev.de
SUMMARY:Yu-Gi-Oh! - Inhouse
DESCRIPTION:Geschlossenes Event \nDuellanten duellieren sich im Duell
URL:https://katago-ev.de/event/yu-gi-oh-inhouse-32
LOCATION:Vereinsheim 1 (Hegelstraße 1a)\, Hegelstraße 1a\, Bamberg\, Bayern\, 96052\, Germany
CATEGORIES:Kartenspiele,Yu-Gi-Oh!
END:VEVENT
BEGIN:VEVENT
DTSTART;TZID=Europe/Berlin:20231011T180000
DTEND;TZID=Europe/Berlin:20231011T200000
DTSTAMP:20260424T162156
CREATED:20231009T150224Z
LAST-MODIFIED:20231009T150224Z
UID:10003973-1697047200-1697054400@katago-ev.de
SUMMARY:Lorcana TCG
DESCRIPTION:Lasst uns einen gemütlichen Lorcana Abend verbringen. Jeder ist herzlich eingeladen\, bitte um Anmeldung. \nDies ist ein öffentliches Event zu dem auch Spieler kommen können die kein Mitglied des Vereins sind.\nBitte beachtet\, dass es nur Mitgliedern gestattet wird eigene Getränke mitzubringen.\nAlle anderen bedienen sich bitte an den von uns angebotenen Getränken. \n 
URL:https://katago-ev.de/event/lorcana-tcg
LOCATION:Vereinsheim 1 (Hegelstraße 1a)\, Hegelstraße 1a\, Bamberg\, Bayern\, 96052\, Germany
CATEGORIES:Kartenspiele
ATTACH;FMTTYPE=image/png:https://katago-ev.de/wp-content/uploads/2023/10/Lorcana-Logo.png
ORGANIZER;CN="Thomas Scheer":MAILTO:thomas.scheer999[AT]googlemail.com
END:VEVENT
BEGIN:VEVENT
DTSTART;TZID=Europe/Berlin:20231008T080000
DTEND;TZID=Europe/Berlin:20231008T220000
DTSTAMP:20260424T162156
CREATED:20230829T141628Z
LAST-MODIFIED:20230829T141711Z
UID:10003871-1696752000-1696802400@katago-ev.de
SUMMARY:1. Bamberger Custom40k Cup
DESCRIPTION:Erhebe deine Space Marines und trete in die Welt von Warhammer 40k ein! Mit unseren Custom40k Regeln erwartet dich ein einzigartiges Tabletop-Erlebnis\, das dich auf eine epische Reise durch die Galaxie führt. Stelle dein strategisches Denken auf die Probe und kämpfe gegen deine Konkurrenten um den Sieg. Werde Teil einer dynamischen Community\, die sich leidenschaftlich für das Gaming engagiert. Bist du bereit\, deine Armee zum Sieg zu führen? Komm zu unserem Turnier und zeige dein Können!
URL:https://katago-ev.de/event/bamberger-custom40k-cup
LOCATION:Vereinsheim 1 (Hegelstraße 1a)\, Hegelstraße 1a\, Bamberg\, Bayern\, 96052\, Germany
CATEGORIES:Tabletop,Warhammer 40k
ATTACH;FMTTYPE=image/webp:https://katago-ev.de/wp-content/uploads/2022/09/warhaaa.webp
END:VEVENT
BEGIN:VEVENT
DTSTART;TZID=Europe/Berlin:20231001T100000
DTEND;TZID=Europe/Berlin:20231001T170000
DTSTAMP:20260424T162156
CREATED:20230802T194218Z
LAST-MODIFIED:20230929T065838Z
UID:10003836-1696154400-1696179600@katago-ev.de
SUMMARY:Flesh and Blood PreRelease bright lights
DESCRIPTION:Flesh and Blood PreRelease bright lights
URL:https://katago-ev.de/event/fab-blocker-prerelease
LOCATION:Vereinsheim 1 (Hegelstraße 1a)\, Hegelstraße 1a\, Bamberg\, Bayern\, 96052\, Germany
CATEGORIES:Flesh and Blood TCG
ATTACH;FMTTYPE=image/png:https://katago-ev.de/wp-content/uploads/2021/09/logo_fab_stroke_black_750.height-350.width-10000.png
END:VEVENT
BEGIN:VEVENT
DTSTART;TZID=Europe/Berlin:20230926T170000
DTEND;TZID=Europe/Berlin:20230926T210000
DTSTAMP:20260424T162156
CREATED:20230923T064316Z
LAST-MODIFIED:20230923T064317Z
UID:10003952-1695747600-1695762000@katago-ev.de
SUMMARY:Tabletop Bastel- und Bemalabend
DESCRIPTION:Auf geht´s leistet mir Gesellschaft beim basteln und bemalen auf das der „pile of shame“ kleiner wird!
URL:https://katago-ev.de/event/tabletop-bastel-und-bemalabend
LOCATION:Vereinsheim 1 (Hegelstraße 1a)\, Hegelstraße 1a\, Bamberg\, Bayern\, 96052\, Germany
CATEGORIES:Malabend,Tabletop
ORGANIZER;CN="Thomas Scheer":MAILTO:thomas.scheer999[AT]googlemail.com
END:VEVENT
BEGIN:VEVENT
DTSTART;TZID=Europe/Berlin:20230925T183000
DTEND;TZID=Europe/Berlin:20230925T230000
DTSTAMP:20260424T162156
CREATED:20230924T102226Z
LAST-MODIFIED:20230924T102226Z
UID:10003953-1695666600-1695682800@katago-ev.de
SUMMARY:Yu-Gi-Oh! - Inhouse
DESCRIPTION:Geschlossenes Event \nDuellanten duellieren sich im Duell
URL:https://katago-ev.de/event/yu-gi-oh-inhouse-30
LOCATION:Vereinsheim 1 (Hegelstraße 1a)\, Hegelstraße 1a\, Bamberg\, Bayern\, 96052\, Germany
CATEGORIES:Kartenspiele,Yu-Gi-Oh!
END:VEVENT
BEGIN:VEVENT
DTSTART;TZID=Europe/Berlin:20230919T183000
DTEND;TZID=Europe/Berlin:20230919T230000
DTSTAMP:20260424T162156
CREATED:20230917T154123Z
LAST-MODIFIED:20230917T154123Z
UID:10003947-1695148200-1695164400@katago-ev.de
SUMMARY:Yu-Gi-Oh! - Inhouse
DESCRIPTION:Geschlossenes Event \nDuellanten duellieren sich im Duell
URL:https://katago-ev.de/event/yu-gi-oh-inhouse-29
LOCATION:Vereinsheim 1 (Hegelstraße 1a)\, Hegelstraße 1a\, Bamberg\, Bayern\, 96052\, Germany
CATEGORIES:Kartenspiele,Yu-Gi-Oh!
END:VEVENT
BEGIN:VEVENT
DTSTART;TZID=Europe/Berlin:20230917T140000
DTEND;TZID=Europe/Berlin:20230917T190000
DTSTAMP:20260424T162156
CREATED:20230829T083331Z
LAST-MODIFIED:20230829T083331Z
UID:10003870-1694959200-1694977200@katago-ev.de
SUMMARY:40K 10. Edition Demo Spiel und Besprechung 40K 10. Edition Liga
DESCRIPTION:40K 10. Edition Demo Spiel und Besprechung 40K 10. Edition Liga.
URL:https://katago-ev.de/event/40k-10-edition-demo-spiel-und-besprechung-40k-10-edition-liga
LOCATION:Vereinsheim 1 (Hegelstraße 1a)\, Hegelstraße 1a\, Bamberg\, Bayern\, 96052\, Germany
CATEGORIES:Tabletop,Warhammer 40k
ATTACH;FMTTYPE=image/jpeg:https://katago-ev.de/wp-content/uploads/2020/10/Warhammer-40k-9th-Edition-Leaked-Featured-1.jpg
ORGANIZER;CN="Thomas Scheer":MAILTO:thomas.scheer999[AT]googlemail.com
END:VEVENT
BEGIN:VEVENT
DTSTART;TZID=Europe/Berlin:20230916T180000
DTEND;TZID=Europe/Berlin:20230916T220000
DTSTAMP:20260424T162156
CREATED:20230913T063109Z
LAST-MODIFIED:20230913T063109Z
UID:10003944-1694887200-1694901600@katago-ev.de
SUMMARY:Flesh and Blood Armory Commoner
DESCRIPTION:Flesh and Blood Armory Commoner
URL:https://katago-ev.de/event/flesh-and-blood-armory-commoner-2
LOCATION:Vereinsheim 1 (Hegelstraße 1a)\, Hegelstraße 1a\, Bamberg\, Bayern\, 96052\, Germany
CATEGORIES:Flesh and Blood TCG
ATTACH;FMTTYPE=image/png:https://katago-ev.de/wp-content/uploads/2021/09/logo_fab_stroke_black_750.height-350.width-10000.png
END:VEVENT
BEGIN:VEVENT
DTSTART;TZID=Europe/Berlin:20230912T183000
DTEND;TZID=Europe/Berlin:20230912T230000
DTSTAMP:20260424T162156
CREATED:20230911T085404Z
LAST-MODIFIED:20230911T085404Z
UID:10003876-1694543400-1694559600@katago-ev.de
SUMMARY:Yu-Gi-Oh! - Inhouse
DESCRIPTION:Geschlossenes Event \nDuellanten duellieren sich im Duell
URL:https://katago-ev.de/event/yu-gi-oh-inhouse-28
LOCATION:Vereinsheim 1 (Hegelstraße 1a)\, Hegelstraße 1a\, Bamberg\, Bayern\, 96052\, Germany
CATEGORIES:Kartenspiele,Yu-Gi-Oh!
END:VEVENT
BEGIN:VEVENT
DTSTART;TZID=Europe/Berlin:20230905T183000
DTEND;TZID=Europe/Berlin:20230905T230000
DTSTAMP:20260424T162156
CREATED:20230902T093027Z
LAST-MODIFIED:20230902T093027Z
UID:10003875-1693938600-1693954800@katago-ev.de
SUMMARY:Yu-Gi-Oh! - Inhouse
DESCRIPTION:Geschlossenes Event \nDuellanten duellieren sich im Duell
URL:https://katago-ev.de/event/yu-gi-oh-inhouse-27
LOCATION:Vereinsheim 1 (Hegelstraße 1a)\, Hegelstraße 1a\, Bamberg\, Bayern\, 96052\, Germany
CATEGORIES:Kartenspiele,Yu-Gi-Oh!
END:VEVENT
BEGIN:VEVENT
DTSTART;TZID=Europe/Berlin:20230903T104500
DTEND;TZID=Europe/Berlin:20230903T160000
DTSTAMP:20260424T162156
CREATED:20230731T140053Z
LAST-MODIFIED:20230731T140053Z
UID:10003823-1693737900-1693756800@katago-ev.de
SUMMARY:Prerelease - Wilds of Eldraine - THG Sealed II
DESCRIPTION:Willkommen zu unserem Prerelease Two Headed Giant Sealed Event im Vereinsheim des KaTaGO e.V. \nDies ist ein öffentliches Event\, zum dem auch Spieler kommen können\, die keine Mitglieder des Vereins sind.\nAufgrund der aktuellen Covid19 Bestimmungen können unsere Events ohne besondere Einschränkungen stattfinden. \nDas Event ist auf 32 Personen beschränkt. \nAchtet bei Registrierung darauf\, dass ihr eure Emailadresse angebt\, damit wir euch bei Änderungen oder Absagen informieren können.\nPrüft auch bitte am Tag es Events nochmal eure Emails\, ob noch neue Informationen rausgegeben wurden. \nBeim Two Headed Giant spielt ihr zusammen mit einem Partner 2 vs 2 Matches\, wobei Ihr euch aus einem gemeinsamen Kartenpool (bestehend aus 2 Prerelease Kits) zwei Decks baut mit denen ihr gegen eure Gegner antretet. Bitte beachtet\, dass sich auch immer beide Spieler für das Event anmelden/voranmelden müssen. Solltet ihr keinen Partner haben\, möchtet aber gerne mitspielen\, könnt ihr gerne spontan vorbei kommen und schauen\, ob noch andere Spieler einen Partner suchen. Ihr könnt euch aber auch gerne per Mail (an: info@mtgo-ev.de / Betreff: „Prerelease“) an uns wenden und wir versuchen euch einen Partner zuzuweisen.\nParallel wird am Nachmittag auch ein Single Sealed Event angeboten\, für welches kein Partner benötigt wird. \nBitte beachtet\, dass es nur Mitgliedern gestattet wird eigene Getränke mitzubringen.\nAlle Anderen bedienen sich bitte an den von uns angebotenen Getränken. (2€ pro Getränk) \nSolltet ihr noch kein Mitglied sein\, aber Interesse an unseren Events oder einer Mitgliedschaft haben\, könnt ihr gerne einen ausgefüllten Mitgliedsantrag zum entsprechenden Event mitbringen und ab da einen kostenlosen Probemonat bei uns starten. Mitgliedsanträge gibt es hier. \nEventdetails \nAnmeldung:    10:45 – 11:00 Uhr\nDeckbau:          11:00 – 12:00 Uhr\nStart Runde 1:               12:00 Uhr \nFormat: Twoheaded Giant\, maximal 4 Runden \nStartgeld: 35€ p.P. \nPreise: Boosterpreise nach Final Standings\, jeder Spieler erhält mind. ein Preisbooster \nWir freuen uns auf euch!
URL:https://katago-ev.de/event/prerelease-woe-thg-sealed-ii
LOCATION:Vereinsheim 1 (Hegelstraße 1a)\, Hegelstraße 1a\, Bamberg\, Bayern\, 96052\, Germany
CATEGORIES:Kartenspiele,Magic the Gathering
ATTACH;FMTTYPE=image/jpeg:https://katago-ev.de/wp-content/uploads/2023/07/Eldraine.jpg
END:VEVENT
BEGIN:VEVENT
DTSTART;TZID=Europe/Berlin:20230902T133000
DTEND;TZID=Europe/Berlin:20230902T193000
DTSTAMP:20260424T162156
CREATED:20230731T135858Z
LAST-MODIFIED:20230731T135858Z
UID:10003822-1693661400-1693683000@katago-ev.de
SUMMARY:Prerelease - Wilds of Eldraine - THG Sealed I
DESCRIPTION:Willkommen zu unserem Prerelease Two Headed Giant Sealed Event im Vereinsheim des KaTaGO e.V. \nDies ist ein öffentliches Event\, zum dem auch Spieler kommen können\, die keine Mitglieder des Vereins sind.\nAufgrund der aktuellen Covid19 Bestimmungen können unsere Events ohne besondere Einschränkungen stattfinden. \nDas Event ist auf 32 Personen beschränkt. \nAchtet bei Registrierung darauf\, dass ihr eure Emailadresse angebt\, damit wir euch bei Änderungen oder Absagen informieren können.\nPrüft auch bitte am Tag es Events nochmal eure Emails\, ob noch neue Informationen rausgegeben wurden. \nBeim Two Headed Giant spielt ihr zusammen mit einem Partner 2 vs 2 Matches\, wobei Ihr euch aus einem gemeinsamen Kartenpool (bestehend aus 2 Prerelease Kits) zwei Decks baut mit denen ihr gegen eure Gegner antretet. Bitte beachtet\, dass sich auch immer beide Spieler für das Event anmelden/voranmelden müssen. Solltet ihr keinen Partner haben\, möchtet aber gerne mitspielen\, könnt ihr gerne spontan vorbei kommen und schauen\, ob noch andere Spieler einen Partner suchen. Ihr könnt euch aber auch gerne per Mail (an: info@mtgo-ev.de / Betreff: „Prerelease“) an uns wenden und wir versuchen euch einen Partner zuzuweisen.\nParallel wird am Nachmittag auch ein Single Sealed Event angeboten\, für welches kein Partner benötigt wird. \nBitte beachtet\, dass es nur Mitgliedern gestattet wird eigene Getränke mitzubringen.\nAlle Anderen bedienen sich bitte an den von uns angebotenen Getränken. (2€ pro Getränk) \nSolltet ihr noch kein Mitglied sein\, aber Interesse an unseren Events oder einer Mitgliedschaft haben\, könnt ihr gerne einen ausgefüllten Mitgliedsantrag zum entsprechenden Event mitbringen und ab da einen kostenlosen Probemonat bei uns starten. Mitgliedsanträge gibt es hier. \nEventdetails \nAnmeldung:    13:30 – 14:00 Uhr\nDeckbau:          14:00 – 15:00 Uhr\nStart Runde 1:               15:00 Uhr \nFormat: Twoheaded Giant\, maximal 4 Runden \nStartgeld: 35€ p.P. \nPreise: Boosterpreise nach Final Standings\, jeder Spieler erhält mind. ein Preisbooster \nWir freuen uns auf euch!
URL:https://katago-ev.de/event/prerelease-woe-thg-sealed-i
LOCATION:Vereinsheim 1 (Hegelstraße 1a)\, Hegelstraße 1a\, Bamberg\, Bayern\, 96052\, Germany
CATEGORIES:Kartenspiele,Magic the Gathering
ATTACH;FMTTYPE=image/jpeg:https://katago-ev.de/wp-content/uploads/2023/07/Eldraine.jpg
END:VEVENT
BEGIN:VEVENT
DTSTART;TZID=Europe/Berlin:20230902T133000
DTEND;TZID=Europe/Berlin:20230902T190000
DTSTAMP:20260424T162156
CREATED:20230731T140227Z
LAST-MODIFIED:20230731T140227Z
UID:10003824-1693661400-1693681200@katago-ev.de
SUMMARY:Prerelease - Wilds of Eldraine - Single Sealed
DESCRIPTION:Willkommen zu unserem Prerelease Single Sealed Event im Vereinsheim des KaTaGO e.V. \nDies ist ein öffentliches Event\, zum dem auch Spieler kommen können\, die keine Mitglieder des Vereins sind.\nAufgrund der aktuellen Covid19 Bestimmungen können unsere Events ohne besondere Einschränkungen stattfinden. \nDas Event ist auf 32 Personen beschränkt \nAchtet bei Registrierung darauf\, dass ihr eure Emailadresse angebt\, damit wir euch bei Änderungen oder Absagen informieren können.\nPrüft auch bitte am Tag es Events nochmal eure Emails\, ob noch neue Informationen rausgegeben wurden. \nBeim Single Sealed baut ihr euch aus einem Prerelease Kit ein Deck und spielt damit 1 Vs 1  Matches gegen eure Gegner.\nParallel wird auch ein Two Headed Giant Event angeboten. (2 vs 2) \nBitte beachtet\, dass es nur Mitgliedern gestattet wird eigene Getränke mitzubringen.\nAlle Anderen bedienen sich bitte an den von uns angebotenen Getränken. (2€ pro Getränk) \nSolltet ihr noch kein Mitglied sein\, aber Interesse an unseren Events oder einer Mitgliedschaft haben\, könnt ihr gerne einen ausgefüllten Mitgliedsantrag zum entsprechenden Event mitbringen und ab da einen kostenlosen Probemonat bei uns starten. Mitgliedsanträge gibt es hier. \nEventdetails \nAnmeldung:    13:30 – 14:00 Uhr\nDeckbau:          14:00 – 15:00 Uhr\nStart Runde 1:               15:00 Uhr \nFormat: Single Sealed\, maximal 4 Runden \nStartgeld: 35€ p.P. \nPreise: Boosterpreise nach Final Standings\, jeder Spieler erhält mind. ein Preisbooster \nWir freuen uns auf euch! \nAußerdem bitten wir um euer Verständnis\, dass sich die Umstände aufgrund der aktuellen Situation jederzeit ändern können und wir ggf. vom oben beschriebenen Ablauf abweichen müssen! 
URL:https://katago-ev.de/event/prerelease-woe-single-sealed
LOCATION:Vereinsheim 1 (Hegelstraße 1a)\, Hegelstraße 1a\, Bamberg\, Bayern\, 96052\, Germany
CATEGORIES:Kartenspiele,Magic the Gathering
ATTACH;FMTTYPE=image/jpeg:https://katago-ev.de/wp-content/uploads/2023/07/Eldraine.jpg
END:VEVENT
BEGIN:VEVENT
DTSTART;TZID=Europe/Berlin:20230831T150000
DTEND;TZID=Europe/Berlin:20230831T190000
DTSTAMP:20260424T162156
CREATED:20230827T181237Z
LAST-MODIFIED:20230827T181237Z
UID:10003865-1693494000-1693508400@katago-ev.de
SUMMARY:Infinity
DESCRIPTION:Infinity
URL:https://katago-ev.de/event/infinity-6/2023-08-31
LOCATION:Vereinsheim 1 (Hegelstraße 1a)\, Hegelstraße 1a\, Bamberg\, Bayern\, 96052\, Germany
ORGANIZER;CN="Thomas Brandt":MAILTO:advi@hackerspace-bamberg.de
END:VEVENT
BEGIN:VEVENT
DTSTART;TZID=Europe/Berlin:20230830T183000
DTEND;TZID=Europe/Berlin:20230830T230000
DTSTAMP:20260424T162156
CREATED:20230827T141243Z
LAST-MODIFIED:20230827T141243Z
UID:10003864-1693420200-1693436400@katago-ev.de
SUMMARY:Yu-Gi-Oh! - Inhouse
DESCRIPTION:Geschlossenes Event \nDuellanten duellieren sich im Duell
URL:https://katago-ev.de/event/yu-gi-oh-inhouse-26
LOCATION:Vereinsheim 1 (Hegelstraße 1a)\, Hegelstraße 1a\, Bamberg\, Bayern\, 96052\, Germany
CATEGORIES:Kartenspiele,Yu-Gi-Oh!
END:VEVENT
BEGIN:VEVENT
DTSTART;TZID=Europe/Berlin:20230829T163000
DTEND;TZID=Europe/Berlin:20230829T200000
DTSTAMP:20260424T162156
CREATED:20230827T113728Z
LAST-MODIFIED:20230827T113728Z
UID:10003863-1693326600-1693339200@katago-ev.de
SUMMARY:Flesh and Blood Armory Commoner
DESCRIPTION:Flesh and Blood Armory Commoner
URL:https://katago-ev.de/event/flesh-and-blood-armory-commoner
LOCATION:Vereinsheim 1 (Hegelstraße 1a)\, Hegelstraße 1a\, Bamberg\, Bayern\, 96052\, Germany
CATEGORIES:Flesh and Blood TCG
ATTACH;FMTTYPE=image/png:https://katago-ev.de/wp-content/uploads/2021/09/logo_fab_stroke_black_750.height-350.width-10000.png
END:VEVENT
BEGIN:VEVENT
DTSTART;TZID=Europe/Berlin:20230824T183000
DTEND;TZID=Europe/Berlin:20230824T230000
DTSTAMP:20260424T162156
CREATED:20230823T154723Z
LAST-MODIFIED:20230823T154723Z
UID:10003858-1692901800-1692918000@katago-ev.de
SUMMARY:Yu-Gi-Oh! - Inhouse
DESCRIPTION:Geschlossenes Event \nDuellanten duellieren sich im Duell
URL:https://katago-ev.de/event/yu-gi-oh-inhouse-25
LOCATION:Vereinsheim 1 (Hegelstraße 1a)\, Hegelstraße 1a\, Bamberg\, Bayern\, 96052\, Germany
CATEGORIES:Kartenspiele,Yu-Gi-Oh!
END:VEVENT
BEGIN:VEVENT
DTSTART;TZID=Europe/Berlin:20230816T183000
DTEND;TZID=Europe/Berlin:20230816T230000
DTSTAMP:20260424T162156
CREATED:20230813T084716Z
LAST-MODIFIED:20230813T084716Z
UID:10003853-1692210600-1692226800@katago-ev.de
SUMMARY:Yu-Gi-Oh! - Inhouse
DESCRIPTION:Geschlossenes Event \nDuellanten duellieren sich im Duell
URL:https://katago-ev.de/event/yu-gi-oh-inhouse-24
LOCATION:Vereinsheim 1 (Hegelstraße 1a)\, Hegelstraße 1a\, Bamberg\, Bayern\, 96052\, Germany
CATEGORIES:Kartenspiele,Yu-Gi-Oh!
END:VEVENT
BEGIN:VEVENT
DTSTART;TZID=Europe/Berlin:20230812T180000
DTEND;TZID=Europe/Berlin:20230812T220000
DTSTAMP:20260424T162156
CREATED:20230808T122917Z
LAST-MODIFIED:20230808T123242Z
UID:10003842-1691863200-1691877600@katago-ev.de
SUMMARY:Flesh and Blood Commoner
DESCRIPTION:Wo?: Hegelstraße 1a\, 96052 Bamberg (Im Vereinsheim des KaTaGo e.V) \nDatum: 12.08.2023 \nZeit: Anmeldung 18:00 Uhr\, Start 18:15 Uhr \nEintritt: Frei! \nPreise werden aus dem aktuellen Armory-Kit nach LSS Richtlinien verteilt. \nBitte meldet euch an damit wir besser planen können. (nicht Pflicht aber wünschenswert) \nHier handelt es sich um ein Öffentliches Event das für alle\, auch nicht Mitgliedern zugänglich ist.\nNicht-Mitgliedern ist nicht gestattet selbst Getränke mitzunehmen. Ihr könnt aber vor Ort Getränke erwerben. \nDa wir ein Event für Anfänger als auch für Veteranen veranstalten wollen ist es Spielern\, die gegeneinander gematcht werden auch gestattet\, stattdessen CC oder Blitz zu spielen\, falls beide zustimmen. Aber hauptsächlich ist das als Commoner Event gedacht.
URL:https://katago-ev.de/event/flesh-and-blood-commoner
LOCATION:Vereinsheim 1 (Hegelstraße 1a)\, Hegelstraße 1a\, Bamberg\, Bayern\, 96052\, Germany
CATEGORIES:Flesh and Blood TCG
ATTACH;FMTTYPE=image/png:https://katago-ev.de/wp-content/uploads/2021/09/logo_fab_stroke_black_750.height-350.width-10000.png
END:VEVENT
BEGIN:VEVENT
DTSTART;TZID=Europe/Berlin:20230810T183000
DTEND;TZID=Europe/Berlin:20230810T223000
DTSTAMP:20260424T162156
CREATED:20230807T052146Z
LAST-MODIFIED:20230807T052147Z
UID:10003841-1691692200-1691706600@katago-ev.de
SUMMARY:Yu-Gi-Oh! - Inhouse
DESCRIPTION:Geschlossenes Event \nDuellanten duellieren sich im Duell
URL:https://katago-ev.de/event/yu-gi-oh-inhouse-23
LOCATION:Vereinsheim 1 (Hegelstraße 1a)\, Hegelstraße 1a\, Bamberg\, Bayern\, 96052\, Germany
CATEGORIES:Kartenspiele,Yu-Gi-Oh!
END:VEVENT
BEGIN:VEVENT
DTSTART;TZID=Europe/Berlin:20230808T190000
DTEND;TZID=Europe/Berlin:20230808T220000
DTSTAMP:20260424T162156
CREATED:20230802T222542Z
LAST-MODIFIED:20230802T222542Z
UID:10003837-1691521200-1691532000@katago-ev.de
SUMMARY:Age of Sigmar - Schlacht
DESCRIPTION:Geschlossenes Event \nFabian(FLESH-EATER COURTS) \nVS \nNiklas(SERAPHON)
URL:https://katago-ev.de/event/age-of-sigmar-schlacht-22
LOCATION:Vereinsheim 1 (Hegelstraße 1a)\, Hegelstraße 1a\, Bamberg\, Bayern\, 96052\, Germany
CATEGORIES:Age of Sigmar,Fantasy,Tabletop
ATTACH;FMTTYPE=image/jpeg:https://katago-ev.de/wp-content/uploads/2022/07/20220718_210251.jpg
END:VEVENT
BEGIN:VEVENT
DTSTART;TZID=Europe/Berlin:20230806T160000
DTEND;TZID=Europe/Berlin:20230806T190000
DTSTAMP:20260424T162156
CREATED:20230805T205753Z
LAST-MODIFIED:20230805T205753Z
UID:10003840-1691337600-1691348400@katago-ev.de
SUMMARY:X-Wing
DESCRIPTION:X-Wing
URL:https://katago-ev.de/event/x-wing
LOCATION:Vereinsheim 1 (Hegelstraße 1a)\, Hegelstraße 1a\, Bamberg\, Bayern\, 96052\, Germany
CATEGORIES:Star Wars,Tabletop
END:VEVENT
END:VCALENDAR